{"text_format":"1","workbook":"xlsx","n_sheets":3,"sheets":["Dados","Parâmetros","ARSH"],"not_rendered":{"charts":0,"images":2,"macros":1,"external_links":0,"defined_names":13,"comments":0,"pivot_tables":0},"unopened":[],"bounds":{"document_bytes":16777216,"sheet_cells":100000,"rows_first":2000,"rows_last":500,"rows_between":2000,"halvings":0,"cell_chars":16384,"cell_head_chars":4096},"cells_cut":0,"cells_raw":0,"read":"whole","date_system":"1900"}

{"sheet":"Dados","index":0,"n_rows":1001,"n_cols":8,"rows_kept":1001,"cut":false,"hidden":false,"merged":[[980,1,989,1],[990,1,999,1],[1000,1,1009,1],[930,1,939,1],[920,1,929,1],[910,1,919,1],[940,1,949,1],[950,1,959,1],[960,1,969,1],[970,1,979,1],[840,1,849,1],[830,1,839,1],[820,1,829,1],[810,1,819,1],[800,1,809,1],[790,1,799,1],[900,1,909,1],[890,1,899,1],[880,1,889,1],[870,1,879,1],[860,1,869,1],[850,1,859,1],[10,1,19,1],[20,1,29,1],[30,1,39,1],[40,1,49,1],[50,1,59,1],[60,1,69,1],[130,1,139,1],[140,1,149,1],[150,1,159,1],[160,1,169,1],[170,1,179,1],[180,1,189,1],[70,1,79,1],[80,1,89,1],[90,1,99,1],[100,1,109,1],[110,1,119,1],[120,1,129,1],[250,1,259,1],[260,1,269,1],[270,1,279,1],[280,1,289,1],[290,1,299,1],[300,1,309,1],[190,1,199,1],[200,1,209,1],[210,1,219,1],[220,1,229,1],[230,1,239,1],[240,1,249,1],[370,1,379,1],[380,1,389,1],[390,1,399,1],[400,1,409,1],[410,1,419,1],[420,1,429,1],[310,1,319,1],[320,1,329,1],[330,1,339,1],[340,1,349,1],[350,1,359,1],[360,1,369,1],[600,1,609,1],[490,1,499,1],[500,1,509,1],[510,1,519,1],[520,1,529,1],[530,1,539,1],[540,1,549,1],[430,1,439,1],[440,1,449,1],[450,1,459,1],[460,1,469,1],[470,1,479,1],[480,1,489,1],[1,1,2,7],[730,1,739,1],[740,1,749,1],[750,1,759,1],[760,1,769,1],[770,1,779,1],[780,1,789,1],[670,1,679,1],[680,1,689,1],[690,1,699,1],[700,1,709,1],[710,1,719,1],[720,1,729,1],[610,1,619,1],[620,1,629,1],[630,1,639,1],[640,1,649,1],[650,1,659,1],[660,1,669,1],[550,1,559,1],[560,1,569,1],[570,1,579,1],[580,1,589,1],[590,1,599,1]]}
[]
[null,{"$f":"MID(CELL(\"nome.arquivo\"),(FIND(\"[\",(CELL(\"nome.arquivo\"))))+1,(FIND(\"]\",(CELL(\"nome.arquivo\"))))-(FIND(\"[\",(CELL(\"nome.arquivo\"))))-6)","v":{"$error":"#VALUE!"}}]
[]
[]
[null,null,null,null,null,"Universidade Federal do Rio Grande"]
[null,null,null,null,null,"Laboratório de Ensaios Famacológicos e Toxicológicos"]
[]
[null,null,null,null,null,"Contato: rodrigo.brum.93@gmail.com"]
[]
[null,"#","Informação #1","Informação #2","Informação #3","Contaminante","Concentração","Unidade"]
[null,1]
[]
[]
[]
[]
[]
[]
[]
[]
[]
[null,{"$f":"B11+1","v":2}]
[]
[]
[]
[]
[]
[]
[]
[]
[]
[null,{"$f":"B21+1","v":3}]
[]
[]
[]
[]
[]
[]
[]
[]
[]
[null,{"$f":"B31+1","v":4}]
[]
[]
[]
[]
[]
[]
[]
[]
[]
[null,{"$f":"B41+1","v":5}]
[]
[]
[]
[]
[]
[]
[]
[]
[]
[null,{"$f":"B51+1","v":6}]
[]
[]
[]
[]
[]
[]
[]
[]
[]
[null,{"$f":"B61+1","v":7}]
[]
[]
[]
[]
[]
[]
[]
[]
[]
[null,{"$f":"B71+1","v":8}]
[]
[]
[]
[]
[]
[]
[]
[]
[]
[null,{"$f":"B81+1","v":9}]
[]
[]
[]
[]
[]
[]
[]
[]
[]
[null,{"$f":"B91+1","v":10}]
[]
[]
[]
[]
[]
[]
[]
[]
[]
[null,{"$f":"B101+1","v":11}]
[]
[]
[]
[]
[]
[]
[]
[]
[]
[null,{"$f":"B111+1","v":12}]
[]
[]
[]
[]
[]
[]
[]
[]
[]
[null,{"$f":"B121+1","v":13}]
[]
[]
[]
[]
[]
[]
[]
[]
[]
[null,{"$f":"B131+1","v":14}]
[]
[]
[]
[]
[]
[]
[]
[]
[]
[null,{"$f":"B141+1","v":15}]
[]
[]
[]
[]
[]
[]
[]
[]
[]
[null,{"$f":"B151+1","v":16}]
[]
[]
[]
[]
[]
[]
[]
[]
[]
[null,{"$f":"B161+1","v":17}]
[]
[]
[]
[]
[]
[]
[]
[]
[]
[null,{"$f":"B171+1","v":18}]
[]
[]
[]
[]
[]
[]
[]
[]
[]
[null,{"$f":"B181+1","v":19}]
[]
[]
[]
[]
[]
[]
[]
[]
[]
[null,{"$f":"B191+1","v":20}]
[]
[]
[]
[]
[]
[]
[]
[]
[]
[null,{"$f":"B201+1","v":21}]
[]
[]
[]
[]
[]
[]
[]
[]
[]
[null,{"$f":"B211+1","v":22}]
[]
[]
[]
[]
[]
[]
[]
[]
[]
[null,{"$f":"B221+1","v":23}]
[]
[]
[]
[]
[]
[]
[]
[]
[]
[null,{"$f":"B231+1","v":24}]
[]
[]
[]
[]
[]
[]
[]
[]
[]
[null,{"$f":"B241+1","v":25}]
[]
[]
[]
[]
[]
[]
[]
[]
[]
[null,{"$f":"B251+1","v":26}]
[]
[]
[]
[]
[]
[]
[]
[]
[]
[null,{"$f":"B261+1","v":27}]
[]
[]
[]
[]
[]
[]
[]
[]
[]
[null,{"$f":"B271+1","v":28}]
[]
[]
[]
[]
[]
[]
[]
[]
[]
[null,{"$f":"B281+1","v":29}]
[]
[]
[]
[]
[]
[]
[]
[]
[]
[null,{"$f":"B291+1","v":30}]
[]
[]
[]
[]
[]
[]
[]
[]
[]
[null,{"$f":"B301+1","v":31}]
[]
[]
[]
[]
[]
[]
[]
[]
[]
[null,{"$f":"B311+1","v":32}]
[]
[]
[]
[]
[]
[]
[]
[]
[]
[null,{"$f":"B321+1","v":33}]
[]
[]
[]
[]
[]
[]
[]
[]
[]
[null,{"$f":"B331+1","v":34}]
[]
[]
[]
[]
[]
[]
[]
[]
[]
[null,{"$f":"B341+1","v":35}]
[]
[]
[]
[]
[]
[]
[]
[]
[]
[null,{"$f":"B351+1","v":36}]
[]
[]
[]
[]
[]
[]
[]
[]
[]
[null,{"$f":"B361+1","v":37}]
[]
[]
[]
[]
[]
[]
[]
[]
[]
[null,{"$f":"B371+1","v":38}]
[]
[]
[]
[]
[]
[]
[]
[]
[]
[null,{"$f":"B381+1","v":39}]
[]
[]
[]
[]
[]
[]
[]
[]
[]
[null,{"$f":"B391+1","v":40}]
[]
[]
[]
[]
[]
[]
[]
[]
[]
[null,{"$f":"B401+1","v":41}]
[]
[]
[]
[]
[]
[]
[]
[]
[]
[null,{"$f":"B411+1","v":42}]
[]
[]
[]
[]
[]
[]
[]
[]
[]
[null,{"$f":"B421+1","v":43}]
[]
[]
[]
[]
[]
[]
[]
[]
[]
[null,{"$f":"B431+1","v":44}]
[]
[]
[]
[]
[]
[]
[]
[]
[]
[null,{"$f":"B441+1","v":45}]
[]
[]
[]
[]
[]
[]
[]
[]
[]
[null,{"$f":"B451+1","v":46}]
[]
[]
[]
[]
[]
[]
[]
[]
[]
[null,{"$f":"B461+1","v":47}]
[]
[]
[]
[]
[]
[]
[]
[]
[]
[null,{"$f":"B471+1","v":48}]
[]
[]
[]
[]
[]
[]
[]
[]
[]
[null,{"$f":"B481+1","v":49}]
[]
[]
[]
[]
[]
[]
[]
[]
[]
[null,{"$f":"B491+1","v":50}]
[]
[]
[]
[]
[]
[]
[]
[]
[]
[null,{"$f":"B501+1","v":51}]
[]
[]
[]
[]
[]
[]
[]
[]
[]
[null,{"$f":"B511+1","v":52}]
[]
[]
[]
[]
[]
[]
[]
[]
[]
[null,{"$f":"B521+1","v":53}]
[]
[]
[]
[]
[]
[]
[]
[]
[]
[null,{"$f":"B531+1","v":54}]
[]
[]
[]
[]
[]
[]
[]
[]
[]
[null,{"$f":"B541+1","v":55}]
[]
[]
[]
[]
[]
[]
[]
[]
[]
[null,{"$f":"B551+1","v":56}]
[]
[]
[]
[]
[]
[]
[]
[]
[]
[null,{"$f":"B561+1","v":57}]
[]
[]
[]
[]
[]
[]
[]
[]
[]
[null,{"$f":"B571+1","v":58}]
[]
[]
[]
[]
[]
[]
[]
[]
[]
[null,{"$f":"B581+1","v":59}]
[]
[]
[]
[]
[]
[]
[]
[]
[]
[null,{"$f":"B591+1","v":60}]
[]
[]
[]
[]
[]
[]
[]
[]
[]
[null,{"$f":"B601+1","v":61}]
[]
[]
[]
[]
[]
[]
[]
[]
[]
[null,{"$f":"B611+1","v":62}]
[]
[]
[]
[]
[]
[]
[]
[]
[]
[null,{"$f":"B621+1","v":63}]
[]
[]
[]
[]
[]
[]
[]
[]
[]
[null,{"$f":"B631+1","v":64}]
[]
[]
[]
[]
[]
[]
[]
[]
[]
[null,{"$f":"B641+1","v":65}]
[]
[]
[]
[]
[]
[]
[]
[]
[]
[null,{"$f":"B651+1","v":66}]
[]
[]
[]
[]
[]
[]
[]
[]
[]
[null,{"$f":"B661+1","v":67}]
[]
[]
[]
[]
[]
[]
[]
[]
[]
[null,{"$f":"B671+1","v":68}]
[]
[]
[]
[]
[]
[]
[]
[]
[]
[null,{"$f":"B681+1","v":69}]
[]
[]
[]
[]
[]
[]
[]
[]
[]
[null,{"$f":"B691+1","v":70}]
[]
[]
[]
[]
[]
[]
[]
[]
[]
[null,{"$f":"B701+1","v":71}]
[]
[]
[]
[]
[]
[]
[]
[]
[]
[null,{"$f":"B711+1","v":72}]
[]
[]
[]
[]
[]
[]
[]
[]
[]
[null,{"$f":"B721+1","v":73}]
[]
[]
[]
[]
[]
[]
[]
[]
[]
[null,{"$f":"B731+1","v":74}]
[]
[]
[]
[]
[]
[]
[]
[]
[]
[null,{"$f":"B741+1","v":75}]
[]
[]
[]
[]
[]
[]
[]
[]
[]
[null,{"$f":"B751+1","v":76}]
[]
[]
[]
[]
[]
[]
[]
[]
[]
[null,{"$f":"B761+1","v":77}]
[]
[]
[]
[]
[]
[]
[]
[]
[]
[null,{"$f":"B771+1","v":78}]
[]
[]
[]
[]
[]
[]
[]
[]
[]
[null,{"$f":"B781+1","v":79}]
[]
[]
[]
[]
[]
[]
[]
[]
[]
[null,{"$f":"B791+1","v":80}]
[]
[]
[]
[]
[]
[]
[]
[]
[]
[null,{"$f":"B801+1","v":81}]
[]
[]
[]
[]
[]
[]
[]
[]
[]
[null,{"$f":"B811+1","v":82}]
[]
[]
[]
[]
[]
[]
[]
[]
[]
[null,{"$f":"B821+1","v":83}]
[]
[]
[]
[]
[]
[]
[]
[]
[]
[null,{"$f":"B831+1","v":84}]
[]
[]
[]
[]
[]
[]
[]
[]
[]
[null,{"$f":"B841+1","v":85}]
[]
[]
[]
[]
[]
[]
[]
[]
[]
[null,{"$f":"B851+1","v":86}]
[]
[]
[]
[]
[]
[]
[]
[]
[]
[null,{"$f":"B861+1","v":87}]
[]
[]
[]
[]
[]
[]
[]
[]
[]
[null,{"$f":"B871+1","v":88}]
[]
[]
[]
[]
[]
[]
[]
[]
[]
[null,{"$f":"B881+1","v":89}]
[]
[]
[]
[]
[]
[]
[]
[]
[]
[null,{"$f":"B891+1","v":90}]
[]
[]
[]
[]
[]
[]
[]
[]
[]
[null,{"$f":"B901+1","v":91}]
[]
[]
[]
[]
[]
[]
[]
[]
[]
[null,{"$f":"B911+1","v":92}]
[]
[]
[]
[]
[]
[]
[]
[]
[]
[null,{"$f":"B921+1","v":93}]
[]
[]
[]
[]
[]
[]
[]
[]
[]
[null,{"$f":"B931+1","v":94}]
[]
[]
[]
[]
[]
[]
[]
[]
[]
[null,{"$f":"B941+1","v":95}]
[]
[]
[]
[]
[]
[]
[]
[]
[]
[null,{"$f":"B951+1","v":96}]
[]
[]
[]
[]
[]
[]
[]
[]
[]
[null,97]
[]
[]
[]
[]
[]
[]
[]
[]
[]
[null,98]
[]
[]
[]
[]
[]
[]
[]
[]
[]
[null,99]
[]
[]
[]
[]
[]
[]
[]
[]
[]
[null,100]

{"sheet":"Parâmetros","index":1,"n_rows":31,"n_cols":13,"rows_kept":31,"cut":false,"hidden":false,"merged":[[10,1,10,2],[9,1,9,5],[9,7,9,12],[1,1,2,5]]}
[]
[null,{"$f":"Dados!$B$2","v":{"$error":"#VALUE!"}}]
[]
[]
[]
[]
[]
[]
[]
[null,"EXPOSÇÃO",null,null,null,null,null,"RISCO"]
[null,"Parâmetro",null,"Crianças","Adultos","Unidade",null,"#","Contaminante","RfD","Referência","SF","Referência"]
[null,"Concentration","CA","-","-","mg/kg",null,"# 01"]
[null,"Ingestion rate","IR",null,null,"g/day",null,"# 02"]
[null,"Exposure frequency","EF",null,365,"day/year",null,"# 03"]
[null,"Exposure duration","ED",null,70,"year",null,"# 04"]
[null,"Body weight","BW",null,57.7,"kg",null,"# 05"]
[null,"Average time (non-cancer)","AT-nc",null,null,"year",null,"# 06"]
[null,"Average time (cancer)","AT-c",null,null,"year",null,"# 07"]
[null,null,null,null,null,null,null,"# 08"]
[null,null,null,null,null,null,null,"# 09"]
[null,null,null,null,null,null,null,"# 10"]
[null,null,null,null,null,null,null,"# 11"]
[null,null,null,null,null,null,null,"# 12"]
[null,null,null,null,null,null,null,"# 13"]
[null,null,null,null,null,null,null,"# 14"]
[null,null,null,null,null,null,null,"# 15"]
[null,null,null,null,null,null,null,"# 16"]
[null,null,null,null,null,null,null,"# 17"]
[null,null,null,null,null,null,null,"# 18"]
[null,null,null,null,null,null,null,"# 19"]
[null,null,null,null,null,null,null,"# 20"]

{"sheet":"ARSH","index":2,"n_rows":1010,"n_cols":19,"rows_kept":1010,"cut":false,"hidden":false,"merged":[[100,1,109,1],[110,1,119,1],[120,1,129,1],[130,1,139,1],[140,1,149,1],[50,1,59,1],[60,1,69,1],[70,1,79,1],[80,1,89,1],[90,1,99,1],[200,1,209,1],[210,1,219,1],[220,1,229,1],[230,1,239,1],[240,1,249,1],[150,1,159,1],[160,1,169,1],[170,1,179,1],[180,1,189,1],[190,1,199,1],[300,1,309,1],[310,1,319,1],[320,1,329,1],[330,1,339,1],[340,1,349,1],[250,1,259,1],[260,1,269,1],[270,1,279,1],[280,1,289,1],[290,1,299,1],[400,1,409,1],[410,1,419,1],[420,1,429,1],[430,1,439,1],[440,1,449,1],[350,1,359,1],[360,1,369,1],[370,1,379,1],[380,1,389,1],[390,1,399,1],[500,1,509,1],[510,1,519,1],[520,1,529,1],[530,1,539,1],[540,1,549,1],[450,1,459,1],[460,1,469,1],[470,1,479,1],[480,1,489,1],[490,1,499,1],[600,1,609,1],[610,1,619,1],[620,1,629,1],[630,1,639,1],[640,1,649,1],[550,1,559,1],[560,1,569,1],[570,1,579,1],[580,1,589,1],[590,1,599,1],[700,1,709,1],[710,1,719,1],[720,1,729,1],[730,1,739,1],[740,1,749,1],[650,1,659,1],[660,1,669,1],[670,1,679,1],[680,1,689,1],[690,1,699,1],[800,1,809,1],[810,1,819,1],[820,1,829,1],[830,1,839,1],[840,1,849,1],[750,1,759,1],[760,1,769,1],[770,1,779,1],[780,1,789,1],[790,1,799,1],[950,1,959,1],[970,1,979,1],[900,1,909,1],[910,1,919,1],[920,1,929,1],[930,1,939,1],[940,1,949,1],[850,1,859,1],[860,1,869,1],[870,1,879,1],[880,1,889,1],[890,1,899,1],[1,1,2,6],[8,7,8,9],[8,10,8,12],[8,13,8,15],[20,9,29,9],[20,12,29,12],[20,15,29,15],[40,9,49,9],[40,12,49,12],[40,15,49,15],[10,1,19,1],[20,1,29,1],[30,1,39,1],[40,1,49,1],[20,18,29,18],[30,9,39,9],[30,12,39,12],[30,15,39,15],[30,18,39,18],[8,16,8,18],[10,9,19,9],[10,12,19,12],[10,15,19,15],[10,18,19,18],[60,18,69,18],[70,9,79,9],[70,12,79,12],[70,15,79,15],[70,18,79,18],[40,18,49,18],[50,9,59,9],[50,12,59,12],[50,15,59,15],[50,18,59,18],[60,9,69,9],[60,12,69,12],[60,15,69,15],[100,9,109,9],[100,12,109,12],[100,15,109,15],[100,18,109,18],[110,9,119,9],[110,12,119,12],[110,15,119,15],[110,18,119,18],[80,15,89,15],[80,18,89,18],[90,9,99,9],[90,12,99,12],[90,15,99,15],[90,18,99,18],[80,9,89,9],[80,12,89,12],[140,9,149,9],[140,12,149,12],[140,15,149,15],[140,18,149,18],[150,9,159,9],[150,12,159,12],[150,15,159,15],[150,18,159,18],[120,9,129,9],[120,12,129,12],[120,15,129,15],[120,18,129,18],[130,9,139,9],[130,12,139,12],[130,15,139,15],[130,18,139,18],[180,9,189,9],[180,12,189,12],[180,15,189,15],[180,18,189,18],[190,9,199,9],[190,12,199,12],[190,15,199,15],[190,18,199,18],[160,9,169,9],[160,12,169,12],[160,15,169,15],[160,18,169,18],[170,9,179,9],[170,12,179,12],[170,15,179,15],[170,18,179,18],[220,9,229,9],[220,12,229,12],[220,15,229,15],[220,18,229,18],[230,9,239,9],[230,12,239,12],[230,15,239,15],[230,18,239,18],[200,9,209,9],[200,12,209,12],[200,15,209,15],[200,18,209,18],[210,9,219,9],[210,12,219,12],[210,15,219,15],[210,18,219,18],[260,9,269,9],[260,12,269,12],[260,15,269,15],[260,18,269,18],[270,9,279,9],[270,12,279,12],[270,15,279,15],[270,18,279,18],[240,9,249,9],[240,12,249,12],[240,15,249,15],[240,18,249,18],[250,9,259,9],[250,12,259,12],[250,15,259,15],[250,18,259,18],[300,9,309,9],[300,12,309,12],[300,15,309,15],[300,18,309,18],[310,9,319,9],[310,12,319,12],[310,15,319,15],[310,18,319,18],[280,9,289,9],[280,12,289,12],[280,15,289,15],[280,18,289,18],[290,9,299,9],[290,12,299,12],[290,15,299,15],[290,18,299,18],[340,9,349,9],[340,12,349,12],[340,15,349,15],[340,18,349,18],[350,9,359,9],[350,12,359,12],[350,15,359,15],[350,18,359,18],[320,9,329,9],[320,12,329,12],[320,15,329,15],[320,18,329,18],[330,9,339,9],[330,12,339,12],[330,15,339,15],[330,18,339,18],[380,9,389,9],[380,12,389,12],[380,15,389,15],[380,18,389,18],[390,9,399,9],[390,12,399,12],[390,15,399,15],[390,18,399,18],[360,9,369,9],[360,12,369,12],[360,15,369,15],[360,18,369,18],[370,9,379,9],[370,12,379,12],[370,15,379,15],[370,18,379,18],[420,9,429,9],[420,12,429,12],[420,15,429,15],[420,18,429,18],[430,9,439,9],[430,12,439,12],[430,15,439,15],[430,18,439,18],[400,9,409,9],[400,12,409,12],[400,15,409,15],[400,18,409,18],[410,9,419,9],[410,12,419,12],[410,15,419,15],[410,18,419,18],[460,9,469,9],[460,12,469,12],[460,15,469,15],[460,18,469,18],[470,9,479,9],[470,12,479,12],[470,15,479,15],[470,18,479,18],[440,9,449,9],[440,12,449,12],[440,15,449,15],[440,18,449,18],[450,9,459,9],[450,12,459,12],[450,15,459,15],[450,18,459,18],[500,9,509,9],[500,12,509,12],[500,15,509,15],[500,18,509,18],[510,9,519,9],[510,12,519,12],[510,15,519,15],[510,18,519,18],[480,9,489,9],[480,12,489,12],[480,15,489,15],[480,18,489,18],[490,9,499,9],[490,12,499,12],[490,15,499,15],[490,18,499,18],[540,9,549,9],[540,12,549,12],[540,15,549,15],[540,18,549,18],[550,9,559,9],[550,12,559,12],[550,15,559,15],[550,18,559,18],[520,9,529,9],[520,12,529,12],[520,15,529,15],[520,18,529,18],[530,9,539,9],[530,12,539,12],[530,15,539,15],[530,18,539,18],[580,9,589,9],[580,12,589,12],[580,15,589,15],[580,18,589,18],[590,9,599,9],[590,12,599,12],[590,15,599,15],[590,18,599,18],[560,9,569,9],[560,12,569,12],[560,15,569,15],[560,18,569,18],[570,9,579,9],[570,12,579,12],[570,15,579,15],[570,18,579,18],[620,9,629,9],[620,12,629,12],[620,15,629,15],[620,18,629,18],[630,9,639,9],[630,12,639,12],[630,15,639,15],[630,18,639,18],[600,9,609,9],[600,12,609,12],[600,15,609,15],[600,18,609,18],[610,9,619,9],[610,12,619,12],[610,15,619,15],[610,18,619,18],[660,9,669,9],[660,12,669,12],[660,15,669,15],[660,18,669,18],[670,9,679,9],[670,12,679,12],[670,15,679,15],[670,18,679,18],[640,9,649,9],[640,12,649,12],[640,15,649,15],[640,18,649,18],[650,9,659,9],[650,12,659,12],[650,15,659,15],[650,18,659,18],[700,9,709,9],[700,12,709,12],[700,15,709,15],[700,18,709,18],[710,9,719,9],[710,12,719,12],[710,15,719,15],[710,18,719,18],[680,9,689,9],[680,12,689,12],[680,15,689,15],[680,18,689,18],[690,9,699,9],[690,12,699,12],[690,15,699,15],[690,18,699,18],[740,9,749,9],[740,12,749,12],[740,15,749,15],[740,18,749,18],[750,9,759,9],[750,12,759,12],[750,15,759,15],[750,18,759,18],[720,9,729,9],[720,12,729,12],[720,15,729,15],[720,18,729,18],[730,9,739,9],[730,12,739,12],[730,15,739,15],[730,18,739,18],[780,9,789,9],[780,12,789,12],[780,15,789,15],[780,18,789,18],[790,9,799,9],[790,12,799,12],[790,15,799,15],[790,18,799,18],[760,9,769,9],[760,12,769,12],[760,15,769,15],[760,18,769,18],[770,9,779,9],[770,12,779,12],[770,15,779,15],[770,18,779,18],[820,9,829,9],[820,12,829,12],[820,15,829,15],[820,18,829,18],[830,9,839,9],[830,12,839,12],[830,15,839,15],[830,18,839,18],[800,9,809,9],[800,12,809,12],[800,15,809,15],[800,18,809,18],[810,9,819,9],[810,12,819,12],[810,15,819,15],[810,18,819,18],[860,9,869,9],[860,12,869,12],[860,15,869,15],[860,18,869,18],[870,9,879,9],[870,12,879,12],[870,15,879,15],[870,18,879,18],[840,9,849,9],[840,12,849,12],[840,15,849,15],[840,18,849,18],[850,9,859,9],[850,12,859,12],[850,15,859,15],[850,18,859,18],[900,9,909,9],[900,12,909,12],[900,15,909,15],[900,18,909,18],[910,9,919,9],[910,12,919,12],[910,15,919,15],[910,18,919,18],[880,9,889,9],[880,12,889,12],[880,15,889,15],[880,18,889,18],[890,9,899,9],[890,12,899,12],[890,15,899,15],[890,18,899,18],[950,9,959,9],[950,12,959,12],[950,15,959,15],[950,18,959,18],[940,9,949,9],[940,12,949,12],[940,15,949,15],[940,18,949,18],[920,9,929,9],[920,12,929,12],[920,15,929,15],[920,18,929,18],[930,9,939,9],[930,12,939,12],[930,15,939,15],[930,18,939,18],[1000,1,1009,1],[1000,9,1009,9],[1000,12,1009,12],[1000,15,1009,15],[1000,18,1009,18],[980,1,989,1],[990,1,999,1],[960,1,969,1],[960,9,969,9],[960,12,969,12],[960,15,969,15],[960,18,969,18],[990,9,999,9],[990,12,999,12],[990,15,999,15],[990,18,999,18],[970,9,979,9],[970,12,979,12],[970,15,979,15],[970,18,979,18],[980,9,989,9],[980,12,989,12],[980,15,989,15],[980,18,989,18]]}
[]
[null,{"$f":"Dados!$B$2","v":{"$error":"#VALUE!"}}]
[]
[]
[]
[]
[]
[]
[null,null,null,null,null,null,null,"Crianças (não carcinogênico)",null,null,"Adultos (não carcinogênico)",null,null,"Crianças (carcinogênico)",null,null,"Adultos (carcinogênico)"]
[null,{"$f":"Dados!B10","v":"#"},{"$f":"Dados!C10","v":"Informação #1"},{"$f":"Dados!D10","v":"Informação #2"},{"$f":"Dados!E10","v":"Informação #3"},{"$f":"Dados!F10","v":"Contaminante"},{"$f":"Dados!G10","v":"Concentração"},"ADD","HQ","HI","ADD","HQ","HI","ADD","CR","CR Index","ADD","CR","CR Index"]
[null,{"$f":"Dados!B11","v":1},{"$f":"IF(Dados!C11=\"\",\"\",Dados!C11)","v":""},{"$f":"IF(Dados!D11=\"\",\"\",Dados!D11)","v":""},{"$f":"IF(Dados!E11=\"\",\"\",Dados!E11)","v":""},{"$f":"IF(Dados!F11=\"\",\"\",Dados!F11)","v":""},{"$f":"IF(Dados!G11=\"\",\"\",Dados!G11)","v":""},{"$f":"($G11*ChIR*ChEF*ChED)/(ChBW*ChATnc)","v":{"$error":"#VALUE!"}},{"$f":"IFERROR((H11)/(VLOOKUP($F11,intervaloHQ,2,0)),\"\")","v":""},{"$f":"SUM(I11:I20)","v":0},{"$f":"($G11*AdIR*AdEF*AdED)/(AdBW*AdATnc)","v":{"$error":"#VALUE!"}},{"$f":"IFERROR((K11)/(VLOOKUP($F11,intervaloHQ,2,0)),\"\")","v":""},{"$f":"SUM(L11:L20)","v":0},{"$f":"($G11*ChIR*ChEF*ChED)/(ChBW*ChATc)","v":{"$error":"#VALUE!"}},{"$f":"IFERROR((N11)*(VLOOKUP($F11,intervaloHQ,4,0)),\"\")","v":""},{"$f":"SUM(O11:O20)","v":0},{"$f":"($G11*AdIR*AdEF*AdED)/(AdBW*AdATc)","v":{"$error":"#VALUE!"}},{"$f":"IFERROR((Q11)*(VLOOKUP($F11,intervaloHQ,4,0)),\"\")","v":""},{"$f":"SUM(R11:R20)","v":0}]
[null,null,{"$f":"IF(Dados!C12=\"\",\"\",Dados!C12)","v":""},{"$f":"IF(Dados!D12=\"\",\"\",Dados!D12)","v":""},{"$f":"IF(Dados!E12=\"\",\"\",Dados!E12)","v":""},{"$f":"IF(Dados!F12=\"\",\"\",Dados!F12)","v":""},{"$f":"IF(Dados!G12=\"\",\"\",Dados!G12)","v":""},{"$error":"#VALUE!"},"",null,{"$error":"#VALUE!"},"",null,{"$error":"#VALUE!"},"",null,{"$error":"#VALUE!"},""]
[null,null,{"$f":"IF(Dados!C13=\"\",\"\",Dados!C13)","v":""},{"$f":"IF(Dados!D13=\"\",\"\",Dados!D13)","v":""},{"$f":"IF(Dados!E13=\"\",\"\",Dados!E13)","v":""},{"$f":"IF(Dados!F13=\"\",\"\",Dados!F13)","v":""},{"$f":"IF(Dados!G13=\"\",\"\",Dados!G13)","v":""},{"$error":"#VALUE!"},"",null,{"$error":"#VALUE!"},"",null,{"$error":"#VALUE!"},"",null,{"$error":"#VALUE!"},""]
[null,null,{"$f":"IF(Dados!C14=\"\",\"\",Dados!C14)","v":""},{"$f":"IF(Dados!D14=\"\",\"\",Dados!D14)","v":""},{"$f":"IF(Dados!E14=\"\",\"\",Dados!E14)","v":""},{"$f":"IF(Dados!F14=\"\",\"\",Dados!F14)","v":""},{"$f":"IF(Dados!G14=\"\",\"\",Dados!G14)","v":""},{"$error":"#VALUE!"},"",null,{"$error":"#VALUE!"},"",null,{"$error":"#VALUE!"},"",null,{"$error":"#VALUE!"},""]
[null,null,{"$f":"IF(Dados!C15=\"\",\"\",Dados!C15)","v":""},{"$f":"IF(Dados!D15=\"\",\"\",Dados!D15)","v":""},{"$f":"IF(Dados!E15=\"\",\"\",Dados!E15)","v":""},{"$f":"IF(Dados!F15=\"\",\"\",Dados!F15)","v":""},{"$f":"IF(Dados!G15=\"\",\"\",Dados!G15)","v":""},{"$error":"#VALUE!"},"",null,{"$error":"#VALUE!"},"",null,{"$error":"#VALUE!"},"",null,{"$error":"#VALUE!"},""]
[null,null,{"$f":"IF(Dados!C16=\"\",\"\",Dados!C16)","v":""},{"$f":"IF(Dados!D16=\"\",\"\",Dados!D16)","v":""},{"$f":"IF(Dados!E16=\"\",\"\",Dados!E16)","v":""},{"$f":"IF(Dados!F16=\"\",\"\",Dados!F16)","v":""},{"$f":"IF(Dados!G16=\"\",\"\",Dados!G16)","v":""},{"$error":"#VALUE!"},"",null,{"$error":"#VALUE!"},"",null,{"$error":"#VALUE!"},"",null,{"$error":"#VALUE!"},""]
[null,null,{"$f":"IF(Dados!C17=\"\",\"\",Dados!C17)","v":""},{"$f":"IF(Dados!D17=\"\",\"\",Dados!D17)","v":""},{"$f":"IF(Dados!E17=\"\",\"\",Dados!E17)","v":""},{"$f":"IF(Dados!F17=\"\",\"\",Dados!F17)","v":""},{"$f":"IF(Dados!G17=\"\",\"\",Dados!G17)","v":""},{"$error":"#VALUE!"},"",null,{"$error":"#VALUE!"},"",null,{"$error":"#VALUE!"},"",null,{"$error":"#VALUE!"},""]
[null,null,{"$f":"IF(Dados!C18=\"\",\"\",Dados!C18)","v":""},{"$f":"IF(Dados!D18=\"\",\"\",Dados!D18)","v":""},{"$f":"IF(Dados!E18=\"\",\"\",Dados!E18)","v":""},{"$f":"IF(Dados!F18=\"\",\"\",Dados!F18)","v":""},{"$f":"IF(Dados!G18=\"\",\"\",Dados!G18)","v":""},{"$error":"#VALUE!"},"",null,{"$error":"#VALUE!"},"",null,{"$error":"#VALUE!"},"",null,{"$error":"#VALUE!"},""]
[null,null,{"$f":"IF(Dados!C19=\"\",\"\",Dados!C19)","v":""},{"$f":"IF(Dados!D19=\"\",\"\",Dados!D19)","v":""},{"$f":"IF(Dados!E19=\"\",\"\",Dados!E19)","v":""},{"$f":"IF(Dados!F19=\"\",\"\",Dados!F19)","v":""},{"$f":"IF(Dados!G19=\"\",\"\",Dados!G19)","v":""},{"$error":"#VALUE!"},"",null,{"$error":"#VALUE!"},"",null,{"$error":"#VALUE!"},"",null,{"$error":"#VALUE!"},""]
[null,null,{"$f":"IF(Dados!C20=\"\",\"\",Dados!C20)","v":""},{"$f":"IF(Dados!D20=\"\",\"\",Dados!D20)","v":""},{"$f":"IF(Dados!E20=\"\",\"\",Dados!E20)","v":""},{"$f":"IF(Dados!F20=\"\",\"\",Dados!F20)","v":""},{"$f":"IF(Dados!G20=\"\",\"\",Dados!G20)","v":""},{"$error":"#VALUE!"},"",null,{"$error":"#VALUE!"},"",null,{"$error":"#VALUE!"},"",null,{"$error":"#VALUE!"},""]
[null,{"$f":"B11+1","v":2},{"$f":"IF(Dados!C21=\"\",\"\",Dados!C21)","v":""},{"$f":"IF(Dados!D21=\"\",\"\",Dados!D21)","v":""},{"$f":"IF(Dados!E21=\"\",\"\",Dados!E21)","v":""},{"$f":"IF(Dados!F21=\"\",\"\",Dados!F21)","v":""},{"$f":"IF(Dados!G21=\"\",\"\",Dados!G21)","v":""},{"$error":"#VALUE!"},"",{"$f":"SUM(I21:I30)","v":0},{"$error":"#VALUE!"},"",{"$f":"SUM(L21:L30)","v":0},{"$error":"#VALUE!"},"",{"$f":"SUM(O21:O30)","v":0},{"$error":"#VALUE!"},"",{"$f":"SUM(R21:R30)","v":0}]
[null,null,{"$f":"IF(Dados!C22=\"\",\"\",Dados!C22)","v":""},{"$f":"IF(Dados!D22=\"\",\"\",Dados!D22)","v":""},{"$f":"IF(Dados!E22=\"\",\"\",Dados!E22)","v":""},{"$f":"IF(Dados!F22=\"\",\"\",Dados!F22)","v":""},{"$f":"IF(Dados!G22=\"\",\"\",Dados!G22)","v":""},{"$error":"#VALUE!"},"",null,{"$error":"#VALUE!"},"",null,{"$error":"#VALUE!"},"",null,{"$error":"#VALUE!"},""]
[null,null,{"$f":"IF(Dados!C23=\"\",\"\",Dados!C23)","v":""},{"$f":"IF(Dados!D23=\"\",\"\",Dados!D23)","v":""},{"$f":"IF(Dados!E23=\"\",\"\",Dados!E23)","v":""},{"$f":"IF(Dados!F23=\"\",\"\",Dados!F23)","v":""},{"$f":"IF(Dados!G23=\"\",\"\",Dados!G23)","v":""},{"$error":"#VALUE!"},"",null,{"$error":"#VALUE!"},"",null,{"$error":"#VALUE!"},"",null,{"$error":"#VALUE!"},""]
[null,null,{"$f":"IF(Dados!C24=\"\",\"\",Dados!C24)","v":""},{"$f":"IF(Dados!D24=\"\",\"\",Dados!D24)","v":""},{"$f":"IF(Dados!E24=\"\",\"\",Dados!E24)","v":""},{"$f":"IF(Dados!F24=\"\",\"\",Dados!F24)","v":""},{"$f":"IF(Dados!G24=\"\",\"\",Dados!G24)","v":""},{"$error":"#VALUE!"},"",null,{"$error":"#VALUE!"},"",null,{"$error":"#VALUE!"},"",null,{"$error":"#VALUE!"},""]
[null,null,{"$f":"IF(Dados!C25=\"\",\"\",Dados!C25)","v":""},{"$f":"IF(Dados!D25=\"\",\"\",Dados!D25)","v":""},{"$f":"IF(Dados!E25=\"\",\"\",Dados!E25)","v":""},{"$f":"IF(Dados!F25=\"\",\"\",Dados!F25)","v":""},{"$f":"IF(Dados!G25=\"\",\"\",Dados!G25)","v":""},{"$error":"#VALUE!"},"",null,{"$error":"#VALUE!"},"",null,{"$error":"#VALUE!"},"",null,{"$error":"#VALUE!"},""]
[null,null,{"$f":"IF(Dados!C26=\"\",\"\",Dados!C26)","v":""},{"$f":"IF(Dados!D26=\"\",\"\",Dados!D26)","v":""},{"$f":"IF(Dados!E26=\"\",\"\",Dados!E26)","v":""},{"$f":"IF(Dados!F26=\"\",\"\",Dados!F26)","v":""},{"$f":"IF(Dados!G26=\"\",\"\",Dados!G26)","v":""},{"$error":"#VALUE!"},"",null,{"$error":"#VALUE!"},"",null,{"$error":"#VALUE!"},"",null,{"$error":"#VALUE!"},""]
[null,null,{"$f":"IF(Dados!C27=\"\",\"\",Dados!C27)","v":""},{"$f":"IF(Dados!D27=\"\",\"\",Dados!D27)","v":""},{"$f":"IF(Dados!E27=\"\",\"\",Dados!E27)","v":""},{"$f":"IF(Dados!F27=\"\",\"\",Dados!F27)","v":""},{"$f":"IF(Dados!G27=\"\",\"\",Dados!G27)","v":""},{"$error":"#VALUE!"},"",null,{"$error":"#VALUE!"},"",null,{"$error":"#VALUE!"},"",null,{"$error":"#VALUE!"},""]
[null,null,{"$f":"IF(Dados!C28=\"\",\"\",Dados!C28)","v":""},{"$f":"IF(Dados!D28=\"\",\"\",Dados!D28)","v":""},{"$f":"IF(Dados!E28=\"\",\"\",Dados!E28)","v":""},{"$f":"IF(Dados!F28=\"\",\"\",Dados!F28)","v":""},{"$f":"IF(Dados!G28=\"\",\"\",Dados!G28)","v":""},{"$error":"#VALUE!"},"",null,{"$error":"#VALUE!"},"",null,{"$error":"#VALUE!"},"",null,{"$error":"#VALUE!"},""]
[null,null,{"$f":"IF(Dados!C29=\"\",\"\",Dados!C29)","v":""},{"$f":"IF(Dados!D29=\"\",\"\",Dados!D29)","v":""},{"$f":"IF(Dados!E29=\"\",\"\",Dados!E29)","v":""},{"$f":"IF(Dados!F29=\"\",\"\",Dados!F29)","v":""},{"$f":"IF(Dados!G29=\"\",\"\",Dados!G29)","v":""},{"$error":"#VALUE!"},"",null,{"$error":"#VALUE!"},"",null,{"$error":"#VALUE!"},"",null,{"$error":"#VALUE!"},""]
[null,null,{"$f":"IF(Dados!C30=\"\",\"\",Dados!C30)","v":""},{"$f":"IF(Dados!D30=\"\",\"\",Dados!D30)","v":""},{"$f":"IF(Dados!E30=\"\",\"\",Dados!E30)","v":""},{"$f":"IF(Dados!F30=\"\",\"\",Dados!F30)","v":""},{"$f":"IF(Dados!G30=\"\",\"\",Dados!G30)","v":""},{"$error":"#VALUE!"},"",null,{"$error":"#VALUE!"},"",null,{"$error":"#VALUE!"},"",null,{"$error":"#VALUE!"},""]
[null,{"$f":"B21+1","v":3},{"$f":"IF(Dados!C31=\"\",\"\",Dados!C31)","v":""},{"$f":"IF(Dados!D31=\"\",\"\",Dados!D31)","v":""},{"$f":"IF(Dados!E31=\"\",\"\",Dados!E31)","v":""},{"$f":"IF(Dados!F31=\"\",\"\",Dados!F31)","v":""},{"$f":"IF(Dados!G31=\"\",\"\",Dados!G31)","v":""},{"$error":"#VALUE!"},"",{"$f":"SUM(I31:I40)","v":0},{"$error":"#VALUE!"},"",{"$f":"SUM(L31:L40)","v":0},{"$error":"#VALUE!"},"",{"$f":"SUM(O31:O40)","v":0},{"$error":"#VALUE!"},"",{"$f":"SUM(R31:R40)","v":0}]
[null,null,{"$f":"IF(Dados!C32=\"\",\"\",Dados!C32)","v":""},{"$f":"IF(Dados!D32=\"\",\"\",Dados!D32)","v":""},{"$f":"IF(Dados!E32=\"\",\"\",Dados!E32)","v":""},{"$f":"IF(Dados!F32=\"\",\"\",Dados!F32)","v":""},{"$f":"IF(Dados!G32=\"\",\"\",Dados!G32)","v":""},{"$error":"#VALUE!"},"",null,{"$error":"#VALUE!"},"",null,{"$error":"#VALUE!"},"",null,{"$error":"#VALUE!"},""]
[null,null,{"$f":"IF(Dados!C33=\"\",\"\",Dados!C33)","v":""},{"$f":"IF(Dados!D33=\"\",\"\",Dados!D33)","v":""},{"$f":"IF(Dados!E33=\"\",\"\",Dados!E33)","v":""},{"$f":"IF(Dados!F33=\"\",\"\",Dados!F33)","v":""},{"$f":"IF(Dados!G33=\"\",\"\",Dados!G33)","v":""},{"$error":"#VALUE!"},"",null,{"$error":"#VALUE!"},"",null,{"$error":"#VALUE!"},"",null,{"$error":"#VALUE!"},""]
[null,null,{"$f":"IF(Dados!C34=\"\",\"\",Dados!C34)","v":""},{"$f":"IF(Dados!D34=\"\",\"\",Dados!D34)","v":""},{"$f":"IF(Dados!E34=\"\",\"\",Dados!E34)","v":""},{"$f":"IF(Dados!F34=\"\",\"\",Dados!F34)","v":""},{"$f":"IF(Dados!G34=\"\",\"\",Dados!G34)","v":""},{"$error":"#VALUE!"},"",null,{"$error":"#VALUE!"},"",null,{"$error":"#VALUE!"},"",null,{"$error":"#VALUE!"},""]
[null,null,{"$f":"IF(Dados!C35=\"\",\"\",Dados!C35)","v":""},{"$f":"IF(Dados!D35=\"\",\"\",Dados!D35)","v":""},{"$f":"IF(Dados!E35=\"\",\"\",Dados!E35)","v":""},{"$f":"IF(Dados!F35=\"\",\"\",Dados!F35)","v":""},{"$f":"IF(Dados!G35=\"\",\"\",Dados!G35)","v":""},{"$error":"#VALUE!"},"",null,{"$error":"#VALUE!"},"",null,{"$error":"#VALUE!"},"",null,{"$error":"#VALUE!"},""]
[null,null,{"$f":"IF(Dados!C36=\"\",\"\",Dados!C36)","v":""},{"$f":"IF(Dados!D36=\"\",\"\",Dados!D36)","v":""},{"$f":"IF(Dados!E36=\"\",\"\",Dados!E36)","v":""},{"$f":"IF(Dados!F36=\"\",\"\",Dados!F36)","v":""},{"$f":"IF(Dados!G36=\"\",\"\",Dados!G36)","v":""},{"$error":"#VALUE!"},"",null,{"$error":"#VALUE!"},"",null,{"$error":"#VALUE!"},"",null,{"$error":"#VALUE!"},""]
[null,null,{"$f":"IF(Dados!C37=\"\",\"\",Dados!C37)","v":""},{"$f":"IF(Dados!D37=\"\",\"\",Dados!D37)","v":""},{"$f":"IF(Dados!E37=\"\",\"\",Dados!E37)","v":""},{"$f":"IF(Dados!F37=\"\",\"\",Dados!F37)","v":""},{"$f":"IF(Dados!G37=\"\",\"\",Dados!G37)","v":""},{"$error":"#VALUE!"},"",null,{"$error":"#VALUE!"},"",null,{"$error":"#VALUE!"},"",null,{"$error":"#VALUE!"},""]
[null,null,{"$f":"IF(Dados!C38=\"\",\"\",Dados!C38)","v":""},{"$f":"IF(Dados!D38=\"\",\"\",Dados!D38)","v":""},{"$f":"IF(Dados!E38=\"\",\"\",Dados!E38)","v":""},{"$f":"IF(Dados!F38=\"\",\"\",Dados!F38)","v":""},{"$f":"IF(Dados!G38=\"\",\"\",Dados!G38)","v":""},{"$error":"#VALUE!"},"",null,{"$error":"#VALUE!"},"",null,{"$error":"#VALUE!"},"",null,{"$error":"#VALUE!"},""]
[null,null,{"$f":"IF(Dados!C39=\"\",\"\",Dados!C39)","v":""},{"$f":"IF(Dados!D39=\"\",\"\",Dados!D39)","v":""},{"$f":"IF(Dados!E39=\"\",\"\",Dados!E39)","v":""},{"$f":"IF(Dados!F39=\"\",\"\",Dados!F39)","v":""},{"$f":"IF(Dados!G39=\"\",\"\",Dados!G39)","v":""},{"$error":"#VALUE!"},"",null,{"$error":"#VALUE!"},"",null,{"$error":"#VALUE!"},"",null,{"$error":"#VALUE!"},""]
[null,null,{"$f":"IF(Dados!C40=\"\",\"\",Dados!C40)","v":""},{"$f":"IF(Dados!D40=\"\",\"\",Dados!D40)","v":""},{"$f":"IF(Dados!E40=\"\",\"\",Dados!E40)","v":""},{"$f":"IF(Dados!F40=\"\",\"\",Dados!F40)","v":""},{"$f":"IF(Dados!G40=\"\",\"\",Dados!G40)","v":""},{"$error":"#VALUE!"},"",null,{"$error":"#VALUE!"},"",null,{"$error":"#VALUE!"},"",null,{"$error":"#VALUE!"},""]
[null,{"$f":"B31+1","v":4},{"$f":"IF(Dados!C41=\"\",\"\",Dados!C41)","v":""},{"$f":"IF(Dados!D41=\"\",\"\",Dados!D41)","v":""},{"$f":"IF(Dados!E41=\"\",\"\",Dados!E41)","v":""},{"$f":"IF(Dados!F41=\"\",\"\",Dados!F41)","v":""},{"$f":"IF(Dados!G41=\"\",\"\",Dados!G41)","v":""},{"$error":"#VALUE!"},"",{"$f":"SUM(I41:I50)","v":0},{"$error":"#VALUE!"},"",{"$f":"SUM(L41:L50)","v":0},{"$error":"#VALUE!"},"",{"$f":"SUM(O41:O50)","v":0},{"$error":"#VALUE!"},"",{"$f":"SUM(R41:R50)","v":0}]
[null,null,{"$f":"IF(Dados!C42=\"\",\"\",Dados!C42)","v":""},{"$f":"IF(Dados!D42=\"\",\"\",Dados!D42)","v":""},{"$f":"IF(Dados!E42=\"\",\"\",Dados!E42)","v":""},{"$f":"IF(Dados!F42=\"\",\"\",Dados!F42)","v":""},{"$f":"IF(Dados!G42=\"\",\"\",Dados!G42)","v":""},{"$error":"#VALUE!"},"",null,{"$error":"#VALUE!"},"",null,{"$error":"#VALUE!"},"",null,{"$error":"#VALUE!"},""]
[null,null,{"$f":"IF(Dados!C43=\"\",\"\",Dados!C43)","v":""},{"$f":"IF(Dados!D43=\"\",\"\",Dados!D43)","v":""},{"$f":"IF(Dados!E43=\"\",\"\",Dados!E43)","v":""},{"$f":"IF(Dados!F43=\"\",\"\",Dados!F43)","v":""},{"$f":"IF(Dados!G43=\"\",\"\",Dados!G43)","v":""},{"$error":"#VALUE!"},"",null,{"$error":"#VALUE!"},"",null,{"$error":"#VALUE!"},"",null,{"$error":"#VALUE!"},""]
[null,null,{"$f":"IF(Dados!C44=\"\",\"\",Dados!C44)","v":""},{"$f":"IF(Dados!D44=\"\",\"\",Dados!D44)","v":""},{"$f":"IF(Dados!E44=\"\",\"\",Dados!E44)","v":""},{"$f":"IF(Dados!F44=\"\",\"\",Dados!F44)","v":""},{"$f":"IF(Dados!G44=\"\",\"\",Dados!G44)","v":""},{"$error":"#VALUE!"},"",null,{"$error":"#VALUE!"},"",null,{"$error":"#VALUE!"},"",null,{"$error":"#VALUE!"},""]
[null,null,{"$f":"IF(Dados!C45=\"\",\"\",Dados!C45)","v":""},{"$f":"IF(Dados!D45=\"\",\"\",Dados!D45)","v":""},{"$f":"IF(Dados!E45=\"\",\"\",Dados!E45)","v":""},{"$f":"IF(Dados!F45=\"\",\"\",Dados!F45)","v":""},{"$f":"IF(Dados!G45=\"\",\"\",Dados!G45)","v":""},{"$error":"#VALUE!"},"",null,{"$error":"#VALUE!"},"",null,{"$error":"#VALUE!"},"",null,{"$error":"#VALUE!"},""]
[null,null,{"$f":"IF(Dados!C46=\"\",\"\",Dados!C46)","v":""},{"$f":"IF(Dados!D46=\"\",\"\",Dados!D46)","v":""},{"$f":"IF(Dados!E46=\"\",\"\",Dados!E46)","v":""},{"$f":"IF(Dados!F46=\"\",\"\",Dados!F46)","v":""},{"$f":"IF(Dados!G46=\"\",\"\",Dados!G46)","v":""},{"$error":"#VALUE!"},"",null,{"$error":"#VALUE!"},"",null,{"$error":"#VALUE!"},"",null,{"$error":"#VALUE!"},""]
[null,null,{"$f":"IF(Dados!C47=\"\",\"\",Dados!C47)","v":""},{"$f":"IF(Dados!D47=\"\",\"\",Dados!D47)","v":""},{"$f":"IF(Dados!E47=\"\",\"\",Dados!E47)","v":""},{"$f":"IF(Dados!F47=\"\",\"\",Dados!F47)","v":""},{"$f":"IF(Dados!G47=\"\",\"\",Dados!G47)","v":""},{"$error":"#VALUE!"},"",null,{"$error":"#VALUE!"},"",null,{"$error":"#VALUE!"},"",null,{"$error":"#VALUE!"},""]
[null,null,{"$f":"IF(Dados!C48=\"\",\"\",Dados!C48)","v":""},{"$f":"IF(Dados!D48=\"\",\"\",Dados!D48)","v":""},{"$f":"IF(Dados!E48=\"\",\"\",Dados!E48)","v":""},{"$f":"IF(Dados!F48=\"\",\"\",Dados!F48)","v":""},{"$f":"IF(Dados!G48=\"\",\"\",Dados!G48)","v":""},{"$error":"#VALUE!"},"",null,{"$error":"#VALUE!"},"",null,{"$error":"#VALUE!"},"",null,{"$error":"#VALUE!"},""]
[null,null,{"$f":"IF(Dados!C49=\"\",\"\",Dados!C49)","v":""},{"$f":"IF(Dados!D49=\"\",\"\",Dados!D49)","v":""},{"$f":"IF(Dados!E49=\"\",\"\",Dados!E49)","v":""},{"$f":"IF(Dados!F49=\"\",\"\",Dados!F49)","v":""},{"$f":"IF(Dados!G49=\"\",\"\",Dados!G49)","v":""},{"$error":"#VALUE!"},"",null,{"$error":"#VALUE!"},"",null,{"$error":"#VALUE!"},"",null,{"$error":"#VALUE!"},""]
[null,null,{"$f":"IF(Dados!C50=\"\",\"\",Dados!C50)","v":""},{"$f":"IF(Dados!D50=\"\",\"\",Dados!D50)","v":""},{"$f":"IF(Dados!E50=\"\",\"\",Dados!E50)","v":""},{"$f":"IF(Dados!F50=\"\",\"\",Dados!F50)","v":""},{"$f":"IF(Dados!G50=\"\",\"\",Dados!G50)","v":""},{"$error":"#VALUE!"},"",null,{"$error":"#VALUE!"},"",null,{"$error":"#VALUE!"},"",null,{"$error":"#VALUE!"},""]
[null,{"$f":"B41+1","v":5},{"$f":"IF(Dados!C51=\"\",\"\",Dados!C51)","v":""},{"$f":"IF(Dados!D51=\"\",\"\",Dados!D51)","v":""},{"$f":"IF(Dados!E51=\"\",\"\",Dados!E51)","v":""},{"$f":"IF(Dados!F51=\"\",\"\",Dados!F51)","v":""},{"$f":"IF(Dados!G51=\"\",\"\",Dados!G51)","v":""},{"$error":"#VALUE!"},"",{"$f":"SUM(I51:I60)","v":0},{"$error":"#VALUE!"},"",{"$f":"SUM(L51:L60)","v":0},{"$error":"#VALUE!"},"",{"$f":"SUM(O51:O60)","v":0},{"$error":"#VALUE!"},"",{"$f":"SUM(R51:R60)","v":0}]
[null,null,{"$f":"IF(Dados!C52=\"\",\"\",Dados!C52)","v":""},{"$f":"IF(Dados!D52=\"\",\"\",Dados!D52)","v":""},{"$f":"IF(Dados!E52=\"\",\"\",Dados!E52)","v":""},{"$f":"IF(Dados!F52=\"\",\"\",Dados!F52)","v":""},{"$f":"IF(Dados!G52=\"\",\"\",Dados!G52)","v":""},{"$error":"#VALUE!"},"",null,{"$error":"#VALUE!"},"",null,{"$error":"#VALUE!"},"",null,{"$error":"#VALUE!"},""]
[null,null,{"$f":"IF(Dados!C53=\"\",\"\",Dados!C53)","v":""},{"$f":"IF(Dados!D53=\"\",\"\",Dados!D53)","v":""},{"$f":"IF(Dados!E53=\"\",\"\",Dados!E53)","v":""},{"$f":"IF(Dados!F53=\"\",\"\",Dados!F53)","v":""},{"$f":"IF(Dados!G53=\"\",\"\",Dados!G53)","v":""},{"$error":"#VALUE!"},"",null,{"$error":"#VALUE!"},"",null,{"$error":"#VALUE!"},"",null,{"$error":"#VALUE!"},""]
[null,null,{"$f":"IF(Dados!C54=\"\",\"\",Dados!C54)","v":""},{"$f":"IF(Dados!D54=\"\",\"\",Dados!D54)","v":""},{"$f":"IF(Dados!E54=\"\",\"\",Dados!E54)","v":""},{"$f":"IF(Dados!F54=\"\",\"\",Dados!F54)","v":""},{"$f":"IF(Dados!G54=\"\",\"\",Dados!G54)","v":""},{"$error":"#VALUE!"},"",null,{"$error":"#VALUE!"},"",null,{"$error":"#VALUE!"},"",null,{"$error":"#VALUE!"},""]
[null,null,{"$f":"IF(Dados!C55=\"\",\"\",Dados!C55)","v":""},{"$f":"IF(Dados!D55=\"\",\"\",Dados!D55)","v":""},{"$f":"IF(Dados!E55=\"\",\"\",Dados!E55)","v":""},{"$f":"IF(Dados!F55=\"\",\"\",Dados!F55)","v":""},{"$f":"IF(Dados!G55=\"\",\"\",Dados!G55)","v":""},{"$error":"#VALUE!"},"",null,{"$error":"#VALUE!"},"",null,{"$error":"#VALUE!"},"",null,{"$error":"#VALUE!"},""]
[null,null,{"$f":"IF(Dados!C56=\"\",\"\",Dados!C56)","v":""},{"$f":"IF(Dados!D56=\"\",\"\",Dados!D56)","v":""},{"$f":"IF(Dados!E56=\"\",\"\",Dados!E56)","v":""},{"$f":"IF(Dados!F56=\"\",\"\",Dados!F56)","v":""},{"$f":"IF(Dados!G56=\"\",\"\",Dados!G56)","v":""},{"$error":"#VALUE!"},"",null,{"$error":"#VALUE!"},"",null,{"$error":"#VALUE!"},"",null,{"$error":"#VALUE!"},""]
[null,null,{"$f":"IF(Dados!C57=\"\",\"\",Dados!C57)","v":""},{"$f":"IF(Dados!D57=\"\",\"\",Dados!D57)","v":""},{"$f":"IF(Dados!E57=\"\",\"\",Dados!E57)","v":""},{"$f":"IF(Dados!F57=\"\",\"\",Dados!F57)","v":""},{"$f":"IF(Dados!G57=\"\",\"\",Dados!G57)","v":""},{"$error":"#VALUE!"},"",null,{"$error":"#VALUE!"},"",null,{"$error":"#VALUE!"},"",null,{"$error":"#VALUE!"},""]
[null,null,{"$f":"IF(Dados!C58=\"\",\"\",Dados!C58)","v":""},{"$f":"IF(Dados!D58=\"\",\"\",Dados!D58)","v":""},{"$f":"IF(Dados!E58=\"\",\"\",Dados!E58)","v":""},{"$f":"IF(Dados!F58=\"\",\"\",Dados!F58)","v":""},{"$f":"IF(Dados!G58=\"\",\"\",Dados!G58)","v":""},{"$error":"#VALUE!"},"",null,{"$error":"#VALUE!"},"",null,{"$error":"#VALUE!"},"",null,{"$error":"#VALUE!"},""]
[null,null,{"$f":"IF(Dados!C59=\"\",\"\",Dados!C59)","v":""},{"$f":"IF(Dados!D59=\"\",\"\",Dados!D59)","v":""},{"$f":"IF(Dados!E59=\"\",\"\",Dados!E59)","v":""},{"$f":"IF(Dados!F59=\"\",\"\",Dados!F59)","v":""},{"$f":"IF(Dados!G59=\"\",\"\",Dados!G59)","v":""},{"$error":"#VALUE!"},"",null,{"$error":"#VALUE!"},"",null,{"$error":"#VALUE!"},"",null,{"$error":"#VALUE!"},""]
[null,null,{"$f":"IF(Dados!C60=\"\",\"\",Dados!C60)","v":""},{"$f":"IF(Dados!D60=\"\",\"\",Dados!D60)","v":""},{"$f":"IF(Dados!E60=\"\",\"\",Dados!E60)","v":""},{"$f":"IF(Dados!F60=\"\",\"\",Dados!F60)","v":""},{"$f":"IF(Dados!G60=\"\",\"\",Dados!G60)","v":""},{"$error":"#VALUE!"},"",null,{"$error":"#VALUE!"},"",null,{"$error":"#VALUE!"},"",null,{"$error":"#VALUE!"},""]
[null,{"$f":"B51+1","v":6},{"$f":"IF(Dados!C61=\"\",\"\",Dados!C61)","v":""},{"$f":"IF(Dados!D61=\"\",\"\",Dados!D61)","v":""},{"$f":"IF(Dados!E61=\"\",\"\",Dados!E61)","v":""},{"$f":"IF(Dados!F61=\"\",\"\",Dados!F61)","v":""},{"$f":"IF(Dados!G61=\"\",\"\",Dados!G61)","v":""},{"$error":"#VALUE!"},"",{"$f":"SUM(I61:I70)","v":0},{"$error":"#VALUE!"},"",{"$f":"SUM(L61:L70)","v":0},{"$error":"#VALUE!"},"",{"$f":"SUM(O61:O70)","v":0},{"$error":"#VALUE!"},"",{"$f":"SUM(R61:R70)","v":0}]
[null,null,{"$f":"IF(Dados!C62=\"\",\"\",Dados!C62)","v":""},{"$f":"IF(Dados!D62=\"\",\"\",Dados!D62)","v":""},{"$f":"IF(Dados!E62=\"\",\"\",Dados!E62)","v":""},{"$f":"IF(Dados!F62=\"\",\"\",Dados!F62)","v":""},{"$f":"IF(Dados!G62=\"\",\"\",Dados!G62)","v":""},{"$error":"#VALUE!"},"",null,{"$error":"#VALUE!"},"",null,{"$error":"#VALUE!"},"",null,{"$error":"#VALUE!"},""]
[null,null,{"$f":"IF(Dados!C63=\"\",\"\",Dados!C63)","v":""},{"$f":"IF(Dados!D63=\"\",\"\",Dados!D63)","v":""},{"$f":"IF(Dados!E63=\"\",\"\",Dados!E63)","v":""},{"$f":"IF(Dados!F63=\"\",\"\",Dados!F63)","v":""},{"$f":"IF(Dados!G63=\"\",\"\",Dados!G63)","v":""},{"$error":"#VALUE!"},"",null,{"$error":"#VALUE!"},"",null,{"$error":"#VALUE!"},"",null,{"$error":"#VALUE!"},""]
[null,null,{"$f":"IF(Dados!C64=\"\",\"\",Dados!C64)","v":""},{"$f":"IF(Dados!D64=\"\",\"\",Dados!D64)","v":""},{"$f":"IF(Dados!E64=\"\",\"\",Dados!E64)","v":""},{"$f":"IF(Dados!F64=\"\",\"\",Dados!F64)","v":""},{"$f":"IF(Dados!G64=\"\",\"\",Dados!G64)","v":""},{"$error":"#VALUE!"},"",null,{"$error":"#VALUE!"},"",null,{"$error":"#VALUE!"},"",null,{"$error":"#VALUE!"},""]
[null,null,{"$f":"IF(Dados!C65=\"\",\"\",Dados!C65)","v":""},{"$f":"IF(Dados!D65=\"\",\"\",Dados!D65)","v":""},{"$f":"IF(Dados!E65=\"\",\"\",Dados!E65)","v":""},{"$f":"IF(Dados!F65=\"\",\"\",Dados!F65)","v":""},{"$f":"IF(Dados!G65=\"\",\"\",Dados!G65)","v":""},{"$error":"#VALUE!"},"",null,{"$error":"#VALUE!"},"",null,{"$error":"#VALUE!"},"",null,{"$error":"#VALUE!"},""]
[null,null,{"$f":"IF(Dados!C66=\"\",\"\",Dados!C66)","v":""},{"$f":"IF(Dados!D66=\"\",\"\",Dados!D66)","v":""},{"$f":"IF(Dados!E66=\"\",\"\",Dados!E66)","v":""},{"$f":"IF(Dados!F66=\"\",\"\",Dados!F66)","v":""},{"$f":"IF(Dados!G66=\"\",\"\",Dados!G66)","v":""},{"$error":"#VALUE!"},"",null,{"$error":"#VALUE!"},"",null,{"$error":"#VALUE!"},"",null,{"$error":"#VALUE!"},""]
[null,null,{"$f":"IF(Dados!C67=\"\",\"\",Dados!C67)","v":""},{"$f":"IF(Dados!D67=\"\",\"\",Dados!D67)","v":""},{"$f":"IF(Dados!E67=\"\",\"\",Dados!E67)","v":""},{"$f":"IF(Dados!F67=\"\",\"\",Dados!F67)","v":""},{"$f":"IF(Dados!G67=\"\",\"\",Dados!G67)","v":""},{"$error":"#VALUE!"},"",null,{"$error":"#VALUE!"},"",null,{"$error":"#VALUE!"},"",null,{"$error":"#VALUE!"},""]
[null,null,{"$f":"IF(Dados!C68=\"\",\"\",Dados!C68)","v":""},{"$f":"IF(Dados!D68=\"\",\"\",Dados!D68)","v":""},{"$f":"IF(Dados!E68=\"\",\"\",Dados!E68)","v":""},{"$f":"IF(Dados!F68=\"\",\"\",Dados!F68)","v":""},{"$f":"IF(Dados!G68=\"\",\"\",Dados!G68)","v":""},{"$error":"#VALUE!"},"",null,{"$error":"#VALUE!"},"",null,{"$error":"#VALUE!"},"",null,{"$error":"#VALUE!"},""]
[null,null,{"$f":"IF(Dados!C69=\"\",\"\",Dados!C69)","v":""},{"$f":"IF(Dados!D69=\"\",\"\",Dados!D69)","v":""},{"$f":"IF(Dados!E69=\"\",\"\",Dados!E69)","v":""},{"$f":"IF(Dados!F69=\"\",\"\",Dados!F69)","v":""},{"$f":"IF(Dados!G69=\"\",\"\",Dados!G69)","v":""},{"$error":"#VALUE!"},"",null,{"$error":"#VALUE!"},"",null,{"$error":"#VALUE!"},"",null,{"$error":"#VALUE!"},""]
[null,null,{"$f":"IF(Dados!C70=\"\",\"\",Dados!C70)","v":""},{"$f":"IF(Dados!D70=\"\",\"\",Dados!D70)","v":""},{"$f":"IF(Dados!E70=\"\",\"\",Dados!E70)","v":""},{"$f":"IF(Dados!F70=\"\",\"\",Dados!F70)","v":""},{"$f":"IF(Dados!G70=\"\",\"\",Dados!G70)","v":""},{"$error":"#VALUE!"},"",null,{"$error":"#VALUE!"},"",null,{"$error":"#VALUE!"},"",null,{"$error":"#VALUE!"},""]
[null,{"$f":"B61+1","v":7},{"$f":"IF(Dados!C71=\"\",\"\",Dados!C71)","v":""},{"$f":"IF(Dados!D71=\"\",\"\",Dados!D71)","v":""},{"$f":"IF(Dados!E71=\"\",\"\",Dados!E71)","v":""},{"$f":"IF(Dados!F71=\"\",\"\",Dados!F71)","v":""},{"$f":"IF(Dados!G71=\"\",\"\",Dados!G71)","v":""},{"$error":"#VALUE!"},"",{"$f":"SUM(I71:I80)","v":0},{"$error":"#VALUE!"},"",{"$f":"SUM(L71:L80)","v":0},{"$error":"#VALUE!"},"",{"$f":"SUM(O71:O80)","v":0},{"$error":"#VALUE!"},"",{"$f":"SUM(R71:R80)","v":0}]
[null,null,{"$f":"IF(Dados!C72=\"\",\"\",Dados!C72)","v":""},{"$f":"IF(Dados!D72=\"\",\"\",Dados!D72)","v":""},{"$f":"IF(Dados!E72=\"\",\"\",Dados!E72)","v":""},{"$f":"IF(Dados!F72=\"\",\"\",Dados!F72)","v":""},{"$f":"IF(Dados!G72=\"\",\"\",Dados!G72)","v":""},{"$error":"#VALUE!"},"",null,{"$error":"#VALUE!"},"",null,{"$error":"#VALUE!"},"",null,{"$error":"#VALUE!"},""]
[null,null,{"$f":"IF(Dados!C73=\"\",\"\",Dados!C73)","v":""},{"$f":"IF(Dados!D73=\"\",\"\",Dados!D73)","v":""},{"$f":"IF(Dados!E73=\"\",\"\",Dados!E73)","v":""},{"$f":"IF(Dados!F73=\"\",\"\",Dados!F73)","v":""},{"$f":"IF(Dados!G73=\"\",\"\",Dados!G73)","v":""},{"$error":"#VALUE!"},"",null,{"$error":"#VALUE!"},"",null,{"$error":"#VALUE!"},"",null,{"$error":"#VALUE!"},""]
[null,null,{"$f":"IF(Dados!C74=\"\",\"\",Dados!C74)","v":""},{"$f":"IF(Dados!D74=\"\",\"\",Dados!D74)","v":""},{"$f":"IF(Dados!E74=\"\",\"\",Dados!E74)","v":""},{"$f":"IF(Dados!F74=\"\",\"\",Dados!F74)","v":""},{"$f":"IF(Dados!G74=\"\",\"\",Dados!G74)","v":""},{"$error":"#VALUE!"},"",null,{"$error":"#VALUE!"},"",null,{"$error":"#VALUE!"},"",null,{"$error":"#VALUE!"},""]
[null,null,{"$f":"IF(Dados!C75=\"\",\"\",Dados!C75)","v":""},{"$f":"IF(Dados!D75=\"\",\"\",Dados!D75)","v":""},{"$f":"IF(Dados!E75=\"\",\"\",Dados!E75)","v":""},{"$f":"IF(Dados!F75=\"\",\"\",Dados!F75)","v":""},{"$f":"IF(Dados!G75=\"\",\"\",Dados!G75)","v":""},{"$f":"($G75*ChIR*ChEF*ChED)/(ChBW*ChATnc)","v":{"$error":"#VALUE!"}},{"$f":"IFERROR((H75)/(VLOOKUP($F75,intervaloHQ,2,0)),\"\")","v":""},null,{"$f":"($G75*AdIR*AdEF*AdED)/(AdBW*AdATnc)","v":{"$error":"#VALUE!"}},{"$f":"IFERROR((K75)/(VLOOKUP($F75,intervaloHQ,2,0)),\"\")","v":""},null,{"$f":"($G75*ChIR*ChEF*ChED)/(ChBW*ChATc)","v":{"$error":"#VALUE!"}},{"$f":"IFERROR((N75)*(VLOOKUP($F75,intervaloHQ,4,0)),\"\")","v":""},null,{"$f":"($G75*AdIR*AdEF*AdED)/(AdBW*AdATc)","v":{"$error":"#VALUE!"}},{"$f":"IFERROR((Q75)*(VLOOKUP($F75,intervaloHQ,4,0)),\"\")","v":""}]
[null,null,{"$f":"IF(Dados!C76=\"\",\"\",Dados!C76)","v":""},{"$f":"IF(Dados!D76=\"\",\"\",Dados!D76)","v":""},{"$f":"IF(Dados!E76=\"\",\"\",Dados!E76)","v":""},{"$f":"IF(Dados!F76=\"\",\"\",Dados!F76)","v":""},{"$f":"IF(Dados!G76=\"\",\"\",Dados!G76)","v":""},{"$error":"#VALUE!"},"",null,{"$error":"#VALUE!"},"",null,{"$error":"#VALUE!"},"",null,{"$error":"#VALUE!"},""]
[null,null,{"$f":"IF(Dados!C77=\"\",\"\",Dados!C77)","v":""},{"$f":"IF(Dados!D77=\"\",\"\",Dados!D77)","v":""},{"$f":"IF(Dados!E77=\"\",\"\",Dados!E77)","v":""},{"$f":"IF(Dados!F77=\"\",\"\",Dados!F77)","v":""},{"$f":"IF(Dados!G77=\"\",\"\",Dados!G77)","v":""},{"$error":"#VALUE!"},"",null,{"$error":"#VALUE!"},"",null,{"$error":"#VALUE!"},"",null,{"$error":"#VALUE!"},""]
[null,null,{"$f":"IF(Dados!C78=\"\",\"\",Dados!C78)","v":""},{"$f":"IF(Dados!D78=\"\",\"\",Dados!D78)","v":""},{"$f":"IF(Dados!E78=\"\",\"\",Dados!E78)","v":""},{"$f":"IF(Dados!F78=\"\",\"\",Dados!F78)","v":""},{"$f":"IF(Dados!G78=\"\",\"\",Dados!G78)","v":""},{"$error":"#VALUE!"},"",null,{"$error":"#VALUE!"},"",null,{"$error":"#VALUE!"},"",null,{"$error":"#VALUE!"},""]
[null,null,{"$f":"IF(Dados!C79=\"\",\"\",Dados!C79)","v":""},{"$f":"IF(Dados!D79=\"\",\"\",Dados!D79)","v":""},{"$f":"IF(Dados!E79=\"\",\"\",Dados!E79)","v":""},{"$f":"IF(Dados!F79=\"\",\"\",Dados!F79)","v":""},{"$f":"IF(Dados!G79=\"\",\"\",Dados!G79)","v":""},{"$error":"#VALUE!"},"",null,{"$error":"#VALUE!"},"",null,{"$error":"#VALUE!"},"",null,{"$error":"#VALUE!"},""]
[null,null,{"$f":"IF(Dados!C80=\"\",\"\",Dados!C80)","v":""},{"$f":"IF(Dados!D80=\"\",\"\",Dados!D80)","v":""},{"$f":"IF(Dados!E80=\"\",\"\",Dados!E80)","v":""},{"$f":"IF(Dados!F80=\"\",\"\",Dados!F80)","v":""},{"$f":"IF(Dados!G80=\"\",\"\",Dados!G80)","v":""},{"$error":"#VALUE!"},"",null,{"$error":"#VALUE!"},"",null,{"$error":"#VALUE!"},"",null,{"$error":"#VALUE!"},""]
[null,{"$f":"B71+1","v":8},{"$f":"IF(Dados!C81=\"\",\"\",Dados!C81)","v":""},{"$f":"IF(Dados!D81=\"\",\"\",Dados!D81)","v":""},{"$f":"IF(Dados!E81=\"\",\"\",Dados!E81)","v":""},{"$f":"IF(Dados!F81=\"\",\"\",Dados!F81)","v":""},{"$f":"IF(Dados!G81=\"\",\"\",Dados!G81)","v":""},{"$error":"#VALUE!"},"",{"$f":"SUM(I81:I90)","v":0},{"$error":"#VALUE!"},"",{"$f":"SUM(L81:L90)","v":0},{"$error":"#VALUE!"},"",{"$f":"SUM(O81:O90)","v":0},{"$error":"#VALUE!"},"",{"$f":"SUM(R81:R90)","v":0}]
[null,null,{"$f":"IF(Dados!C82=\"\",\"\",Dados!C82)","v":""},{"$f":"IF(Dados!D82=\"\",\"\",Dados!D82)","v":""},{"$f":"IF(Dados!E82=\"\",\"\",Dados!E82)","v":""},{"$f":"IF(Dados!F82=\"\",\"\",Dados!F82)","v":""},{"$f":"IF(Dados!G82=\"\",\"\",Dados!G82)","v":""},{"$error":"#VALUE!"},"",null,{"$error":"#VALUE!"},"",null,{"$error":"#VALUE!"},"",null,{"$error":"#VALUE!"},""]
[null,null,{"$f":"IF(Dados!C83=\"\",\"\",Dados!C83)","v":""},{"$f":"IF(Dados!D83=\"\",\"\",Dados!D83)","v":""},{"$f":"IF(Dados!E83=\"\",\"\",Dados!E83)","v":""},{"$f":"IF(Dados!F83=\"\",\"\",Dados!F83)","v":""},{"$f":"IF(Dados!G83=\"\",\"\",Dados!G83)","v":""},{"$error":"#VALUE!"},"",null,{"$error":"#VALUE!"},"",null,{"$error":"#VALUE!"},"",null,{"$error":"#VALUE!"},""]
[null,null,{"$f":"IF(Dados!C84=\"\",\"\",Dados!C84)","v":""},{"$f":"IF(Dados!D84=\"\",\"\",Dados!D84)","v":""},{"$f":"IF(Dados!E84=\"\",\"\",Dados!E84)","v":""},{"$f":"IF(Dados!F84=\"\",\"\",Dados!F84)","v":""},{"$f":"IF(Dados!G84=\"\",\"\",Dados!G84)","v":""},{"$error":"#VALUE!"},"",null,{"$error":"#VALUE!"},"",null,{"$error":"#VALUE!"},"",null,{"$error":"#VALUE!"},""]
[null,null,{"$f":"IF(Dados!C85=\"\",\"\",Dados!C85)","v":""},{"$f":"IF(Dados!D85=\"\",\"\",Dados!D85)","v":""},{"$f":"IF(Dados!E85=\"\",\"\",Dados!E85)","v":""},{"$f":"IF(Dados!F85=\"\",\"\",Dados!F85)","v":""},{"$f":"IF(Dados!G85=\"\",\"\",Dados!G85)","v":""},{"$error":"#VALUE!"},"",null,{"$error":"#VALUE!"},"",null,{"$error":"#VALUE!"},"",null,{"$error":"#VALUE!"},""]
[null,null,{"$f":"IF(Dados!C86=\"\",\"\",Dados!C86)","v":""},{"$f":"IF(Dados!D86=\"\",\"\",Dados!D86)","v":""},{"$f":"IF(Dados!E86=\"\",\"\",Dados!E86)","v":""},{"$f":"IF(Dados!F86=\"\",\"\",Dados!F86)","v":""},{"$f":"IF(Dados!G86=\"\",\"\",Dados!G86)","v":""},{"$error":"#VALUE!"},"",null,{"$error":"#VALUE!"},"",null,{"$error":"#VALUE!"},"",null,{"$error":"#VALUE!"},""]
[null,null,{"$f":"IF(Dados!C87=\"\",\"\",Dados!C87)","v":""},{"$f":"IF(Dados!D87=\"\",\"\",Dados!D87)","v":""},{"$f":"IF(Dados!E87=\"\",\"\",Dados!E87)","v":""},{"$f":"IF(Dados!F87=\"\",\"\",Dados!F87)","v":""},{"$f":"IF(Dados!G87=\"\",\"\",Dados!G87)","v":""},{"$error":"#VALUE!"},"",null,{"$error":"#VALUE!"},"",null,{"$error":"#VALUE!"},"",null,{"$error":"#VALUE!"},""]
[null,null,{"$f":"IF(Dados!C88=\"\",\"\",Dados!C88)","v":""},{"$f":"IF(Dados!D88=\"\",\"\",Dados!D88)","v":""},{"$f":"IF(Dados!E88=\"\",\"\",Dados!E88)","v":""},{"$f":"IF(Dados!F88=\"\",\"\",Dados!F88)","v":""},{"$f":"IF(Dados!G88=\"\",\"\",Dados!G88)","v":""},{"$error":"#VALUE!"},"",null,{"$error":"#VALUE!"},"",null,{"$error":"#VALUE!"},"",null,{"$error":"#VALUE!"},""]
[null,null,{"$f":"IF(Dados!C89=\"\",\"\",Dados!C89)","v":""},{"$f":"IF(Dados!D89=\"\",\"\",Dados!D89)","v":""},{"$f":"IF(Dados!E89=\"\",\"\",Dados!E89)","v":""},{"$f":"IF(Dados!F89=\"\",\"\",Dados!F89)","v":""},{"$f":"IF(Dados!G89=\"\",\"\",Dados!G89)","v":""},{"$error":"#VALUE!"},"",null,{"$error":"#VALUE!"},"",null,{"$error":"#VALUE!"},"",null,{"$error":"#VALUE!"},""]
[null,null,{"$f":"IF(Dados!C90=\"\",\"\",Dados!C90)","v":""},{"$f":"IF(Dados!D90=\"\",\"\",Dados!D90)","v":""},{"$f":"IF(Dados!E90=\"\",\"\",Dados!E90)","v":""},{"$f":"IF(Dados!F90=\"\",\"\",Dados!F90)","v":""},{"$f":"IF(Dados!G90=\"\",\"\",Dados!G90)","v":""},{"$error":"#VALUE!"},"",null,{"$error":"#VALUE!"},"",null,{"$error":"#VALUE!"},"",null,{"$error":"#VALUE!"},""]
[null,{"$f":"B81+1","v":9},{"$f":"IF(Dados!C91=\"\",\"\",Dados!C91)","v":""},{"$f":"IF(Dados!D91=\"\",\"\",Dados!D91)","v":""},{"$f":"IF(Dados!E91=\"\",\"\",Dados!E91)","v":""},{"$f":"IF(Dados!F91=\"\",\"\",Dados!F91)","v":""},{"$f":"IF(Dados!G91=\"\",\"\",Dados!G91)","v":""},{"$error":"#VALUE!"},"",{"$f":"SUM(I91:I100)","v":0},{"$error":"#VALUE!"},"",{"$f":"SUM(L91:L100)","v":0},{"$error":"#VALUE!"},"",{"$f":"SUM(O91:O100)","v":0},{"$error":"#VALUE!"},"",{"$f":"SUM(R91:R100)","v":0}]
[null,null,{"$f":"IF(Dados!C92=\"\",\"\",Dados!C92)","v":""},{"$f":"IF(Dados!D92=\"\",\"\",Dados!D92)","v":""},{"$f":"IF(Dados!E92=\"\",\"\",Dados!E92)","v":""},{"$f":"IF(Dados!F92=\"\",\"\",Dados!F92)","v":""},{"$f":"IF(Dados!G92=\"\",\"\",Dados!G92)","v":""},{"$error":"#VALUE!"},"",null,{"$error":"#VALUE!"},"",null,{"$error":"#VALUE!"},"",null,{"$error":"#VALUE!"},""]
[null,null,{"$f":"IF(Dados!C93=\"\",\"\",Dados!C93)","v":""},{"$f":"IF(Dados!D93=\"\",\"\",Dados!D93)","v":""},{"$f":"IF(Dados!E93=\"\",\"\",Dados!E93)","v":""},{"$f":"IF(Dados!F93=\"\",\"\",Dados!F93)","v":""},{"$f":"IF(Dados!G93=\"\",\"\",Dados!G93)","v":""},{"$error":"#VALUE!"},"",null,{"$error":"#VALUE!"},"",null,{"$error":"#VALUE!"},"",null,{"$error":"#VALUE!"},""]
[null,null,{"$f":"IF(Dados!C94=\"\",\"\",Dados!C94)","v":""},{"$f":"IF(Dados!D94=\"\",\"\",Dados!D94)","v":""},{"$f":"IF(Dados!E94=\"\",\"\",Dados!E94)","v":""},{"$f":"IF(Dados!F94=\"\",\"\",Dados!F94)","v":""},{"$f":"IF(Dados!G94=\"\",\"\",Dados!G94)","v":""},{"$error":"#VALUE!"},"",null,{"$error":"#VALUE!"},"",null,{"$error":"#VALUE!"},"",null,{"$error":"#VALUE!"},""]
[null,null,{"$f":"IF(Dados!C95=\"\",\"\",Dados!C95)","v":""},{"$f":"IF(Dados!D95=\"\",\"\",Dados!D95)","v":""},{"$f":"IF(Dados!E95=\"\",\"\",Dados!E95)","v":""},{"$f":"IF(Dados!F95=\"\",\"\",Dados!F95)","v":""},{"$f":"IF(Dados!G95=\"\",\"\",Dados!G95)","v":""},{"$error":"#VALUE!"},"",null,{"$error":"#VALUE!"},"",null,{"$error":"#VALUE!"},"",null,{"$error":"#VALUE!"},""]
[null,null,{"$f":"IF(Dados!C96=\"\",\"\",Dados!C96)","v":""},{"$f":"IF(Dados!D96=\"\",\"\",Dados!D96)","v":""},{"$f":"IF(Dados!E96=\"\",\"\",Dados!E96)","v":""},{"$f":"IF(Dados!F96=\"\",\"\",Dados!F96)","v":""},{"$f":"IF(Dados!G96=\"\",\"\",Dados!G96)","v":""},{"$error":"#VALUE!"},"",null,{"$error":"#VALUE!"},"",null,{"$error":"#VALUE!"},"",null,{"$error":"#VALUE!"},""]
[null,null,{"$f":"IF(Dados!C97=\"\",\"\",Dados!C97)","v":""},{"$f":"IF(Dados!D97=\"\",\"\",Dados!D97)","v":""},{"$f":"IF(Dados!E97=\"\",\"\",Dados!E97)","v":""},{"$f":"IF(Dados!F97=\"\",\"\",Dados!F97)","v":""},{"$f":"IF(Dados!G97=\"\",\"\",Dados!G97)","v":""},{"$error":"#VALUE!"},"",null,{"$error":"#VALUE!"},"",null,{"$error":"#VALUE!"},"",null,{"$error":"#VALUE!"},""]
[null,null,{"$f":"IF(Dados!C98=\"\",\"\",Dados!C98)","v":""},{"$f":"IF(Dados!D98=\"\",\"\",Dados!D98)","v":""},{"$f":"IF(Dados!E98=\"\",\"\",Dados!E98)","v":""},{"$f":"IF(Dados!F98=\"\",\"\",Dados!F98)","v":""},{"$f":"IF(Dados!G98=\"\",\"\",Dados!G98)","v":""},{"$error":"#VALUE!"},"",null,{"$error":"#VALUE!"},"",null,{"$error":"#VALUE!"},"",null,{"$error":"#VALUE!"},""]
[null,null,{"$f":"IF(Dados!C99=\"\",\"\",Dados!C99)","v":""},{"$f":"IF(Dados!D99=\"\",\"\",Dados!D99)","v":""},{"$f":"IF(Dados!E99=\"\",\"\",Dados!E99)","v":""},{"$f":"IF(Dados!F99=\"\",\"\",Dados!F99)","v":""},{"$f":"IF(Dados!G99=\"\",\"\",Dados!G99)","v":""},{"$error":"#VALUE!"},"",null,{"$error":"#VALUE!"},"",null,{"$error":"#VALUE!"},"",null,{"$error":"#VALUE!"},""]
[null,null,{"$f":"IF(Dados!C100=\"\",\"\",Dados!C100)","v":""},{"$f":"IF(Dados!D100=\"\",\"\",Dados!D100)","v":""},{"$f":"IF(Dados!E100=\"\",\"\",Dados!E100)","v":""},{"$f":"IF(Dados!F100=\"\",\"\",Dados!F100)","v":""},{"$f":"IF(Dados!G100=\"\",\"\",Dados!G100)","v":""},{"$error":"#VALUE!"},"",null,{"$error":"#VALUE!"},"",null,{"$error":"#VALUE!"},"",null,{"$error":"#VALUE!"},""]
[null,{"$f":"B91+1","v":10},{"$f":"IF(Dados!C101=\"\",\"\",Dados!C101)","v":""},{"$f":"IF(Dados!D101=\"\",\"\",Dados!D101)","v":""},{"$f":"IF(Dados!E101=\"\",\"\",Dados!E101)","v":""},{"$f":"IF(Dados!F101=\"\",\"\",Dados!F101)","v":""},{"$f":"IF(Dados!G101=\"\",\"\",Dados!G101)","v":""},{"$error":"#VALUE!"},"",{"$f":"SUM(I101:I110)","v":0},{"$error":"#VALUE!"},"",{"$f":"SUM(L101:L110)","v":0},{"$error":"#VALUE!"},"",{"$f":"SUM(O101:O110)","v":0},{"$error":"#VALUE!"},"",{"$f":"SUM(R101:R110)","v":0}]
[null,null,{"$f":"IF(Dados!C102=\"\",\"\",Dados!C102)","v":""},{"$f":"IF(Dados!D102=\"\",\"\",Dados!D102)","v":""},{"$f":"IF(Dados!E102=\"\",\"\",Dados!E102)","v":""},{"$f":"IF(Dados!F102=\"\",\"\",Dados!F102)","v":""},{"$f":"IF(Dados!G102=\"\",\"\",Dados!G102)","v":""},{"$error":"#VALUE!"},"",null,{"$error":"#VALUE!"},"",null,{"$error":"#VALUE!"},"",null,{"$error":"#VALUE!"},""]
[null,null,{"$f":"IF(Dados!C103=\"\",\"\",Dados!C103)","v":""},{"$f":"IF(Dados!D103=\"\",\"\",Dados!D103)","v":""},{"$f":"IF(Dados!E103=\"\",\"\",Dados!E103)","v":""},{"$f":"IF(Dados!F103=\"\",\"\",Dados!F103)","v":""},{"$f":"IF(Dados!G103=\"\",\"\",Dados!G103)","v":""},{"$error":"#VALUE!"},"",null,{"$error":"#VALUE!"},"",null,{"$error":"#VALUE!"},"",null,{"$error":"#VALUE!"},""]
[null,null,{"$f":"IF(Dados!C104=\"\",\"\",Dados!C104)","v":""},{"$f":"IF(Dados!D104=\"\",\"\",Dados!D104)","v":""},{"$f":"IF(Dados!E104=\"\",\"\",Dados!E104)","v":""},{"$f":"IF(Dados!F104=\"\",\"\",Dados!F104)","v":""},{"$f":"IF(Dados!G104=\"\",\"\",Dados!G104)","v":""},{"$error":"#VALUE!"},"",null,{"$error":"#VALUE!"},"",null,{"$error":"#VALUE!"},"",null,{"$error":"#VALUE!"},""]
[null,null,{"$f":"IF(Dados!C105=\"\",\"\",Dados!C105)","v":""},{"$f":"IF(Dados!D105=\"\",\"\",Dados!D105)","v":""},{"$f":"IF(Dados!E105=\"\",\"\",Dados!E105)","v":""},{"$f":"IF(Dados!F105=\"\",\"\",Dados!F105)","v":""},{"$f":"IF(Dados!G105=\"\",\"\",Dados!G105)","v":""},{"$error":"#VALUE!"},"",null,{"$error":"#VALUE!"},"",null,{"$error":"#VALUE!"},"",null,{"$error":"#VALUE!"},""]
[null,null,{"$f":"IF(Dados!C106=\"\",\"\",Dados!C106)","v":""},{"$f":"IF(Dados!D106=\"\",\"\",Dados!D106)","v":""},{"$f":"IF(Dados!E106=\"\",\"\",Dados!E106)","v":""},{"$f":"IF(Dados!F106=\"\",\"\",Dados!F106)","v":""},{"$f":"IF(Dados!G106=\"\",\"\",Dados!G106)","v":""},{"$error":"#VALUE!"},"",null,{"$error":"#VALUE!"},"",null,{"$error":"#VALUE!"},"",null,{"$error":"#VALUE!"},""]
[null,null,{"$f":"IF(Dados!C107=\"\",\"\",Dados!C107)","v":""},{"$f":"IF(Dados!D107=\"\",\"\",Dados!D107)","v":""},{"$f":"IF(Dados!E107=\"\",\"\",Dados!E107)","v":""},{"$f":"IF(Dados!F107=\"\",\"\",Dados!F107)","v":""},{"$f":"IF(Dados!G107=\"\",\"\",Dados!G107)","v":""},{"$error":"#VALUE!"},"",null,{"$error":"#VALUE!"},"",null,{"$error":"#VALUE!"},"",null,{"$error":"#VALUE!"},""]
[null,null,{"$f":"IF(Dados!C108=\"\",\"\",Dados!C108)","v":""},{"$f":"IF(Dados!D108=\"\",\"\",Dados!D108)","v":""},{"$f":"IF(Dados!E108=\"\",\"\",Dados!E108)","v":""},{"$f":"IF(Dados!F108=\"\",\"\",Dados!F108)","v":""},{"$f":"IF(Dados!G108=\"\",\"\",Dados!G108)","v":""},{"$error":"#VALUE!"},"",null,{"$error":"#VALUE!"},"",null,{"$error":"#VALUE!"},"",null,{"$error":"#VALUE!"},""]
[null,null,{"$f":"IF(Dados!C109=\"\",\"\",Dados!C109)","v":""},{"$f":"IF(Dados!D109=\"\",\"\",Dados!D109)","v":""},{"$f":"IF(Dados!E109=\"\",\"\",Dados!E109)","v":""},{"$f":"IF(Dados!F109=\"\",\"\",Dados!F109)","v":""},{"$f":"IF(Dados!G109=\"\",\"\",Dados!G109)","v":""},{"$error":"#VALUE!"},"",null,{"$error":"#VALUE!"},"",null,{"$error":"#VALUE!"},"",null,{"$error":"#VALUE!"},""]
[null,null,{"$f":"IF(Dados!C110=\"\",\"\",Dados!C110)","v":""},{"$f":"IF(Dados!D110=\"\",\"\",Dados!D110)","v":""},{"$f":"IF(Dados!E110=\"\",\"\",Dados!E110)","v":""},{"$f":"IF(Dados!F110=\"\",\"\",Dados!F110)","v":""},{"$f":"IF(Dados!G110=\"\",\"\",Dados!G110)","v":""},{"$error":"#VALUE!"},"",null,{"$error":"#VALUE!"},"",null,{"$error":"#VALUE!"},"",null,{"$error":"#VALUE!"},""]
[null,{"$f":"B101+1","v":11},{"$f":"IF(Dados!C111=\"\",\"\",Dados!C111)","v":""},{"$f":"IF(Dados!D111=\"\",\"\",Dados!D111)","v":""},{"$f":"IF(Dados!E111=\"\",\"\",Dados!E111)","v":""},{"$f":"IF(Dados!F111=\"\",\"\",Dados!F111)","v":""},{"$f":"IF(Dados!G111=\"\",\"\",Dados!G111)","v":""},{"$error":"#VALUE!"},"",{"$f":"SUM(I111:I120)","v":0},{"$error":"#VALUE!"},"",{"$f":"SUM(L111:L120)","v":0},{"$error":"#VALUE!"},"",{"$f":"SUM(O111:O120)","v":0},{"$error":"#VALUE!"},"",{"$f":"SUM(R111:R120)","v":0}]
[null,null,{"$f":"IF(Dados!C112=\"\",\"\",Dados!C112)","v":""},{"$f":"IF(Dados!D112=\"\",\"\",Dados!D112)","v":""},{"$f":"IF(Dados!E112=\"\",\"\",Dados!E112)","v":""},{"$f":"IF(Dados!F112=\"\",\"\",Dados!F112)","v":""},{"$f":"IF(Dados!G112=\"\",\"\",Dados!G112)","v":""},{"$error":"#VALUE!"},"",null,{"$error":"#VALUE!"},"",null,{"$error":"#VALUE!"},"",null,{"$error":"#VALUE!"},""]
[null,null,{"$f":"IF(Dados!C113=\"\",\"\",Dados!C113)","v":""},{"$f":"IF(Dados!D113=\"\",\"\",Dados!D113)","v":""},{"$f":"IF(Dados!E113=\"\",\"\",Dados!E113)","v":""},{"$f":"IF(Dados!F113=\"\",\"\",Dados!F113)","v":""},{"$f":"IF(Dados!G113=\"\",\"\",Dados!G113)","v":""},{"$error":"#VALUE!"},"",null,{"$error":"#VALUE!"},"",null,{"$error":"#VALUE!"},"",null,{"$error":"#VALUE!"},""]
[null,null,{"$f":"IF(Dados!C114=\"\",\"\",Dados!C114)","v":""},{"$f":"IF(Dados!D114=\"\",\"\",Dados!D114)","v":""},{"$f":"IF(Dados!E114=\"\",\"\",Dados!E114)","v":""},{"$f":"IF(Dados!F114=\"\",\"\",Dados!F114)","v":""},{"$f":"IF(Dados!G114=\"\",\"\",Dados!G114)","v":""},{"$error":"#VALUE!"},"",null,{"$error":"#VALUE!"},"",null,{"$error":"#VALUE!"},"",null,{"$error":"#VALUE!"},""]
[null,null,{"$f":"IF(Dados!C115=\"\",\"\",Dados!C115)","v":""},{"$f":"IF(Dados!D115=\"\",\"\",Dados!D115)","v":""},{"$f":"IF(Dados!E115=\"\",\"\",Dados!E115)","v":""},{"$f":"IF(Dados!F115=\"\",\"\",Dados!F115)","v":""},{"$f":"IF(Dados!G115=\"\",\"\",Dados!G115)","v":""},{"$error":"#VALUE!"},"",null,{"$error":"#VALUE!"},"",null,{"$error":"#VALUE!"},"",null,{"$error":"#VALUE!"},""]
[null,null,{"$f":"IF(Dados!C116=\"\",\"\",Dados!C116)","v":""},{"$f":"IF(Dados!D116=\"\",\"\",Dados!D116)","v":""},{"$f":"IF(Dados!E116=\"\",\"\",Dados!E116)","v":""},{"$f":"IF(Dados!F116=\"\",\"\",Dados!F116)","v":""},{"$f":"IF(Dados!G116=\"\",\"\",Dados!G116)","v":""},{"$error":"#VALUE!"},"",null,{"$error":"#VALUE!"},"",null,{"$error":"#VALUE!"},"",null,{"$error":"#VALUE!"},""]
[null,null,{"$f":"IF(Dados!C117=\"\",\"\",Dados!C117)","v":""},{"$f":"IF(Dados!D117=\"\",\"\",Dados!D117)","v":""},{"$f":"IF(Dados!E117=\"\",\"\",Dados!E117)","v":""},{"$f":"IF(Dados!F117=\"\",\"\",Dados!F117)","v":""},{"$f":"IF(Dados!G117=\"\",\"\",Dados!G117)","v":""},{"$error":"#VALUE!"},"",null,{"$error":"#VALUE!"},"",null,{"$error":"#VALUE!"},"",null,{"$error":"#VALUE!"},""]
[null,null,{"$f":"IF(Dados!C118=\"\",\"\",Dados!C118)","v":""},{"$f":"IF(Dados!D118=\"\",\"\",Dados!D118)","v":""},{"$f":"IF(Dados!E118=\"\",\"\",Dados!E118)","v":""},{"$f":"IF(Dados!F118=\"\",\"\",Dados!F118)","v":""},{"$f":"IF(Dados!G118=\"\",\"\",Dados!G118)","v":""},{"$error":"#VALUE!"},"",null,{"$error":"#VALUE!"},"",null,{"$error":"#VALUE!"},"",null,{"$error":"#VALUE!"},""]
[null,null,{"$f":"IF(Dados!C119=\"\",\"\",Dados!C119)","v":""},{"$f":"IF(Dados!D119=\"\",\"\",Dados!D119)","v":""},{"$f":"IF(Dados!E119=\"\",\"\",Dados!E119)","v":""},{"$f":"IF(Dados!F119=\"\",\"\",Dados!F119)","v":""},{"$f":"IF(Dados!G119=\"\",\"\",Dados!G119)","v":""},{"$error":"#VALUE!"},"",null,{"$error":"#VALUE!"},"",null,{"$error":"#VALUE!"},"",null,{"$error":"#VALUE!"},""]
[null,null,{"$f":"IF(Dados!C120=\"\",\"\",Dados!C120)","v":""},{"$f":"IF(Dados!D120=\"\",\"\",Dados!D120)","v":""},{"$f":"IF(Dados!E120=\"\",\"\",Dados!E120)","v":""},{"$f":"IF(Dados!F120=\"\",\"\",Dados!F120)","v":""},{"$f":"IF(Dados!G120=\"\",\"\",Dados!G120)","v":""},{"$error":"#VALUE!"},"",null,{"$error":"#VALUE!"},"",null,{"$error":"#VALUE!"},"",null,{"$error":"#VALUE!"},""]
[null,{"$f":"B111+1","v":12},{"$f":"IF(Dados!C121=\"\",\"\",Dados!C121)","v":""},{"$f":"IF(Dados!D121=\"\",\"\",Dados!D121)","v":""},{"$f":"IF(Dados!E121=\"\",\"\",Dados!E121)","v":""},{"$f":"IF(Dados!F121=\"\",\"\",Dados!F121)","v":""},{"$f":"IF(Dados!G121=\"\",\"\",Dados!G121)","v":""},{"$error":"#VALUE!"},"",{"$f":"SUM(I121:I130)","v":0},{"$error":"#VALUE!"},"",{"$f":"SUM(L121:L130)","v":0},{"$error":"#VALUE!"},"",{"$f":"SUM(O121:O130)","v":0},{"$error":"#VALUE!"},"",{"$f":"SUM(R121:R130)","v":0}]
[null,null,{"$f":"IF(Dados!C122=\"\",\"\",Dados!C122)","v":""},{"$f":"IF(Dados!D122=\"\",\"\",Dados!D122)","v":""},{"$f":"IF(Dados!E122=\"\",\"\",Dados!E122)","v":""},{"$f":"IF(Dados!F122=\"\",\"\",Dados!F122)","v":""},{"$f":"IF(Dados!G122=\"\",\"\",Dados!G122)","v":""},{"$error":"#VALUE!"},"",null,{"$error":"#VALUE!"},"",null,{"$error":"#VALUE!"},"",null,{"$error":"#VALUE!"},""]
[null,null,{"$f":"IF(Dados!C123=\"\",\"\",Dados!C123)","v":""},{"$f":"IF(Dados!D123=\"\",\"\",Dados!D123)","v":""},{"$f":"IF(Dados!E123=\"\",\"\",Dados!E123)","v":""},{"$f":"IF(Dados!F123=\"\",\"\",Dados!F123)","v":""},{"$f":"IF(Dados!G123=\"\",\"\",Dados!G123)","v":""},{"$error":"#VALUE!"},"",null,{"$error":"#VALUE!"},"",null,{"$error":"#VALUE!"},"",null,{"$error":"#VALUE!"},""]
[null,null,{"$f":"IF(Dados!C124=\"\",\"\",Dados!C124)","v":""},{"$f":"IF(Dados!D124=\"\",\"\",Dados!D124)","v":""},{"$f":"IF(Dados!E124=\"\",\"\",Dados!E124)","v":""},{"$f":"IF(Dados!F124=\"\",\"\",Dados!F124)","v":""},{"$f":"IF(Dados!G124=\"\",\"\",Dados!G124)","v":""},{"$error":"#VALUE!"},"",null,{"$error":"#VALUE!"},"",null,{"$error":"#VALUE!"},"",null,{"$error":"#VALUE!"},""]
[null,null,{"$f":"IF(Dados!C125=\"\",\"\",Dados!C125)","v":""},{"$f":"IF(Dados!D125=\"\",\"\",Dados!D125)","v":""},{"$f":"IF(Dados!E125=\"\",\"\",Dados!E125)","v":""},{"$f":"IF(Dados!F125=\"\",\"\",Dados!F125)","v":""},{"$f":"IF(Dados!G125=\"\",\"\",Dados!G125)","v":""},{"$error":"#VALUE!"},"",null,{"$error":"#VALUE!"},"",null,{"$error":"#VALUE!"},"",null,{"$error":"#VALUE!"},""]
[null,null,{"$f":"IF(Dados!C126=\"\",\"\",Dados!C126)","v":""},{"$f":"IF(Dados!D126=\"\",\"\",Dados!D126)","v":""},{"$f":"IF(Dados!E126=\"\",\"\",Dados!E126)","v":""},{"$f":"IF(Dados!F126=\"\",\"\",Dados!F126)","v":""},{"$f":"IF(Dados!G126=\"\",\"\",Dados!G126)","v":""},{"$error":"#VALUE!"},"",null,{"$error":"#VALUE!"},"",null,{"$error":"#VALUE!"},"",null,{"$error":"#VALUE!"},""]
[null,null,{"$f":"IF(Dados!C127=\"\",\"\",Dados!C127)","v":""},{"$f":"IF(Dados!D127=\"\",\"\",Dados!D127)","v":""},{"$f":"IF(Dados!E127=\"\",\"\",Dados!E127)","v":""},{"$f":"IF(Dados!F127=\"\",\"\",Dados!F127)","v":""},{"$f":"IF(Dados!G127=\"\",\"\",Dados!G127)","v":""},{"$error":"#VALUE!"},"",null,{"$error":"#VALUE!"},"",null,{"$error":"#VALUE!"},"",null,{"$error":"#VALUE!"},""]
[null,null,{"$f":"IF(Dados!C128=\"\",\"\",Dados!C128)","v":""},{"$f":"IF(Dados!D128=\"\",\"\",Dados!D128)","v":""},{"$f":"IF(Dados!E128=\"\",\"\",Dados!E128)","v":""},{"$f":"IF(Dados!F128=\"\",\"\",Dados!F128)","v":""},{"$f":"IF(Dados!G128=\"\",\"\",Dados!G128)","v":""},{"$error":"#VALUE!"},"",null,{"$error":"#VALUE!"},"",null,{"$error":"#VALUE!"},"",null,{"$error":"#VALUE!"},""]
[null,null,{"$f":"IF(Dados!C129=\"\",\"\",Dados!C129)","v":""},{"$f":"IF(Dados!D129=\"\",\"\",Dados!D129)","v":""},{"$f":"IF(Dados!E129=\"\",\"\",Dados!E129)","v":""},{"$f":"IF(Dados!F129=\"\",\"\",Dados!F129)","v":""},{"$f":"IF(Dados!G129=\"\",\"\",Dados!G129)","v":""},{"$error":"#VALUE!"},"",null,{"$error":"#VALUE!"},"",null,{"$error":"#VALUE!"},"",null,{"$error":"#VALUE!"},""]
[null,null,{"$f":"IF(Dados!C130=\"\",\"\",Dados!C130)","v":""},{"$f":"IF(Dados!D130=\"\",\"\",Dados!D130)","v":""},{"$f":"IF(Dados!E130=\"\",\"\",Dados!E130)","v":""},{"$f":"IF(Dados!F130=\"\",\"\",Dados!F130)","v":""},{"$f":"IF(Dados!G130=\"\",\"\",Dados!G130)","v":""},{"$error":"#VALUE!"},"",null,{"$error":"#VALUE!"},"",null,{"$error":"#VALUE!"},"",null,{"$error":"#VALUE!"},""]
[null,{"$f":"B121+1","v":13},{"$f":"IF(Dados!C131=\"\",\"\",Dados!C131)","v":""},{"$f":"IF(Dados!D131=\"\",\"\",Dados!D131)","v":""},{"$f":"IF(Dados!E131=\"\",\"\",Dados!E131)","v":""},{"$f":"IF(Dados!F131=\"\",\"\",Dados!F131)","v":""},{"$f":"IF(Dados!G131=\"\",\"\",Dados!G131)","v":""},{"$error":"#VALUE!"},"",{"$f":"SUM(I131:I140)","v":0},{"$error":"#VALUE!"},"",{"$f":"SUM(L131:L140)","v":0},{"$error":"#VALUE!"},"",{"$f":"SUM(O131:O140)","v":0},{"$error":"#VALUE!"},"",{"$f":"SUM(R131:R140)","v":0}]
[null,null,{"$f":"IF(Dados!C132=\"\",\"\",Dados!C132)","v":""},{"$f":"IF(Dados!D132=\"\",\"\",Dados!D132)","v":""},{"$f":"IF(Dados!E132=\"\",\"\",Dados!E132)","v":""},{"$f":"IF(Dados!F132=\"\",\"\",Dados!F132)","v":""},{"$f":"IF(Dados!G132=\"\",\"\",Dados!G132)","v":""},{"$error":"#VALUE!"},"",null,{"$error":"#VALUE!"},"",null,{"$error":"#VALUE!"},"",null,{"$error":"#VALUE!"},""]
[null,null,{"$f":"IF(Dados!C133=\"\",\"\",Dados!C133)","v":""},{"$f":"IF(Dados!D133=\"\",\"\",Dados!D133)","v":""},{"$f":"IF(Dados!E133=\"\",\"\",Dados!E133)","v":""},{"$f":"IF(Dados!F133=\"\",\"\",Dados!F133)","v":""},{"$f":"IF(Dados!G133=\"\",\"\",Dados!G133)","v":""},{"$error":"#VALUE!"},"",null,{"$error":"#VALUE!"},"",null,{"$error":"#VALUE!"},"",null,{"$error":"#VALUE!"},""]
[null,null,{"$f":"IF(Dados!C134=\"\",\"\",Dados!C134)","v":""},{"$f":"IF(Dados!D134=\"\",\"\",Dados!D134)","v":""},{"$f":"IF(Dados!E134=\"\",\"\",Dados!E134)","v":""},{"$f":"IF(Dados!F134=\"\",\"\",Dados!F134)","v":""},{"$f":"IF(Dados!G134=\"\",\"\",Dados!G134)","v":""},{"$error":"#VALUE!"},"",null,{"$error":"#VALUE!"},"",null,{"$error":"#VALUE!"},"",null,{"$error":"#VALUE!"},""]
[null,null,{"$f":"IF(Dados!C135=\"\",\"\",Dados!C135)","v":""},{"$f":"IF(Dados!D135=\"\",\"\",Dados!D135)","v":""},{"$f":"IF(Dados!E135=\"\",\"\",Dados!E135)","v":""},{"$f":"IF(Dados!F135=\"\",\"\",Dados!F135)","v":""},{"$f":"IF(Dados!G135=\"\",\"\",Dados!G135)","v":""},{"$error":"#VALUE!"},"",null,{"$error":"#VALUE!"},"",null,{"$error":"#VALUE!"},"",null,{"$error":"#VALUE!"},""]
[null,null,{"$f":"IF(Dados!C136=\"\",\"\",Dados!C136)","v":""},{"$f":"IF(Dados!D136=\"\",\"\",Dados!D136)","v":""},{"$f":"IF(Dados!E136=\"\",\"\",Dados!E136)","v":""},{"$f":"IF(Dados!F136=\"\",\"\",Dados!F136)","v":""},{"$f":"IF(Dados!G136=\"\",\"\",Dados!G136)","v":""},{"$error":"#VALUE!"},"",null,{"$error":"#VALUE!"},"",null,{"$error":"#VALUE!"},"",null,{"$error":"#VALUE!"},""]
[null,null,{"$f":"IF(Dados!C137=\"\",\"\",Dados!C137)","v":""},{"$f":"IF(Dados!D137=\"\",\"\",Dados!D137)","v":""},{"$f":"IF(Dados!E137=\"\",\"\",Dados!E137)","v":""},{"$f":"IF(Dados!F137=\"\",\"\",Dados!F137)","v":""},{"$f":"IF(Dados!G137=\"\",\"\",Dados!G137)","v":""},{"$error":"#VALUE!"},"",null,{"$error":"#VALUE!"},"",null,{"$error":"#VALUE!"},"",null,{"$error":"#VALUE!"},""]
[null,null,{"$f":"IF(Dados!C138=\"\",\"\",Dados!C138)","v":""},{"$f":"IF(Dados!D138=\"\",\"\",Dados!D138)","v":""},{"$f":"IF(Dados!E138=\"\",\"\",Dados!E138)","v":""},{"$f":"IF(Dados!F138=\"\",\"\",Dados!F138)","v":""},{"$f":"IF(Dados!G138=\"\",\"\",Dados!G138)","v":""},{"$error":"#VALUE!"},"",null,{"$error":"#VALUE!"},"",null,{"$error":"#VALUE!"},"",null,{"$error":"#VALUE!"},""]
[null,null,{"$f":"IF(Dados!C139=\"\",\"\",Dados!C139)","v":""},{"$f":"IF(Dados!D139=\"\",\"\",Dados!D139)","v":""},{"$f":"IF(Dados!E139=\"\",\"\",Dados!E139)","v":""},{"$f":"IF(Dados!F139=\"\",\"\",Dados!F139)","v":""},{"$f":"IF(Dados!G139=\"\",\"\",Dados!G139)","v":""},{"$f":"($G139*ChIR*ChEF*ChED)/(ChBW*ChATnc)","v":{"$error":"#VALUE!"}},{"$f":"IFERROR((H139)/(VLOOKUP($F139,intervaloHQ,2,0)),\"\")","v":""},null,{"$f":"($G139*AdIR*AdEF*AdED)/(AdBW*AdATnc)","v":{"$error":"#VALUE!"}},{"$f":"IFERROR((K139)/(VLOOKUP($F139,intervaloHQ,2,0)),\"\")","v":""},null,{"$f":"($G139*ChIR*ChEF*ChED)/(ChBW*ChATc)","v":{"$error":"#VALUE!"}},{"$f":"IFERROR((N139)*(VLOOKUP($F139,intervaloHQ,4,0)),\"\")","v":""},null,{"$f":"($G139*AdIR*AdEF*AdED)/(AdBW*AdATc)","v":{"$error":"#VALUE!"}},{"$f":"IFERROR((Q139)*(VLOOKUP($F139,intervaloHQ,4,0)),\"\")","v":""}]
[null,null,{"$f":"IF(Dados!C140=\"\",\"\",Dados!C140)","v":""},{"$f":"IF(Dados!D140=\"\",\"\",Dados!D140)","v":""},{"$f":"IF(Dados!E140=\"\",\"\",Dados!E140)","v":""},{"$f":"IF(Dados!F140=\"\",\"\",Dados!F140)","v":""},{"$f":"IF(Dados!G140=\"\",\"\",Dados!G140)","v":""},{"$error":"#VALUE!"},"",null,{"$error":"#VALUE!"},"",null,{"$error":"#VALUE!"},"",null,{"$error":"#VALUE!"},""]
[null,{"$f":"B131+1","v":14},{"$f":"IF(Dados!C141=\"\",\"\",Dados!C141)","v":""},{"$f":"IF(Dados!D141=\"\",\"\",Dados!D141)","v":""},{"$f":"IF(Dados!E141=\"\",\"\",Dados!E141)","v":""},{"$f":"IF(Dados!F141=\"\",\"\",Dados!F141)","v":""},{"$f":"IF(Dados!G141=\"\",\"\",Dados!G141)","v":""},{"$error":"#VALUE!"},"",{"$f":"SUM(I141:I150)","v":0},{"$error":"#VALUE!"},"",{"$f":"SUM(L141:L150)","v":0},{"$error":"#VALUE!"},"",{"$f":"SUM(O141:O150)","v":0},{"$error":"#VALUE!"},"",{"$f":"SUM(R141:R150)","v":0}]
[null,null,{"$f":"IF(Dados!C142=\"\",\"\",Dados!C142)","v":""},{"$f":"IF(Dados!D142=\"\",\"\",Dados!D142)","v":""},{"$f":"IF(Dados!E142=\"\",\"\",Dados!E142)","v":""},{"$f":"IF(Dados!F142=\"\",\"\",Dados!F142)","v":""},{"$f":"IF(Dados!G142=\"\",\"\",Dados!G142)","v":""},{"$error":"#VALUE!"},"",null,{"$error":"#VALUE!"},"",null,{"$error":"#VALUE!"},"",null,{"$error":"#VALUE!"},""]
[null,null,{"$f":"IF(Dados!C143=\"\",\"\",Dados!C143)","v":""},{"$f":"IF(Dados!D143=\"\",\"\",Dados!D143)","v":""},{"$f":"IF(Dados!E143=\"\",\"\",Dados!E143)","v":""},{"$f":"IF(Dados!F143=\"\",\"\",Dados!F143)","v":""},{"$f":"IF(Dados!G143=\"\",\"\",Dados!G143)","v":""},{"$error":"#VALUE!"},"",null,{"$error":"#VALUE!"},"",null,{"$error":"#VALUE!"},"",null,{"$error":"#VALUE!"},""]
[null,null,{"$f":"IF(Dados!C144=\"\",\"\",Dados!C144)","v":""},{"$f":"IF(Dados!D144=\"\",\"\",Dados!D144)","v":""},{"$f":"IF(Dados!E144=\"\",\"\",Dados!E144)","v":""},{"$f":"IF(Dados!F144=\"\",\"\",Dados!F144)","v":""},{"$f":"IF(Dados!G144=\"\",\"\",Dados!G144)","v":""},{"$error":"#VALUE!"},"",null,{"$error":"#VALUE!"},"",null,{"$error":"#VALUE!"},"",null,{"$error":"#VALUE!"},""]
[null,null,{"$f":"IF(Dados!C145=\"\",\"\",Dados!C145)","v":""},{"$f":"IF(Dados!D145=\"\",\"\",Dados!D145)","v":""},{"$f":"IF(Dados!E145=\"\",\"\",Dados!E145)","v":""},{"$f":"IF(Dados!F145=\"\",\"\",Dados!F145)","v":""},{"$f":"IF(Dados!G145=\"\",\"\",Dados!G145)","v":""},{"$error":"#VALUE!"},"",null,{"$error":"#VALUE!"},"",null,{"$error":"#VALUE!"},"",null,{"$error":"#VALUE!"},""]
[null,null,{"$f":"IF(Dados!C146=\"\",\"\",Dados!C146)","v":""},{"$f":"IF(Dados!D146=\"\",\"\",Dados!D146)","v":""},{"$f":"IF(Dados!E146=\"\",\"\",Dados!E146)","v":""},{"$f":"IF(Dados!F146=\"\",\"\",Dados!F146)","v":""},{"$f":"IF(Dados!G146=\"\",\"\",Dados!G146)","v":""},{"$error":"#VALUE!"},"",null,{"$error":"#VALUE!"},"",null,{"$error":"#VALUE!"},"",null,{"$error":"#VALUE!"},""]
[null,null,{"$f":"IF(Dados!C147=\"\",\"\",Dados!C147)","v":""},{"$f":"IF(Dados!D147=\"\",\"\",Dados!D147)","v":""},{"$f":"IF(Dados!E147=\"\",\"\",Dados!E147)","v":""},{"$f":"IF(Dados!F147=\"\",\"\",Dados!F147)","v":""},{"$f":"IF(Dados!G147=\"\",\"\",Dados!G147)","v":""},{"$error":"#VALUE!"},"",null,{"$error":"#VALUE!"},"",null,{"$error":"#VALUE!"},"",null,{"$error":"#VALUE!"},""]
[null,null,{"$f":"IF(Dados!C148=\"\",\"\",Dados!C148)","v":""},{"$f":"IF(Dados!D148=\"\",\"\",Dados!D148)","v":""},{"$f":"IF(Dados!E148=\"\",\"\",Dados!E148)","v":""},{"$f":"IF(Dados!F148=\"\",\"\",Dados!F148)","v":""},{"$f":"IF(Dados!G148=\"\",\"\",Dados!G148)","v":""},{"$error":"#VALUE!"},"",null,{"$error":"#VALUE!"},"",null,{"$error":"#VALUE!"},"",null,{"$error":"#VALUE!"},""]
[null,null,{"$f":"IF(Dados!C149=\"\",\"\",Dados!C149)","v":""},{"$f":"IF(Dados!D149=\"\",\"\",Dados!D149)","v":""},{"$f":"IF(Dados!E149=\"\",\"\",Dados!E149)","v":""},{"$f":"IF(Dados!F149=\"\",\"\",Dados!F149)","v":""},{"$f":"IF(Dados!G149=\"\",\"\",Dados!G149)","v":""},{"$error":"#VALUE!"},"",null,{"$error":"#VALUE!"},"",null,{"$error":"#VALUE!"},"",null,{"$error":"#VALUE!"},""]
[null,null,{"$f":"IF(Dados!C150=\"\",\"\",Dados!C150)","v":""},{"$f":"IF(Dados!D150=\"\",\"\",Dados!D150)","v":""},{"$f":"IF(Dados!E150=\"\",\"\",Dados!E150)","v":""},{"$f":"IF(Dados!F150=\"\",\"\",Dados!F150)","v":""},{"$f":"IF(Dados!G150=\"\",\"\",Dados!G150)","v":""},{"$error":"#VALUE!"},"",null,{"$error":"#VALUE!"},"",null,{"$error":"#VALUE!"},"",null,{"$error":"#VALUE!"},""]
[null,{"$f":"B141+1","v":15},{"$f":"IF(Dados!C151=\"\",\"\",Dados!C151)","v":""},{"$f":"IF(Dados!D151=\"\",\"\",Dados!D151)","v":""},{"$f":"IF(Dados!E151=\"\",\"\",Dados!E151)","v":""},{"$f":"IF(Dados!F151=\"\",\"\",Dados!F151)","v":""},{"$f":"IF(Dados!G151=\"\",\"\",Dados!G151)","v":""},{"$error":"#VALUE!"},"",{"$f":"SUM(I151:I160)","v":0},{"$error":"#VALUE!"},"",{"$f":"SUM(L151:L160)","v":0},{"$error":"#VALUE!"},"",{"$f":"SUM(O151:O160)","v":0},{"$error":"#VALUE!"},"",{"$f":"SUM(R151:R160)","v":0}]
[null,null,{"$f":"IF(Dados!C152=\"\",\"\",Dados!C152)","v":""},{"$f":"IF(Dados!D152=\"\",\"\",Dados!D152)","v":""},{"$f":"IF(Dados!E152=\"\",\"\",Dados!E152)","v":""},{"$f":"IF(Dados!F152=\"\",\"\",Dados!F152)","v":""},{"$f":"IF(Dados!G152=\"\",\"\",Dados!G152)","v":""},{"$error":"#VALUE!"},"",null,{"$error":"#VALUE!"},"",null,{"$error":"#VALUE!"},"",null,{"$error":"#VALUE!"},""]
[null,null,{"$f":"IF(Dados!C153=\"\",\"\",Dados!C153)","v":""},{"$f":"IF(Dados!D153=\"\",\"\",Dados!D153)","v":""},{"$f":"IF(Dados!E153=\"\",\"\",Dados!E153)","v":""},{"$f":"IF(Dados!F153=\"\",\"\",Dados!F153)","v":""},{"$f":"IF(Dados!G153=\"\",\"\",Dados!G153)","v":""},{"$error":"#VALUE!"},"",null,{"$error":"#VALUE!"},"",null,{"$error":"#VALUE!"},"",null,{"$error":"#VALUE!"},""]
[null,null,{"$f":"IF(Dados!C154=\"\",\"\",Dados!C154)","v":""},{"$f":"IF(Dados!D154=\"\",\"\",Dados!D154)","v":""},{"$f":"IF(Dados!E154=\"\",\"\",Dados!E154)","v":""},{"$f":"IF(Dados!F154=\"\",\"\",Dados!F154)","v":""},{"$f":"IF(Dados!G154=\"\",\"\",Dados!G154)","v":""},{"$error":"#VALUE!"},"",null,{"$error":"#VALUE!"},"",null,{"$error":"#VALUE!"},"",null,{"$error":"#VALUE!"},""]
[null,null,{"$f":"IF(Dados!C155=\"\",\"\",Dados!C155)","v":""},{"$f":"IF(Dados!D155=\"\",\"\",Dados!D155)","v":""},{"$f":"IF(Dados!E155=\"\",\"\",Dados!E155)","v":""},{"$f":"IF(Dados!F155=\"\",\"\",Dados!F155)","v":""},{"$f":"IF(Dados!G155=\"\",\"\",Dados!G155)","v":""},{"$error":"#VALUE!"},"",null,{"$error":"#VALUE!"},"",null,{"$error":"#VALUE!"},"",null,{"$error":"#VALUE!"},""]
[null,null,{"$f":"IF(Dados!C156=\"\",\"\",Dados!C156)","v":""},{"$f":"IF(Dados!D156=\"\",\"\",Dados!D156)","v":""},{"$f":"IF(Dados!E156=\"\",\"\",Dados!E156)","v":""},{"$f":"IF(Dados!F156=\"\",\"\",Dados!F156)","v":""},{"$f":"IF(Dados!G156=\"\",\"\",Dados!G156)","v":""},{"$error":"#VALUE!"},"",null,{"$error":"#VALUE!"},"",null,{"$error":"#VALUE!"},"",null,{"$error":"#VALUE!"},""]
[null,null,{"$f":"IF(Dados!C157=\"\",\"\",Dados!C157)","v":""},{"$f":"IF(Dados!D157=\"\",\"\",Dados!D157)","v":""},{"$f":"IF(Dados!E157=\"\",\"\",Dados!E157)","v":""},{"$f":"IF(Dados!F157=\"\",\"\",Dados!F157)","v":""},{"$f":"IF(Dados!G157=\"\",\"\",Dados!G157)","v":""},{"$error":"#VALUE!"},"",null,{"$error":"#VALUE!"},"",null,{"$error":"#VALUE!"},"",null,{"$error":"#VALUE!"},""]
[null,null,{"$f":"IF(Dados!C158=\"\",\"\",Dados!C158)","v":""},{"$f":"IF(Dados!D158=\"\",\"\",Dados!D158)","v":""},{"$f":"IF(Dados!E158=\"\",\"\",Dados!E158)","v":""},{"$f":"IF(Dados!F158=\"\",\"\",Dados!F158)","v":""},{"$f":"IF(Dados!G158=\"\",\"\",Dados!G158)","v":""},{"$error":"#VALUE!"},"",null,{"$error":"#VALUE!"},"",null,{"$error":"#VALUE!"},"",null,{"$error":"#VALUE!"},""]
[null,null,{"$f":"IF(Dados!C159=\"\",\"\",Dados!C159)","v":""},{"$f":"IF(Dados!D159=\"\",\"\",Dados!D159)","v":""},{"$f":"IF(Dados!E159=\"\",\"\",Dados!E159)","v":""},{"$f":"IF(Dados!F159=\"\",\"\",Dados!F159)","v":""},{"$f":"IF(Dados!G159=\"\",\"\",Dados!G159)","v":""},{"$error":"#VALUE!"},"",null,{"$error":"#VALUE!"},"",null,{"$error":"#VALUE!"},"",null,{"$error":"#VALUE!"},""]
[null,null,{"$f":"IF(Dados!C160=\"\",\"\",Dados!C160)","v":""},{"$f":"IF(Dados!D160=\"\",\"\",Dados!D160)","v":""},{"$f":"IF(Dados!E160=\"\",\"\",Dados!E160)","v":""},{"$f":"IF(Dados!F160=\"\",\"\",Dados!F160)","v":""},{"$f":"IF(Dados!G160=\"\",\"\",Dados!G160)","v":""},{"$error":"#VALUE!"},"",null,{"$error":"#VALUE!"},"",null,{"$error":"#VALUE!"},"",null,{"$error":"#VALUE!"},""]
[null,{"$f":"B151+1","v":16},{"$f":"IF(Dados!C161=\"\",\"\",Dados!C161)","v":""},{"$f":"IF(Dados!D161=\"\",\"\",Dados!D161)","v":""},{"$f":"IF(Dados!E161=\"\",\"\",Dados!E161)","v":""},{"$f":"IF(Dados!F161=\"\",\"\",Dados!F161)","v":""},{"$f":"IF(Dados!G161=\"\",\"\",Dados!G161)","v":""},{"$error":"#VALUE!"},"",{"$f":"SUM(I161:I170)","v":0},{"$error":"#VALUE!"},"",{"$f":"SUM(L161:L170)","v":0},{"$error":"#VALUE!"},"",{"$f":"SUM(O161:O170)","v":0},{"$error":"#VALUE!"},"",{"$f":"SUM(R161:R170)","v":0}]
[null,null,{"$f":"IF(Dados!C162=\"\",\"\",Dados!C162)","v":""},{"$f":"IF(Dados!D162=\"\",\"\",Dados!D162)","v":""},{"$f":"IF(Dados!E162=\"\",\"\",Dados!E162)","v":""},{"$f":"IF(Dados!F162=\"\",\"\",Dados!F162)","v":""},{"$f":"IF(Dados!G162=\"\",\"\",Dados!G162)","v":""},{"$error":"#VALUE!"},"",null,{"$error":"#VALUE!"},"",null,{"$error":"#VALUE!"},"",null,{"$error":"#VALUE!"},""]
[null,null,{"$f":"IF(Dados!C163=\"\",\"\",Dados!C163)","v":""},{"$f":"IF(Dados!D163=\"\",\"\",Dados!D163)","v":""},{"$f":"IF(Dados!E163=\"\",\"\",Dados!E163)","v":""},{"$f":"IF(Dados!F163=\"\",\"\",Dados!F163)","v":""},{"$f":"IF(Dados!G163=\"\",\"\",Dados!G163)","v":""},{"$error":"#VALUE!"},"",null,{"$error":"#VALUE!"},"",null,{"$error":"#VALUE!"},"",null,{"$error":"#VALUE!"},""]
[null,null,{"$f":"IF(Dados!C164=\"\",\"\",Dados!C164)","v":""},{"$f":"IF(Dados!D164=\"\",\"\",Dados!D164)","v":""},{"$f":"IF(Dados!E164=\"\",\"\",Dados!E164)","v":""},{"$f":"IF(Dados!F164=\"\",\"\",Dados!F164)","v":""},{"$f":"IF(Dados!G164=\"\",\"\",Dados!G164)","v":""},{"$error":"#VALUE!"},"",null,{"$error":"#VALUE!"},"",null,{"$error":"#VALUE!"},"",null,{"$error":"#VALUE!"},""]
[null,null,{"$f":"IF(Dados!C165=\"\",\"\",Dados!C165)","v":""},{"$f":"IF(Dados!D165=\"\",\"\",Dados!D165)","v":""},{"$f":"IF(Dados!E165=\"\",\"\",Dados!E165)","v":""},{"$f":"IF(Dados!F165=\"\",\"\",Dados!F165)","v":""},{"$f":"IF(Dados!G165=\"\",\"\",Dados!G165)","v":""},{"$error":"#VALUE!"},"",null,{"$error":"#VALUE!"},"",null,{"$error":"#VALUE!"},"",null,{"$error":"#VALUE!"},""]
[null,null,{"$f":"IF(Dados!C166=\"\",\"\",Dados!C166)","v":""},{"$f":"IF(Dados!D166=\"\",\"\",Dados!D166)","v":""},{"$f":"IF(Dados!E166=\"\",\"\",Dados!E166)","v":""},{"$f":"IF(Dados!F166=\"\",\"\",Dados!F166)","v":""},{"$f":"IF(Dados!G166=\"\",\"\",Dados!G166)","v":""},{"$error":"#VALUE!"},"",null,{"$error":"#VALUE!"},"",null,{"$error":"#VALUE!"},"",null,{"$error":"#VALUE!"},""]
[null,null,{"$f":"IF(Dados!C167=\"\",\"\",Dados!C167)","v":""},{"$f":"IF(Dados!D167=\"\",\"\",Dados!D167)","v":""},{"$f":"IF(Dados!E167=\"\",\"\",Dados!E167)","v":""},{"$f":"IF(Dados!F167=\"\",\"\",Dados!F167)","v":""},{"$f":"IF(Dados!G167=\"\",\"\",Dados!G167)","v":""},{"$error":"#VALUE!"},"",null,{"$error":"#VALUE!"},"",null,{"$error":"#VALUE!"},"",null,{"$error":"#VALUE!"},""]
[null,null,{"$f":"IF(Dados!C168=\"\",\"\",Dados!C168)","v":""},{"$f":"IF(Dados!D168=\"\",\"\",Dados!D168)","v":""},{"$f":"IF(Dados!E168=\"\",\"\",Dados!E168)","v":""},{"$f":"IF(Dados!F168=\"\",\"\",Dados!F168)","v":""},{"$f":"IF(Dados!G168=\"\",\"\",Dados!G168)","v":""},{"$error":"#VALUE!"},"",null,{"$error":"#VALUE!"},"",null,{"$error":"#VALUE!"},"",null,{"$error":"#VALUE!"},""]
[null,null,{"$f":"IF(Dados!C169=\"\",\"\",Dados!C169)","v":""},{"$f":"IF(Dados!D169=\"\",\"\",Dados!D169)","v":""},{"$f":"IF(Dados!E169=\"\",\"\",Dados!E169)","v":""},{"$f":"IF(Dados!F169=\"\",\"\",Dados!F169)","v":""},{"$f":"IF(Dados!G169=\"\",\"\",Dados!G169)","v":""},{"$error":"#VALUE!"},"",null,{"$error":"#VALUE!"},"",null,{"$error":"#VALUE!"},"",null,{"$error":"#VALUE!"},""]
[null,null,{"$f":"IF(Dados!C170=\"\",\"\",Dados!C170)","v":""},{"$f":"IF(Dados!D170=\"\",\"\",Dados!D170)","v":""},{"$f":"IF(Dados!E170=\"\",\"\",Dados!E170)","v":""},{"$f":"IF(Dados!F170=\"\",\"\",Dados!F170)","v":""},{"$f":"IF(Dados!G170=\"\",\"\",Dados!G170)","v":""},{"$error":"#VALUE!"},"",null,{"$error":"#VALUE!"},"",null,{"$error":"#VALUE!"},"",null,{"$error":"#VALUE!"},""]
[null,{"$f":"B161+1","v":17},{"$f":"IF(Dados!C171=\"\",\"\",Dados!C171)","v":""},{"$f":"IF(Dados!D171=\"\",\"\",Dados!D171)","v":""},{"$f":"IF(Dados!E171=\"\",\"\",Dados!E171)","v":""},{"$f":"IF(Dados!F171=\"\",\"\",Dados!F171)","v":""},{"$f":"IF(Dados!G171=\"\",\"\",Dados!G171)","v":""},{"$error":"#VALUE!"},"",{"$f":"SUM(I171:I180)","v":0},{"$error":"#VALUE!"},"",{"$f":"SUM(L171:L180)","v":0},{"$error":"#VALUE!"},"",{"$f":"SUM(O171:O180)","v":0},{"$error":"#VALUE!"},"",{"$f":"SUM(R171:R180)","v":0}]
[null,null,{"$f":"IF(Dados!C172=\"\",\"\",Dados!C172)","v":""},{"$f":"IF(Dados!D172=\"\",\"\",Dados!D172)","v":""},{"$f":"IF(Dados!E172=\"\",\"\",Dados!E172)","v":""},{"$f":"IF(Dados!F172=\"\",\"\",Dados!F172)","v":""},{"$f":"IF(Dados!G172=\"\",\"\",Dados!G172)","v":""},{"$error":"#VALUE!"},"",null,{"$error":"#VALUE!"},"",null,{"$error":"#VALUE!"},"",null,{"$error":"#VALUE!"},""]
[null,null,{"$f":"IF(Dados!C173=\"\",\"\",Dados!C173)","v":""},{"$f":"IF(Dados!D173=\"\",\"\",Dados!D173)","v":""},{"$f":"IF(Dados!E173=\"\",\"\",Dados!E173)","v":""},{"$f":"IF(Dados!F173=\"\",\"\",Dados!F173)","v":""},{"$f":"IF(Dados!G173=\"\",\"\",Dados!G173)","v":""},{"$error":"#VALUE!"},"",null,{"$error":"#VALUE!"},"",null,{"$error":"#VALUE!"},"",null,{"$error":"#VALUE!"},""]
[null,null,{"$f":"IF(Dados!C174=\"\",\"\",Dados!C174)","v":""},{"$f":"IF(Dados!D174=\"\",\"\",Dados!D174)","v":""},{"$f":"IF(Dados!E174=\"\",\"\",Dados!E174)","v":""},{"$f":"IF(Dados!F174=\"\",\"\",Dados!F174)","v":""},{"$f":"IF(Dados!G174=\"\",\"\",Dados!G174)","v":""},{"$error":"#VALUE!"},"",null,{"$error":"#VALUE!"},"",null,{"$error":"#VALUE!"},"",null,{"$error":"#VALUE!"},""]
[null,null,{"$f":"IF(Dados!C175=\"\",\"\",Dados!C175)","v":""},{"$f":"IF(Dados!D175=\"\",\"\",Dados!D175)","v":""},{"$f":"IF(Dados!E175=\"\",\"\",Dados!E175)","v":""},{"$f":"IF(Dados!F175=\"\",\"\",Dados!F175)","v":""},{"$f":"IF(Dados!G175=\"\",\"\",Dados!G175)","v":""},{"$error":"#VALUE!"},"",null,{"$error":"#VALUE!"},"",null,{"$error":"#VALUE!"},"",null,{"$error":"#VALUE!"},""]
[null,null,{"$f":"IF(Dados!C176=\"\",\"\",Dados!C176)","v":""},{"$f":"IF(Dados!D176=\"\",\"\",Dados!D176)","v":""},{"$f":"IF(Dados!E176=\"\",\"\",Dados!E176)","v":""},{"$f":"IF(Dados!F176=\"\",\"\",Dados!F176)","v":""},{"$f":"IF(Dados!G176=\"\",\"\",Dados!G176)","v":""},{"$error":"#VALUE!"},"",null,{"$error":"#VALUE!"},"",null,{"$error":"#VALUE!"},"",null,{"$error":"#VALUE!"},""]
[null,null,{"$f":"IF(Dados!C177=\"\",\"\",Dados!C177)","v":""},{"$f":"IF(Dados!D177=\"\",\"\",Dados!D177)","v":""},{"$f":"IF(Dados!E177=\"\",\"\",Dados!E177)","v":""},{"$f":"IF(Dados!F177=\"\",\"\",Dados!F177)","v":""},{"$f":"IF(Dados!G177=\"\",\"\",Dados!G177)","v":""},{"$error":"#VALUE!"},"",null,{"$error":"#VALUE!"},"",null,{"$error":"#VALUE!"},"",null,{"$error":"#VALUE!"},""]
[null,null,{"$f":"IF(Dados!C178=\"\",\"\",Dados!C178)","v":""},{"$f":"IF(Dados!D178=\"\",\"\",Dados!D178)","v":""},{"$f":"IF(Dados!E178=\"\",\"\",Dados!E178)","v":""},{"$f":"IF(Dados!F178=\"\",\"\",Dados!F178)","v":""},{"$f":"IF(Dados!G178=\"\",\"\",Dados!G178)","v":""},{"$error":"#VALUE!"},"",null,{"$error":"#VALUE!"},"",null,{"$error":"#VALUE!"},"",null,{"$error":"#VALUE!"},""]
[null,null,{"$f":"IF(Dados!C179=\"\",\"\",Dados!C179)","v":""},{"$f":"IF(Dados!D179=\"\",\"\",Dados!D179)","v":""},{"$f":"IF(Dados!E179=\"\",\"\",Dados!E179)","v":""},{"$f":"IF(Dados!F179=\"\",\"\",Dados!F179)","v":""},{"$f":"IF(Dados!G179=\"\",\"\",Dados!G179)","v":""},{"$error":"#VALUE!"},"",null,{"$error":"#VALUE!"},"",null,{"$error":"#VALUE!"},"",null,{"$error":"#VALUE!"},""]
[null,null,{"$f":"IF(Dados!C180=\"\",\"\",Dados!C180)","v":""},{"$f":"IF(Dados!D180=\"\",\"\",Dados!D180)","v":""},{"$f":"IF(Dados!E180=\"\",\"\",Dados!E180)","v":""},{"$f":"IF(Dados!F180=\"\",\"\",Dados!F180)","v":""},{"$f":"IF(Dados!G180=\"\",\"\",Dados!G180)","v":""},{"$error":"#VALUE!"},"",null,{"$error":"#VALUE!"},"",null,{"$error":"#VALUE!"},"",null,{"$error":"#VALUE!"},""]
[null,{"$f":"B171+1","v":18},{"$f":"IF(Dados!C181=\"\",\"\",Dados!C181)","v":""},{"$f":"IF(Dados!D181=\"\",\"\",Dados!D181)","v":""},{"$f":"IF(Dados!E181=\"\",\"\",Dados!E181)","v":""},{"$f":"IF(Dados!F181=\"\",\"\",Dados!F181)","v":""},{"$f":"IF(Dados!G181=\"\",\"\",Dados!G181)","v":""},{"$error":"#VALUE!"},"",{"$f":"SUM(I181:I190)","v":0},{"$error":"#VALUE!"},"",{"$f":"SUM(L181:L190)","v":0},{"$error":"#VALUE!"},"",{"$f":"SUM(O181:O190)","v":0},{"$error":"#VALUE!"},"",{"$f":"SUM(R181:R190)","v":0}]
[null,null,{"$f":"IF(Dados!C182=\"\",\"\",Dados!C182)","v":""},{"$f":"IF(Dados!D182=\"\",\"\",Dados!D182)","v":""},{"$f":"IF(Dados!E182=\"\",\"\",Dados!E182)","v":""},{"$f":"IF(Dados!F182=\"\",\"\",Dados!F182)","v":""},{"$f":"IF(Dados!G182=\"\",\"\",Dados!G182)","v":""},{"$error":"#VALUE!"},"",null,{"$error":"#VALUE!"},"",null,{"$error":"#VALUE!"},"",null,{"$error":"#VALUE!"},""]
[null,null,{"$f":"IF(Dados!C183=\"\",\"\",Dados!C183)","v":""},{"$f":"IF(Dados!D183=\"\",\"\",Dados!D183)","v":""},{"$f":"IF(Dados!E183=\"\",\"\",Dados!E183)","v":""},{"$f":"IF(Dados!F183=\"\",\"\",Dados!F183)","v":""},{"$f":"IF(Dados!G183=\"\",\"\",Dados!G183)","v":""},{"$error":"#VALUE!"},"",null,{"$error":"#VALUE!"},"",null,{"$error":"#VALUE!"},"",null,{"$error":"#VALUE!"},""]
[null,null,{"$f":"IF(Dados!C184=\"\",\"\",Dados!C184)","v":""},{"$f":"IF(Dados!D184=\"\",\"\",Dados!D184)","v":""},{"$f":"IF(Dados!E184=\"\",\"\",Dados!E184)","v":""},{"$f":"IF(Dados!F184=\"\",\"\",Dados!F184)","v":""},{"$f":"IF(Dados!G184=\"\",\"\",Dados!G184)","v":""},{"$error":"#VALUE!"},"",null,{"$error":"#VALUE!"},"",null,{"$error":"#VALUE!"},"",null,{"$error":"#VALUE!"},""]
[null,null,{"$f":"IF(Dados!C185=\"\",\"\",Dados!C185)","v":""},{"$f":"IF(Dados!D185=\"\",\"\",Dados!D185)","v":""},{"$f":"IF(Dados!E185=\"\",\"\",Dados!E185)","v":""},{"$f":"IF(Dados!F185=\"\",\"\",Dados!F185)","v":""},{"$f":"IF(Dados!G185=\"\",\"\",Dados!G185)","v":""},{"$error":"#VALUE!"},"",null,{"$error":"#VALUE!"},"",null,{"$error":"#VALUE!"},"",null,{"$error":"#VALUE!"},""]
[null,null,{"$f":"IF(Dados!C186=\"\",\"\",Dados!C186)","v":""},{"$f":"IF(Dados!D186=\"\",\"\",Dados!D186)","v":""},{"$f":"IF(Dados!E186=\"\",\"\",Dados!E186)","v":""},{"$f":"IF(Dados!F186=\"\",\"\",Dados!F186)","v":""},{"$f":"IF(Dados!G186=\"\",\"\",Dados!G186)","v":""},{"$error":"#VALUE!"},"",null,{"$error":"#VALUE!"},"",null,{"$error":"#VALUE!"},"",null,{"$error":"#VALUE!"},""]
[null,null,{"$f":"IF(Dados!C187=\"\",\"\",Dados!C187)","v":""},{"$f":"IF(Dados!D187=\"\",\"\",Dados!D187)","v":""},{"$f":"IF(Dados!E187=\"\",\"\",Dados!E187)","v":""},{"$f":"IF(Dados!F187=\"\",\"\",Dados!F187)","v":""},{"$f":"IF(Dados!G187=\"\",\"\",Dados!G187)","v":""},{"$error":"#VALUE!"},"",null,{"$error":"#VALUE!"},"",null,{"$error":"#VALUE!"},"",null,{"$error":"#VALUE!"},""]
[null,null,{"$f":"IF(Dados!C188=\"\",\"\",Dados!C188)","v":""},{"$f":"IF(Dados!D188=\"\",\"\",Dados!D188)","v":""},{"$f":"IF(Dados!E188=\"\",\"\",Dados!E188)","v":""},{"$f":"IF(Dados!F188=\"\",\"\",Dados!F188)","v":""},{"$f":"IF(Dados!G188=\"\",\"\",Dados!G188)","v":""},{"$error":"#VALUE!"},"",null,{"$error":"#VALUE!"},"",null,{"$error":"#VALUE!"},"",null,{"$error":"#VALUE!"},""]
[null,null,{"$f":"IF(Dados!C189=\"\",\"\",Dados!C189)","v":""},{"$f":"IF(Dados!D189=\"\",\"\",Dados!D189)","v":""},{"$f":"IF(Dados!E189=\"\",\"\",Dados!E189)","v":""},{"$f":"IF(Dados!F189=\"\",\"\",Dados!F189)","v":""},{"$f":"IF(Dados!G189=\"\",\"\",Dados!G189)","v":""},{"$error":"#VALUE!"},"",null,{"$error":"#VALUE!"},"",null,{"$error":"#VALUE!"},"",null,{"$error":"#VALUE!"},""]
[null,null,{"$f":"IF(Dados!C190=\"\",\"\",Dados!C190)","v":""},{"$f":"IF(Dados!D190=\"\",\"\",Dados!D190)","v":""},{"$f":"IF(Dados!E190=\"\",\"\",Dados!E190)","v":""},{"$f":"IF(Dados!F190=\"\",\"\",Dados!F190)","v":""},{"$f":"IF(Dados!G190=\"\",\"\",Dados!G190)","v":""},{"$error":"#VALUE!"},"",null,{"$error":"#VALUE!"},"",null,{"$error":"#VALUE!"},"",null,{"$error":"#VALUE!"},""]
[null,{"$f":"B181+1","v":19},{"$f":"IF(Dados!C191=\"\",\"\",Dados!C191)","v":""},{"$f":"IF(Dados!D191=\"\",\"\",Dados!D191)","v":""},{"$f":"IF(Dados!E191=\"\",\"\",Dados!E191)","v":""},{"$f":"IF(Dados!F191=\"\",\"\",Dados!F191)","v":""},{"$f":"IF(Dados!G191=\"\",\"\",Dados!G191)","v":""},{"$error":"#VALUE!"},"",{"$f":"SUM(I191:I200)","v":0},{"$error":"#VALUE!"},"",{"$f":"SUM(L191:L200)","v":0},{"$error":"#VALUE!"},"",{"$f":"SUM(O191:O200)","v":0},{"$error":"#VALUE!"},"",{"$f":"SUM(R191:R200)","v":0}]
[null,null,{"$f":"IF(Dados!C192=\"\",\"\",Dados!C192)","v":""},{"$f":"IF(Dados!D192=\"\",\"\",Dados!D192)","v":""},{"$f":"IF(Dados!E192=\"\",\"\",Dados!E192)","v":""},{"$f":"IF(Dados!F192=\"\",\"\",Dados!F192)","v":""},{"$f":"IF(Dados!G192=\"\",\"\",Dados!G192)","v":""},{"$error":"#VALUE!"},"",null,{"$error":"#VALUE!"},"",null,{"$error":"#VALUE!"},"",null,{"$error":"#VALUE!"},""]
[null,null,{"$f":"IF(Dados!C193=\"\",\"\",Dados!C193)","v":""},{"$f":"IF(Dados!D193=\"\",\"\",Dados!D193)","v":""},{"$f":"IF(Dados!E193=\"\",\"\",Dados!E193)","v":""},{"$f":"IF(Dados!F193=\"\",\"\",Dados!F193)","v":""},{"$f":"IF(Dados!G193=\"\",\"\",Dados!G193)","v":""},{"$error":"#VALUE!"},"",null,{"$error":"#VALUE!"},"",null,{"$error":"#VALUE!"},"",null,{"$error":"#VALUE!"},""]
[null,null,{"$f":"IF(Dados!C194=\"\",\"\",Dados!C194)","v":""},{"$f":"IF(Dados!D194=\"\",\"\",Dados!D194)","v":""},{"$f":"IF(Dados!E194=\"\",\"\",Dados!E194)","v":""},{"$f":"IF(Dados!F194=\"\",\"\",Dados!F194)","v":""},{"$f":"IF(Dados!G194=\"\",\"\",Dados!G194)","v":""},{"$error":"#VALUE!"},"",null,{"$error":"#VALUE!"},"",null,{"$error":"#VALUE!"},"",null,{"$error":"#VALUE!"},""]
[null,null,{"$f":"IF(Dados!C195=\"\",\"\",Dados!C195)","v":""},{"$f":"IF(Dados!D195=\"\",\"\",Dados!D195)","v":""},{"$f":"IF(Dados!E195=\"\",\"\",Dados!E195)","v":""},{"$f":"IF(Dados!F195=\"\",\"\",Dados!F195)","v":""},{"$f":"IF(Dados!G195=\"\",\"\",Dados!G195)","v":""},{"$error":"#VALUE!"},"",null,{"$error":"#VALUE!"},"",null,{"$error":"#VALUE!"},"",null,{"$error":"#VALUE!"},""]
[null,null,{"$f":"IF(Dados!C196=\"\",\"\",Dados!C196)","v":""},{"$f":"IF(Dados!D196=\"\",\"\",Dados!D196)","v":""},{"$f":"IF(Dados!E196=\"\",\"\",Dados!E196)","v":""},{"$f":"IF(Dados!F196=\"\",\"\",Dados!F196)","v":""},{"$f":"IF(Dados!G196=\"\",\"\",Dados!G196)","v":""},{"$error":"#VALUE!"},"",null,{"$error":"#VALUE!"},"",null,{"$error":"#VALUE!"},"",null,{"$error":"#VALUE!"},""]
[null,null,{"$f":"IF(Dados!C197=\"\",\"\",Dados!C197)","v":""},{"$f":"IF(Dados!D197=\"\",\"\",Dados!D197)","v":""},{"$f":"IF(Dados!E197=\"\",\"\",Dados!E197)","v":""},{"$f":"IF(Dados!F197=\"\",\"\",Dados!F197)","v":""},{"$f":"IF(Dados!G197=\"\",\"\",Dados!G197)","v":""},{"$error":"#VALUE!"},"",null,{"$error":"#VALUE!"},"",null,{"$error":"#VALUE!"},"",null,{"$error":"#VALUE!"},""]
[null,null,{"$f":"IF(Dados!C198=\"\",\"\",Dados!C198)","v":""},{"$f":"IF(Dados!D198=\"\",\"\",Dados!D198)","v":""},{"$f":"IF(Dados!E198=\"\",\"\",Dados!E198)","v":""},{"$f":"IF(Dados!F198=\"\",\"\",Dados!F198)","v":""},{"$f":"IF(Dados!G198=\"\",\"\",Dados!G198)","v":""},{"$error":"#VALUE!"},"",null,{"$error":"#VALUE!"},"",null,{"$error":"#VALUE!"},"",null,{"$error":"#VALUE!"},""]
[null,null,{"$f":"IF(Dados!C199=\"\",\"\",Dados!C199)","v":""},{"$f":"IF(Dados!D199=\"\",\"\",Dados!D199)","v":""},{"$f":"IF(Dados!E199=\"\",\"\",Dados!E199)","v":""},{"$f":"IF(Dados!F199=\"\",\"\",Dados!F199)","v":""},{"$f":"IF(Dados!G199=\"\",\"\",Dados!G199)","v":""},{"$error":"#VALUE!"},"",null,{"$error":"#VALUE!"},"",null,{"$error":"#VALUE!"},"",null,{"$error":"#VALUE!"},""]
[null,null,{"$f":"IF(Dados!C200=\"\",\"\",Dados!C200)","v":""},{"$f":"IF(Dados!D200=\"\",\"\",Dados!D200)","v":""},{"$f":"IF(Dados!E200=\"\",\"\",Dados!E200)","v":""},{"$f":"IF(Dados!F200=\"\",\"\",Dados!F200)","v":""},{"$f":"IF(Dados!G200=\"\",\"\",Dados!G200)","v":""},{"$error":"#VALUE!"},"",null,{"$error":"#VALUE!"},"",null,{"$error":"#VALUE!"},"",null,{"$error":"#VALUE!"},""]
[null,{"$f":"B191+1","v":20},{"$f":"IF(Dados!C201=\"\",\"\",Dados!C201)","v":""},{"$f":"IF(Dados!D201=\"\",\"\",Dados!D201)","v":""},{"$f":"IF(Dados!E201=\"\",\"\",Dados!E201)","v":""},{"$f":"IF(Dados!F201=\"\",\"\",Dados!F201)","v":""},{"$f":"IF(Dados!G201=\"\",\"\",Dados!G201)","v":""},{"$error":"#VALUE!"},"",{"$f":"SUM(I201:I210)","v":0},{"$error":"#VALUE!"},"",{"$f":"SUM(L201:L210)","v":0},{"$error":"#VALUE!"},"",{"$f":"SUM(O201:O210)","v":0},{"$error":"#VALUE!"},"",{"$f":"SUM(R201:R210)","v":0}]
[null,null,{"$f":"IF(Dados!C202=\"\",\"\",Dados!C202)","v":""},{"$f":"IF(Dados!D202=\"\",\"\",Dados!D202)","v":""},{"$f":"IF(Dados!E202=\"\",\"\",Dados!E202)","v":""},{"$f":"IF(Dados!F202=\"\",\"\",Dados!F202)","v":""},{"$f":"IF(Dados!G202=\"\",\"\",Dados!G202)","v":""},{"$error":"#VALUE!"},"",null,{"$error":"#VALUE!"},"",null,{"$error":"#VALUE!"},"",null,{"$error":"#VALUE!"},""]
[null,null,{"$f":"IF(Dados!C203=\"\",\"\",Dados!C203)","v":""},{"$f":"IF(Dados!D203=\"\",\"\",Dados!D203)","v":""},{"$f":"IF(Dados!E203=\"\",\"\",Dados!E203)","v":""},{"$f":"IF(Dados!F203=\"\",\"\",Dados!F203)","v":""},{"$f":"IF(Dados!G203=\"\",\"\",Dados!G203)","v":""},{"$f":"($G203*ChIR*ChEF*ChED)/(ChBW*ChATnc)","v":{"$error":"#VALUE!"}},{"$f":"IFERROR((H203)/(VLOOKUP($F203,intervaloHQ,2,0)),\"\")","v":""},null,{"$f":"($G203*AdIR*AdEF*AdED)/(AdBW*AdATnc)","v":{"$error":"#VALUE!"}},{"$f":"IFERROR((K203)/(VLOOKUP($F203,intervaloHQ,2,0)),\"\")","v":""},null,{"$f":"($G203*ChIR*ChEF*ChED)/(ChBW*ChATc)","v":{"$error":"#VALUE!"}},{"$f":"IFERROR((N203)*(VLOOKUP($F203,intervaloHQ,4,0)),\"\")","v":""},null,{"$f":"($G203*AdIR*AdEF*AdED)/(AdBW*AdATc)","v":{"$error":"#VALUE!"}},{"$f":"IFERROR((Q203)*(VLOOKUP($F203,intervaloHQ,4,0)),\"\")","v":""}]
[null,null,{"$f":"IF(Dados!C204=\"\",\"\",Dados!C204)","v":""},{"$f":"IF(Dados!D204=\"\",\"\",Dados!D204)","v":""},{"$f":"IF(Dados!E204=\"\",\"\",Dados!E204)","v":""},{"$f":"IF(Dados!F204=\"\",\"\",Dados!F204)","v":""},{"$f":"IF(Dados!G204=\"\",\"\",Dados!G204)","v":""},{"$error":"#VALUE!"},"",null,{"$error":"#VALUE!"},"",null,{"$error":"#VALUE!"},"",null,{"$error":"#VALUE!"},""]
[null,null,{"$f":"IF(Dados!C205=\"\",\"\",Dados!C205)","v":""},{"$f":"IF(Dados!D205=\"\",\"\",Dados!D205)","v":""},{"$f":"IF(Dados!E205=\"\",\"\",Dados!E205)","v":""},{"$f":"IF(Dados!F205=\"\",\"\",Dados!F205)","v":""},{"$f":"IF(Dados!G205=\"\",\"\",Dados!G205)","v":""},{"$error":"#VALUE!"},"",null,{"$error":"#VALUE!"},"",null,{"$error":"#VALUE!"},"",null,{"$error":"#VALUE!"},""]
[null,null,{"$f":"IF(Dados!C206=\"\",\"\",Dados!C206)","v":""},{"$f":"IF(Dados!D206=\"\",\"\",Dados!D206)","v":""},{"$f":"IF(Dados!E206=\"\",\"\",Dados!E206)","v":""},{"$f":"IF(Dados!F206=\"\",\"\",Dados!F206)","v":""},{"$f":"IF(Dados!G206=\"\",\"\",Dados!G206)","v":""},{"$error":"#VALUE!"},"",null,{"$error":"#VALUE!"},"",null,{"$error":"#VALUE!"},"",null,{"$error":"#VALUE!"},""]
[null,null,{"$f":"IF(Dados!C207=\"\",\"\",Dados!C207)","v":""},{"$f":"IF(Dados!D207=\"\",\"\",Dados!D207)","v":""},{"$f":"IF(Dados!E207=\"\",\"\",Dados!E207)","v":""},{"$f":"IF(Dados!F207=\"\",\"\",Dados!F207)","v":""},{"$f":"IF(Dados!G207=\"\",\"\",Dados!G207)","v":""},{"$error":"#VALUE!"},"",null,{"$error":"#VALUE!"},"",null,{"$error":"#VALUE!"},"",null,{"$error":"#VALUE!"},""]
[null,null,{"$f":"IF(Dados!C208=\"\",\"\",Dados!C208)","v":""},{"$f":"IF(Dados!D208=\"\",\"\",Dados!D208)","v":""},{"$f":"IF(Dados!E208=\"\",\"\",Dados!E208)","v":""},{"$f":"IF(Dados!F208=\"\",\"\",Dados!F208)","v":""},{"$f":"IF(Dados!G208=\"\",\"\",Dados!G208)","v":""},{"$error":"#VALUE!"},"",null,{"$error":"#VALUE!"},"",null,{"$error":"#VALUE!"},"",null,{"$error":"#VALUE!"},""]
[null,null,{"$f":"IF(Dados!C209=\"\",\"\",Dados!C209)","v":""},{"$f":"IF(Dados!D209=\"\",\"\",Dados!D209)","v":""},{"$f":"IF(Dados!E209=\"\",\"\",Dados!E209)","v":""},{"$f":"IF(Dados!F209=\"\",\"\",Dados!F209)","v":""},{"$f":"IF(Dados!G209=\"\",\"\",Dados!G209)","v":""},{"$error":"#VALUE!"},"",null,{"$error":"#VALUE!"},"",null,{"$error":"#VALUE!"},"",null,{"$error":"#VALUE!"},""]
[null,null,{"$f":"IF(Dados!C210=\"\",\"\",Dados!C210)","v":""},{"$f":"IF(Dados!D210=\"\",\"\",Dados!D210)","v":""},{"$f":"IF(Dados!E210=\"\",\"\",Dados!E210)","v":""},{"$f":"IF(Dados!F210=\"\",\"\",Dados!F210)","v":""},{"$f":"IF(Dados!G210=\"\",\"\",Dados!G210)","v":""},{"$error":"#VALUE!"},"",null,{"$error":"#VALUE!"},"",null,{"$error":"#VALUE!"},"",null,{"$error":"#VALUE!"},""]
[null,{"$f":"B201+1","v":21},{"$f":"IF(Dados!C211=\"\",\"\",Dados!C211)","v":""},{"$f":"IF(Dados!D211=\"\",\"\",Dados!D211)","v":""},{"$f":"IF(Dados!E211=\"\",\"\",Dados!E211)","v":""},{"$f":"IF(Dados!F211=\"\",\"\",Dados!F211)","v":""},{"$f":"IF(Dados!G211=\"\",\"\",Dados!G211)","v":""},{"$error":"#VALUE!"},"",{"$f":"SUM(I211:I220)","v":0},{"$error":"#VALUE!"},"",{"$f":"SUM(L211:L220)","v":0},{"$error":"#VALUE!"},"",{"$f":"SUM(O211:O220)","v":0},{"$error":"#VALUE!"},"",{"$f":"SUM(R211:R220)","v":0}]
[null,null,{"$f":"IF(Dados!C212=\"\",\"\",Dados!C212)","v":""},{"$f":"IF(Dados!D212=\"\",\"\",Dados!D212)","v":""},{"$f":"IF(Dados!E212=\"\",\"\",Dados!E212)","v":""},{"$f":"IF(Dados!F212=\"\",\"\",Dados!F212)","v":""},{"$f":"IF(Dados!G212=\"\",\"\",Dados!G212)","v":""},{"$error":"#VALUE!"},"",null,{"$error":"#VALUE!"},"",null,{"$error":"#VALUE!"},"",null,{"$error":"#VALUE!"},""]
[null,null,{"$f":"IF(Dados!C213=\"\",\"\",Dados!C213)","v":""},{"$f":"IF(Dados!D213=\"\",\"\",Dados!D213)","v":""},{"$f":"IF(Dados!E213=\"\",\"\",Dados!E213)","v":""},{"$f":"IF(Dados!F213=\"\",\"\",Dados!F213)","v":""},{"$f":"IF(Dados!G213=\"\",\"\",Dados!G213)","v":""},{"$error":"#VALUE!"},"",null,{"$error":"#VALUE!"},"",null,{"$error":"#VALUE!"},"",null,{"$error":"#VALUE!"},""]
[null,null,{"$f":"IF(Dados!C214=\"\",\"\",Dados!C214)","v":""},{"$f":"IF(Dados!D214=\"\",\"\",Dados!D214)","v":""},{"$f":"IF(Dados!E214=\"\",\"\",Dados!E214)","v":""},{"$f":"IF(Dados!F214=\"\",\"\",Dados!F214)","v":""},{"$f":"IF(Dados!G214=\"\",\"\",Dados!G214)","v":""},{"$error":"#VALUE!"},"",null,{"$error":"#VALUE!"},"",null,{"$error":"#VALUE!"},"",null,{"$error":"#VALUE!"},""]
[null,null,{"$f":"IF(Dados!C215=\"\",\"\",Dados!C215)","v":""},{"$f":"IF(Dados!D215=\"\",\"\",Dados!D215)","v":""},{"$f":"IF(Dados!E215=\"\",\"\",Dados!E215)","v":""},{"$f":"IF(Dados!F215=\"\",\"\",Dados!F215)","v":""},{"$f":"IF(Dados!G215=\"\",\"\",Dados!G215)","v":""},{"$error":"#VALUE!"},"",null,{"$error":"#VALUE!"},"",null,{"$error":"#VALUE!"},"",null,{"$error":"#VALUE!"},""]
[null,null,{"$f":"IF(Dados!C216=\"\",\"\",Dados!C216)","v":""},{"$f":"IF(Dados!D216=\"\",\"\",Dados!D216)","v":""},{"$f":"IF(Dados!E216=\"\",\"\",Dados!E216)","v":""},{"$f":"IF(Dados!F216=\"\",\"\",Dados!F216)","v":""},{"$f":"IF(Dados!G216=\"\",\"\",Dados!G216)","v":""},{"$error":"#VALUE!"},"",null,{"$error":"#VALUE!"},"",null,{"$error":"#VALUE!"},"",null,{"$error":"#VALUE!"},""]
[null,null,{"$f":"IF(Dados!C217=\"\",\"\",Dados!C217)","v":""},{"$f":"IF(Dados!D217=\"\",\"\",Dados!D217)","v":""},{"$f":"IF(Dados!E217=\"\",\"\",Dados!E217)","v":""},{"$f":"IF(Dados!F217=\"\",\"\",Dados!F217)","v":""},{"$f":"IF(Dados!G217=\"\",\"\",Dados!G217)","v":""},{"$error":"#VALUE!"},"",null,{"$error":"#VALUE!"},"",null,{"$error":"#VALUE!"},"",null,{"$error":"#VALUE!"},""]
[null,null,{"$f":"IF(Dados!C218=\"\",\"\",Dados!C218)","v":""},{"$f":"IF(Dados!D218=\"\",\"\",Dados!D218)","v":""},{"$f":"IF(Dados!E218=\"\",\"\",Dados!E218)","v":""},{"$f":"IF(Dados!F218=\"\",\"\",Dados!F218)","v":""},{"$f":"IF(Dados!G218=\"\",\"\",Dados!G218)","v":""},{"$error":"#VALUE!"},"",null,{"$error":"#VALUE!"},"",null,{"$error":"#VALUE!"},"",null,{"$error":"#VALUE!"},""]
[null,null,{"$f":"IF(Dados!C219=\"\",\"\",Dados!C219)","v":""},{"$f":"IF(Dados!D219=\"\",\"\",Dados!D219)","v":""},{"$f":"IF(Dados!E219=\"\",\"\",Dados!E219)","v":""},{"$f":"IF(Dados!F219=\"\",\"\",Dados!F219)","v":""},{"$f":"IF(Dados!G219=\"\",\"\",Dados!G219)","v":""},{"$error":"#VALUE!"},"",null,{"$error":"#VALUE!"},"",null,{"$error":"#VALUE!"},"",null,{"$error":"#VALUE!"},""]
[null,null,{"$f":"IF(Dados!C220=\"\",\"\",Dados!C220)","v":""},{"$f":"IF(Dados!D220=\"\",\"\",Dados!D220)","v":""},{"$f":"IF(Dados!E220=\"\",\"\",Dados!E220)","v":""},{"$f":"IF(Dados!F220=\"\",\"\",Dados!F220)","v":""},{"$f":"IF(Dados!G220=\"\",\"\",Dados!G220)","v":""},{"$error":"#VALUE!"},"",null,{"$error":"#VALUE!"},"",null,{"$error":"#VALUE!"},"",null,{"$error":"#VALUE!"},""]
[null,{"$f":"B211+1","v":22},{"$f":"IF(Dados!C221=\"\",\"\",Dados!C221)","v":""},{"$f":"IF(Dados!D221=\"\",\"\",Dados!D221)","v":""},{"$f":"IF(Dados!E221=\"\",\"\",Dados!E221)","v":""},{"$f":"IF(Dados!F221=\"\",\"\",Dados!F221)","v":""},{"$f":"IF(Dados!G221=\"\",\"\",Dados!G221)","v":""},{"$error":"#VALUE!"},"",{"$f":"SUM(I221:I230)","v":0},{"$error":"#VALUE!"},"",{"$f":"SUM(L221:L230)","v":0},{"$error":"#VALUE!"},"",{"$f":"SUM(O221:O230)","v":0},{"$error":"#VALUE!"},"",{"$f":"SUM(R221:R230)","v":0}]
[null,null,{"$f":"IF(Dados!C222=\"\",\"\",Dados!C222)","v":""},{"$f":"IF(Dados!D222=\"\",\"\",Dados!D222)","v":""},{"$f":"IF(Dados!E222=\"\",\"\",Dados!E222)","v":""},{"$f":"IF(Dados!F222=\"\",\"\",Dados!F222)","v":""},{"$f":"IF(Dados!G222=\"\",\"\",Dados!G222)","v":""},{"$error":"#VALUE!"},"",null,{"$error":"#VALUE!"},"",null,{"$error":"#VALUE!"},"",null,{"$error":"#VALUE!"},""]
[null,null,{"$f":"IF(Dados!C223=\"\",\"\",Dados!C223)","v":""},{"$f":"IF(Dados!D223=\"\",\"\",Dados!D223)","v":""},{"$f":"IF(Dados!E223=\"\",\"\",Dados!E223)","v":""},{"$f":"IF(Dados!F223=\"\",\"\",Dados!F223)","v":""},{"$f":"IF(Dados!G223=\"\",\"\",Dados!G223)","v":""},{"$error":"#VALUE!"},"",null,{"$error":"#VALUE!"},"",null,{"$error":"#VALUE!"},"",null,{"$error":"#VALUE!"},""]
[null,null,{"$f":"IF(Dados!C224=\"\",\"\",Dados!C224)","v":""},{"$f":"IF(Dados!D224=\"\",\"\",Dados!D224)","v":""},{"$f":"IF(Dados!E224=\"\",\"\",Dados!E224)","v":""},{"$f":"IF(Dados!F224=\"\",\"\",Dados!F224)","v":""},{"$f":"IF(Dados!G224=\"\",\"\",Dados!G224)","v":""},{"$error":"#VALUE!"},"",null,{"$error":"#VALUE!"},"",null,{"$error":"#VALUE!"},"",null,{"$error":"#VALUE!"},""]
[null,null,{"$f":"IF(Dados!C225=\"\",\"\",Dados!C225)","v":""},{"$f":"IF(Dados!D225=\"\",\"\",Dados!D225)","v":""},{"$f":"IF(Dados!E225=\"\",\"\",Dados!E225)","v":""},{"$f":"IF(Dados!F225=\"\",\"\",Dados!F225)","v":""},{"$f":"IF(Dados!G225=\"\",\"\",Dados!G225)","v":""},{"$error":"#VALUE!"},"",null,{"$error":"#VALUE!"},"",null,{"$error":"#VALUE!"},"",null,{"$error":"#VALUE!"},""]
[null,null,{"$f":"IF(Dados!C226=\"\",\"\",Dados!C226)","v":""},{"$f":"IF(Dados!D226=\"\",\"\",Dados!D226)","v":""},{"$f":"IF(Dados!E226=\"\",\"\",Dados!E226)","v":""},{"$f":"IF(Dados!F226=\"\",\"\",Dados!F226)","v":""},{"$f":"IF(Dados!G226=\"\",\"\",Dados!G226)","v":""},{"$error":"#VALUE!"},"",null,{"$error":"#VALUE!"},"",null,{"$error":"#VALUE!"},"",null,{"$error":"#VALUE!"},""]
[null,null,{"$f":"IF(Dados!C227=\"\",\"\",Dados!C227)","v":""},{"$f":"IF(Dados!D227=\"\",\"\",Dados!D227)","v":""},{"$f":"IF(Dados!E227=\"\",\"\",Dados!E227)","v":""},{"$f":"IF(Dados!F227=\"\",\"\",Dados!F227)","v":""},{"$f":"IF(Dados!G227=\"\",\"\",Dados!G227)","v":""},{"$error":"#VALUE!"},"",null,{"$error":"#VALUE!"},"",null,{"$error":"#VALUE!"},"",null,{"$error":"#VALUE!"},""]
[null,null,{"$f":"IF(Dados!C228=\"\",\"\",Dados!C228)","v":""},{"$f":"IF(Dados!D228=\"\",\"\",Dados!D228)","v":""},{"$f":"IF(Dados!E228=\"\",\"\",Dados!E228)","v":""},{"$f":"IF(Dados!F228=\"\",\"\",Dados!F228)","v":""},{"$f":"IF(Dados!G228=\"\",\"\",Dados!G228)","v":""},{"$error":"#VALUE!"},"",null,{"$error":"#VALUE!"},"",null,{"$error":"#VALUE!"},"",null,{"$error":"#VALUE!"},""]
[null,null,{"$f":"IF(Dados!C229=\"\",\"\",Dados!C229)","v":""},{"$f":"IF(Dados!D229=\"\",\"\",Dados!D229)","v":""},{"$f":"IF(Dados!E229=\"\",\"\",Dados!E229)","v":""},{"$f":"IF(Dados!F229=\"\",\"\",Dados!F229)","v":""},{"$f":"IF(Dados!G229=\"\",\"\",Dados!G229)","v":""},{"$error":"#VALUE!"},"",null,{"$error":"#VALUE!"},"",null,{"$error":"#VALUE!"},"",null,{"$error":"#VALUE!"},""]
[null,null,{"$f":"IF(Dados!C230=\"\",\"\",Dados!C230)","v":""},{"$f":"IF(Dados!D230=\"\",\"\",Dados!D230)","v":""},{"$f":"IF(Dados!E230=\"\",\"\",Dados!E230)","v":""},{"$f":"IF(Dados!F230=\"\",\"\",Dados!F230)","v":""},{"$f":"IF(Dados!G230=\"\",\"\",Dados!G230)","v":""},{"$error":"#VALUE!"},"",null,{"$error":"#VALUE!"},"",null,{"$error":"#VALUE!"},"",null,{"$error":"#VALUE!"},""]
[null,{"$f":"B221+1","v":23},{"$f":"IF(Dados!C231=\"\",\"\",Dados!C231)","v":""},{"$f":"IF(Dados!D231=\"\",\"\",Dados!D231)","v":""},{"$f":"IF(Dados!E231=\"\",\"\",Dados!E231)","v":""},{"$f":"IF(Dados!F231=\"\",\"\",Dados!F231)","v":""},{"$f":"IF(Dados!G231=\"\",\"\",Dados!G231)","v":""},{"$error":"#VALUE!"},"",{"$f":"SUM(I231:I240)","v":0},{"$error":"#VALUE!"},"",{"$f":"SUM(L231:L240)","v":0},{"$error":"#VALUE!"},"",{"$f":"SUM(O231:O240)","v":0},{"$error":"#VALUE!"},"",{"$f":"SUM(R231:R240)","v":0}]
[null,null,{"$f":"IF(Dados!C232=\"\",\"\",Dados!C232)","v":""},{"$f":"IF(Dados!D232=\"\",\"\",Dados!D232)","v":""},{"$f":"IF(Dados!E232=\"\",\"\",Dados!E232)","v":""},{"$f":"IF(Dados!F232=\"\",\"\",Dados!F232)","v":""},{"$f":"IF(Dados!G232=\"\",\"\",Dados!G232)","v":""},{"$error":"#VALUE!"},"",null,{"$error":"#VALUE!"},"",null,{"$error":"#VALUE!"},"",null,{"$error":"#VALUE!"},""]
[null,null,{"$f":"IF(Dados!C233=\"\",\"\",Dados!C233)","v":""},{"$f":"IF(Dados!D233=\"\",\"\",Dados!D233)","v":""},{"$f":"IF(Dados!E233=\"\",\"\",Dados!E233)","v":""},{"$f":"IF(Dados!F233=\"\",\"\",Dados!F233)","v":""},{"$f":"IF(Dados!G233=\"\",\"\",Dados!G233)","v":""},{"$error":"#VALUE!"},"",null,{"$error":"#VALUE!"},"",null,{"$error":"#VALUE!"},"",null,{"$error":"#VALUE!"},""]
[null,null,{"$f":"IF(Dados!C234=\"\",\"\",Dados!C234)","v":""},{"$f":"IF(Dados!D234=\"\",\"\",Dados!D234)","v":""},{"$f":"IF(Dados!E234=\"\",\"\",Dados!E234)","v":""},{"$f":"IF(Dados!F234=\"\",\"\",Dados!F234)","v":""},{"$f":"IF(Dados!G234=\"\",\"\",Dados!G234)","v":""},{"$error":"#VALUE!"},"",null,{"$error":"#VALUE!"},"",null,{"$error":"#VALUE!"},"",null,{"$error":"#VALUE!"},""]
[null,null,{"$f":"IF(Dados!C235=\"\",\"\",Dados!C235)","v":""},{"$f":"IF(Dados!D235=\"\",\"\",Dados!D235)","v":""},{"$f":"IF(Dados!E235=\"\",\"\",Dados!E235)","v":""},{"$f":"IF(Dados!F235=\"\",\"\",Dados!F235)","v":""},{"$f":"IF(Dados!G235=\"\",\"\",Dados!G235)","v":""},{"$error":"#VALUE!"},"",null,{"$error":"#VALUE!"},"",null,{"$error":"#VALUE!"},"",null,{"$error":"#VALUE!"},""]
[null,null,{"$f":"IF(Dados!C236=\"\",\"\",Dados!C236)","v":""},{"$f":"IF(Dados!D236=\"\",\"\",Dados!D236)","v":""},{"$f":"IF(Dados!E236=\"\",\"\",Dados!E236)","v":""},{"$f":"IF(Dados!F236=\"\",\"\",Dados!F236)","v":""},{"$f":"IF(Dados!G236=\"\",\"\",Dados!G236)","v":""},{"$error":"#VALUE!"},"",null,{"$error":"#VALUE!"},"",null,{"$error":"#VALUE!"},"",null,{"$error":"#VALUE!"},""]
[null,null,{"$f":"IF(Dados!C237=\"\",\"\",Dados!C237)","v":""},{"$f":"IF(Dados!D237=\"\",\"\",Dados!D237)","v":""},{"$f":"IF(Dados!E237=\"\",\"\",Dados!E237)","v":""},{"$f":"IF(Dados!F237=\"\",\"\",Dados!F237)","v":""},{"$f":"IF(Dados!G237=\"\",\"\",Dados!G237)","v":""},{"$error":"#VALUE!"},"",null,{"$error":"#VALUE!"},"",null,{"$error":"#VALUE!"},"",null,{"$error":"#VALUE!"},""]
[null,null,{"$f":"IF(Dados!C238=\"\",\"\",Dados!C238)","v":""},{"$f":"IF(Dados!D238=\"\",\"\",Dados!D238)","v":""},{"$f":"IF(Dados!E238=\"\",\"\",Dados!E238)","v":""},{"$f":"IF(Dados!F238=\"\",\"\",Dados!F238)","v":""},{"$f":"IF(Dados!G238=\"\",\"\",Dados!G238)","v":""},{"$error":"#VALUE!"},"",null,{"$error":"#VALUE!"},"",null,{"$error":"#VALUE!"},"",null,{"$error":"#VALUE!"},""]
[null,null,{"$f":"IF(Dados!C239=\"\",\"\",Dados!C239)","v":""},{"$f":"IF(Dados!D239=\"\",\"\",Dados!D239)","v":""},{"$f":"IF(Dados!E239=\"\",\"\",Dados!E239)","v":""},{"$f":"IF(Dados!F239=\"\",\"\",Dados!F239)","v":""},{"$f":"IF(Dados!G239=\"\",\"\",Dados!G239)","v":""},{"$error":"#VALUE!"},"",null,{"$error":"#VALUE!"},"",null,{"$error":"#VALUE!"},"",null,{"$error":"#VALUE!"},""]
[null,null,{"$f":"IF(Dados!C240=\"\",\"\",Dados!C240)","v":""},{"$f":"IF(Dados!D240=\"\",\"\",Dados!D240)","v":""},{"$f":"IF(Dados!E240=\"\",\"\",Dados!E240)","v":""},{"$f":"IF(Dados!F240=\"\",\"\",Dados!F240)","v":""},{"$f":"IF(Dados!G240=\"\",\"\",Dados!G240)","v":""},{"$error":"#VALUE!"},"",null,{"$error":"#VALUE!"},"",null,{"$error":"#VALUE!"},"",null,{"$error":"#VALUE!"},""]
[null,{"$f":"B231+1","v":24},{"$f":"IF(Dados!C241=\"\",\"\",Dados!C241)","v":""},{"$f":"IF(Dados!D241=\"\",\"\",Dados!D241)","v":""},{"$f":"IF(Dados!E241=\"\",\"\",Dados!E241)","v":""},{"$f":"IF(Dados!F241=\"\",\"\",Dados!F241)","v":""},{"$f":"IF(Dados!G241=\"\",\"\",Dados!G241)","v":""},{"$error":"#VALUE!"},"",{"$f":"SUM(I241:I250)","v":0},{"$error":"#VALUE!"},"",{"$f":"SUM(L241:L250)","v":0},{"$error":"#VALUE!"},"",{"$f":"SUM(O241:O250)","v":0},{"$error":"#VALUE!"},"",{"$f":"SUM(R241:R250)","v":0}]
[null,null,{"$f":"IF(Dados!C242=\"\",\"\",Dados!C242)","v":""},{"$f":"IF(Dados!D242=\"\",\"\",Dados!D242)","v":""},{"$f":"IF(Dados!E242=\"\",\"\",Dados!E242)","v":""},{"$f":"IF(Dados!F242=\"\",\"\",Dados!F242)","v":""},{"$f":"IF(Dados!G242=\"\",\"\",Dados!G242)","v":""},{"$error":"#VALUE!"},"",null,{"$error":"#VALUE!"},"",null,{"$error":"#VALUE!"},"",null,{"$error":"#VALUE!"},""]
[null,null,{"$f":"IF(Dados!C243=\"\",\"\",Dados!C243)","v":""},{"$f":"IF(Dados!D243=\"\",\"\",Dados!D243)","v":""},{"$f":"IF(Dados!E243=\"\",\"\",Dados!E243)","v":""},{"$f":"IF(Dados!F243=\"\",\"\",Dados!F243)","v":""},{"$f":"IF(Dados!G243=\"\",\"\",Dados!G243)","v":""},{"$error":"#VALUE!"},"",null,{"$error":"#VALUE!"},"",null,{"$error":"#VALUE!"},"",null,{"$error":"#VALUE!"},""]
[null,null,{"$f":"IF(Dados!C244=\"\",\"\",Dados!C244)","v":""},{"$f":"IF(Dados!D244=\"\",\"\",Dados!D244)","v":""},{"$f":"IF(Dados!E244=\"\",\"\",Dados!E244)","v":""},{"$f":"IF(Dados!F244=\"\",\"\",Dados!F244)","v":""},{"$f":"IF(Dados!G244=\"\",\"\",Dados!G244)","v":""},{"$error":"#VALUE!"},"",null,{"$error":"#VALUE!"},"",null,{"$error":"#VALUE!"},"",null,{"$error":"#VALUE!"},""]
[null,null,{"$f":"IF(Dados!C245=\"\",\"\",Dados!C245)","v":""},{"$f":"IF(Dados!D245=\"\",\"\",Dados!D245)","v":""},{"$f":"IF(Dados!E245=\"\",\"\",Dados!E245)","v":""},{"$f":"IF(Dados!F245=\"\",\"\",Dados!F245)","v":""},{"$f":"IF(Dados!G245=\"\",\"\",Dados!G245)","v":""},{"$error":"#VALUE!"},"",null,{"$error":"#VALUE!"},"",null,{"$error":"#VALUE!"},"",null,{"$error":"#VALUE!"},""]
[null,null,{"$f":"IF(Dados!C246=\"\",\"\",Dados!C246)","v":""},{"$f":"IF(Dados!D246=\"\",\"\",Dados!D246)","v":""},{"$f":"IF(Dados!E246=\"\",\"\",Dados!E246)","v":""},{"$f":"IF(Dados!F246=\"\",\"\",Dados!F246)","v":""},{"$f":"IF(Dados!G246=\"\",\"\",Dados!G246)","v":""},{"$error":"#VALUE!"},"",null,{"$error":"#VALUE!"},"",null,{"$error":"#VALUE!"},"",null,{"$error":"#VALUE!"},""]
[null,null,{"$f":"IF(Dados!C247=\"\",\"\",Dados!C247)","v":""},{"$f":"IF(Dados!D247=\"\",\"\",Dados!D247)","v":""},{"$f":"IF(Dados!E247=\"\",\"\",Dados!E247)","v":""},{"$f":"IF(Dados!F247=\"\",\"\",Dados!F247)","v":""},{"$f":"IF(Dados!G247=\"\",\"\",Dados!G247)","v":""},{"$error":"#VALUE!"},"",null,{"$error":"#VALUE!"},"",null,{"$error":"#VALUE!"},"",null,{"$error":"#VALUE!"},""]
[null,null,{"$f":"IF(Dados!C248=\"\",\"\",Dados!C248)","v":""},{"$f":"IF(Dados!D248=\"\",\"\",Dados!D248)","v":""},{"$f":"IF(Dados!E248=\"\",\"\",Dados!E248)","v":""},{"$f":"IF(Dados!F248=\"\",\"\",Dados!F248)","v":""},{"$f":"IF(Dados!G248=\"\",\"\",Dados!G248)","v":""},{"$error":"#VALUE!"},"",null,{"$error":"#VALUE!"},"",null,{"$error":"#VALUE!"},"",null,{"$error":"#VALUE!"},""]
[null,null,{"$f":"IF(Dados!C249=\"\",\"\",Dados!C249)","v":""},{"$f":"IF(Dados!D249=\"\",\"\",Dados!D249)","v":""},{"$f":"IF(Dados!E249=\"\",\"\",Dados!E249)","v":""},{"$f":"IF(Dados!F249=\"\",\"\",Dados!F249)","v":""},{"$f":"IF(Dados!G249=\"\",\"\",Dados!G249)","v":""},{"$error":"#VALUE!"},"",null,{"$error":"#VALUE!"},"",null,{"$error":"#VALUE!"},"",null,{"$error":"#VALUE!"},""]
[null,null,{"$f":"IF(Dados!C250=\"\",\"\",Dados!C250)","v":""},{"$f":"IF(Dados!D250=\"\",\"\",Dados!D250)","v":""},{"$f":"IF(Dados!E250=\"\",\"\",Dados!E250)","v":""},{"$f":"IF(Dados!F250=\"\",\"\",Dados!F250)","v":""},{"$f":"IF(Dados!G250=\"\",\"\",Dados!G250)","v":""},{"$error":"#VALUE!"},"",null,{"$error":"#VALUE!"},"",null,{"$error":"#VALUE!"},"",null,{"$error":"#VALUE!"},""]
[null,{"$f":"B241+1","v":25},{"$f":"IF(Dados!C251=\"\",\"\",Dados!C251)","v":""},{"$f":"IF(Dados!D251=\"\",\"\",Dados!D251)","v":""},{"$f":"IF(Dados!E251=\"\",\"\",Dados!E251)","v":""},{"$f":"IF(Dados!F251=\"\",\"\",Dados!F251)","v":""},{"$f":"IF(Dados!G251=\"\",\"\",Dados!G251)","v":""},{"$error":"#VALUE!"},"",{"$f":"SUM(I251:I260)","v":0},{"$error":"#VALUE!"},"",{"$f":"SUM(L251:L260)","v":0},{"$error":"#VALUE!"},"",{"$f":"SUM(O251:O260)","v":0},{"$error":"#VALUE!"},"",{"$f":"SUM(R251:R260)","v":0}]
[null,null,{"$f":"IF(Dados!C252=\"\",\"\",Dados!C252)","v":""},{"$f":"IF(Dados!D252=\"\",\"\",Dados!D252)","v":""},{"$f":"IF(Dados!E252=\"\",\"\",Dados!E252)","v":""},{"$f":"IF(Dados!F252=\"\",\"\",Dados!F252)","v":""},{"$f":"IF(Dados!G252=\"\",\"\",Dados!G252)","v":""},{"$error":"#VALUE!"},"",null,{"$error":"#VALUE!"},"",null,{"$error":"#VALUE!"},"",null,{"$error":"#VALUE!"},""]
[null,null,{"$f":"IF(Dados!C253=\"\",\"\",Dados!C253)","v":""},{"$f":"IF(Dados!D253=\"\",\"\",Dados!D253)","v":""},{"$f":"IF(Dados!E253=\"\",\"\",Dados!E253)","v":""},{"$f":"IF(Dados!F253=\"\",\"\",Dados!F253)","v":""},{"$f":"IF(Dados!G253=\"\",\"\",Dados!G253)","v":""},{"$error":"#VALUE!"},"",null,{"$error":"#VALUE!"},"",null,{"$error":"#VALUE!"},"",null,{"$error":"#VALUE!"},""]
[null,null,{"$f":"IF(Dados!C254=\"\",\"\",Dados!C254)","v":""},{"$f":"IF(Dados!D254=\"\",\"\",Dados!D254)","v":""},{"$f":"IF(Dados!E254=\"\",\"\",Dados!E254)","v":""},{"$f":"IF(Dados!F254=\"\",\"\",Dados!F254)","v":""},{"$f":"IF(Dados!G254=\"\",\"\",Dados!G254)","v":""},{"$error":"#VALUE!"},"",null,{"$error":"#VALUE!"},"",null,{"$error":"#VALUE!"},"",null,{"$error":"#VALUE!"},""]
[null,null,{"$f":"IF(Dados!C255=\"\",\"\",Dados!C255)","v":""},{"$f":"IF(Dados!D255=\"\",\"\",Dados!D255)","v":""},{"$f":"IF(Dados!E255=\"\",\"\",Dados!E255)","v":""},{"$f":"IF(Dados!F255=\"\",\"\",Dados!F255)","v":""},{"$f":"IF(Dados!G255=\"\",\"\",Dados!G255)","v":""},{"$error":"#VALUE!"},"",null,{"$error":"#VALUE!"},"",null,{"$error":"#VALUE!"},"",null,{"$error":"#VALUE!"},""]
[null,null,{"$f":"IF(Dados!C256=\"\",\"\",Dados!C256)","v":""},{"$f":"IF(Dados!D256=\"\",\"\",Dados!D256)","v":""},{"$f":"IF(Dados!E256=\"\",\"\",Dados!E256)","v":""},{"$f":"IF(Dados!F256=\"\",\"\",Dados!F256)","v":""},{"$f":"IF(Dados!G256=\"\",\"\",Dados!G256)","v":""},{"$error":"#VALUE!"},"",null,{"$error":"#VALUE!"},"",null,{"$error":"#VALUE!"},"",null,{"$error":"#VALUE!"},""]
[null,null,{"$f":"IF(Dados!C257=\"\",\"\",Dados!C257)","v":""},{"$f":"IF(Dados!D257=\"\",\"\",Dados!D257)","v":""},{"$f":"IF(Dados!E257=\"\",\"\",Dados!E257)","v":""},{"$f":"IF(Dados!F257=\"\",\"\",Dados!F257)","v":""},{"$f":"IF(Dados!G257=\"\",\"\",Dados!G257)","v":""},{"$error":"#VALUE!"},"",null,{"$error":"#VALUE!"},"",null,{"$error":"#VALUE!"},"",null,{"$error":"#VALUE!"},""]
[null,null,{"$f":"IF(Dados!C258=\"\",\"\",Dados!C258)","v":""},{"$f":"IF(Dados!D258=\"\",\"\",Dados!D258)","v":""},{"$f":"IF(Dados!E258=\"\",\"\",Dados!E258)","v":""},{"$f":"IF(Dados!F258=\"\",\"\",Dados!F258)","v":""},{"$f":"IF(Dados!G258=\"\",\"\",Dados!G258)","v":""},{"$error":"#VALUE!"},"",null,{"$error":"#VALUE!"},"",null,{"$error":"#VALUE!"},"",null,{"$error":"#VALUE!"},""]
[null,null,{"$f":"IF(Dados!C259=\"\",\"\",Dados!C259)","v":""},{"$f":"IF(Dados!D259=\"\",\"\",Dados!D259)","v":""},{"$f":"IF(Dados!E259=\"\",\"\",Dados!E259)","v":""},{"$f":"IF(Dados!F259=\"\",\"\",Dados!F259)","v":""},{"$f":"IF(Dados!G259=\"\",\"\",Dados!G259)","v":""},{"$error":"#VALUE!"},"",null,{"$error":"#VALUE!"},"",null,{"$error":"#VALUE!"},"",null,{"$error":"#VALUE!"},""]
[null,null,{"$f":"IF(Dados!C260=\"\",\"\",Dados!C260)","v":""},{"$f":"IF(Dados!D260=\"\",\"\",Dados!D260)","v":""},{"$f":"IF(Dados!E260=\"\",\"\",Dados!E260)","v":""},{"$f":"IF(Dados!F260=\"\",\"\",Dados!F260)","v":""},{"$f":"IF(Dados!G260=\"\",\"\",Dados!G260)","v":""},{"$error":"#VALUE!"},"",null,{"$error":"#VALUE!"},"",null,{"$error":"#VALUE!"},"",null,{"$error":"#VALUE!"},""]
[null,{"$f":"B251+1","v":26},{"$f":"IF(Dados!C261=\"\",\"\",Dados!C261)","v":""},{"$f":"IF(Dados!D261=\"\",\"\",Dados!D261)","v":""},{"$f":"IF(Dados!E261=\"\",\"\",Dados!E261)","v":""},{"$f":"IF(Dados!F261=\"\",\"\",Dados!F261)","v":""},{"$f":"IF(Dados!G261=\"\",\"\",Dados!G261)","v":""},{"$error":"#VALUE!"},"",{"$f":"SUM(I261:I270)","v":0},{"$error":"#VALUE!"},"",{"$f":"SUM(L261:L270)","v":0},{"$error":"#VALUE!"},"",{"$f":"SUM(O261:O270)","v":0},{"$error":"#VALUE!"},"",{"$f":"SUM(R261:R270)","v":0}]
[null,null,{"$f":"IF(Dados!C262=\"\",\"\",Dados!C262)","v":""},{"$f":"IF(Dados!D262=\"\",\"\",Dados!D262)","v":""},{"$f":"IF(Dados!E262=\"\",\"\",Dados!E262)","v":""},{"$f":"IF(Dados!F262=\"\",\"\",Dados!F262)","v":""},{"$f":"IF(Dados!G262=\"\",\"\",Dados!G262)","v":""},{"$error":"#VALUE!"},"",null,{"$error":"#VALUE!"},"",null,{"$error":"#VALUE!"},"",null,{"$error":"#VALUE!"},""]
[null,null,{"$f":"IF(Dados!C263=\"\",\"\",Dados!C263)","v":""},{"$f":"IF(Dados!D263=\"\",\"\",Dados!D263)","v":""},{"$f":"IF(Dados!E263=\"\",\"\",Dados!E263)","v":""},{"$f":"IF(Dados!F263=\"\",\"\",Dados!F263)","v":""},{"$f":"IF(Dados!G263=\"\",\"\",Dados!G263)","v":""},{"$error":"#VALUE!"},"",null,{"$error":"#VALUE!"},"",null,{"$error":"#VALUE!"},"",null,{"$error":"#VALUE!"},""]
[null,null,{"$f":"IF(Dados!C264=\"\",\"\",Dados!C264)","v":""},{"$f":"IF(Dados!D264=\"\",\"\",Dados!D264)","v":""},{"$f":"IF(Dados!E264=\"\",\"\",Dados!E264)","v":""},{"$f":"IF(Dados!F264=\"\",\"\",Dados!F264)","v":""},{"$f":"IF(Dados!G264=\"\",\"\",Dados!G264)","v":""},{"$error":"#VALUE!"},"",null,{"$error":"#VALUE!"},"",null,{"$error":"#VALUE!"},"",null,{"$error":"#VALUE!"},""]
[null,null,{"$f":"IF(Dados!C265=\"\",\"\",Dados!C265)","v":""},{"$f":"IF(Dados!D265=\"\",\"\",Dados!D265)","v":""},{"$f":"IF(Dados!E265=\"\",\"\",Dados!E265)","v":""},{"$f":"IF(Dados!F265=\"\",\"\",Dados!F265)","v":""},{"$f":"IF(Dados!G265=\"\",\"\",Dados!G265)","v":""},{"$error":"#VALUE!"},"",null,{"$error":"#VALUE!"},"",null,{"$error":"#VALUE!"},"",null,{"$error":"#VALUE!"},""]
[null,null,{"$f":"IF(Dados!C266=\"\",\"\",Dados!C266)","v":""},{"$f":"IF(Dados!D266=\"\",\"\",Dados!D266)","v":""},{"$f":"IF(Dados!E266=\"\",\"\",Dados!E266)","v":""},{"$f":"IF(Dados!F266=\"\",\"\",Dados!F266)","v":""},{"$f":"IF(Dados!G266=\"\",\"\",Dados!G266)","v":""},{"$error":"#VALUE!"},"",null,{"$error":"#VALUE!"},"",null,{"$error":"#VALUE!"},"",null,{"$error":"#VALUE!"},""]
[null,null,{"$f":"IF(Dados!C267=\"\",\"\",Dados!C267)","v":""},{"$f":"IF(Dados!D267=\"\",\"\",Dados!D267)","v":""},{"$f":"IF(Dados!E267=\"\",\"\",Dados!E267)","v":""},{"$f":"IF(Dados!F267=\"\",\"\",Dados!F267)","v":""},{"$f":"IF(Dados!G267=\"\",\"\",Dados!G267)","v":""},{"$f":"($G267*ChIR*ChEF*ChED)/(ChBW*ChATnc)","v":{"$error":"#VALUE!"}},{"$f":"IFERROR((H267)/(VLOOKUP($F267,intervaloHQ,2,0)),\"\")","v":""},null,{"$f":"($G267*AdIR*AdEF*AdED)/(AdBW*AdATnc)","v":{"$error":"#VALUE!"}},{"$f":"IFERROR((K267)/(VLOOKUP($F267,intervaloHQ,2,0)),\"\")","v":""},null,{"$f":"($G267*ChIR*ChEF*ChED)/(ChBW*ChATc)","v":{"$error":"#VALUE!"}},{"$f":"IFERROR((N267)*(VLOOKUP($F267,intervaloHQ,4,0)),\"\")","v":""},null,{"$f":"($G267*AdIR*AdEF*AdED)/(AdBW*AdATc)","v":{"$error":"#VALUE!"}},{"$f":"IFERROR((Q267)*(VLOOKUP($F267,intervaloHQ,4,0)),\"\")","v":""}]
[null,null,{"$f":"IF(Dados!C268=\"\",\"\",Dados!C268)","v":""},{"$f":"IF(Dados!D268=\"\",\"\",Dados!D268)","v":""},{"$f":"IF(Dados!E268=\"\",\"\",Dados!E268)","v":""},{"$f":"IF(Dados!F268=\"\",\"\",Dados!F268)","v":""},{"$f":"IF(Dados!G268=\"\",\"\",Dados!G268)","v":""},{"$error":"#VALUE!"},"",null,{"$error":"#VALUE!"},"",null,{"$error":"#VALUE!"},"",null,{"$error":"#VALUE!"},""]
[null,null,{"$f":"IF(Dados!C269=\"\",\"\",Dados!C269)","v":""},{"$f":"IF(Dados!D269=\"\",\"\",Dados!D269)","v":""},{"$f":"IF(Dados!E269=\"\",\"\",Dados!E269)","v":""},{"$f":"IF(Dados!F269=\"\",\"\",Dados!F269)","v":""},{"$f":"IF(Dados!G269=\"\",\"\",Dados!G269)","v":""},{"$error":"#VALUE!"},"",null,{"$error":"#VALUE!"},"",null,{"$error":"#VALUE!"},"",null,{"$error":"#VALUE!"},""]
[null,null,{"$f":"IF(Dados!C270=\"\",\"\",Dados!C270)","v":""},{"$f":"IF(Dados!D270=\"\",\"\",Dados!D270)","v":""},{"$f":"IF(Dados!E270=\"\",\"\",Dados!E270)","v":""},{"$f":"IF(Dados!F270=\"\",\"\",Dados!F270)","v":""},{"$f":"IF(Dados!G270=\"\",\"\",Dados!G270)","v":""},{"$error":"#VALUE!"},"",null,{"$error":"#VALUE!"},"",null,{"$error":"#VALUE!"},"",null,{"$error":"#VALUE!"},""]
[null,{"$f":"B261+1","v":27},{"$f":"IF(Dados!C271=\"\",\"\",Dados!C271)","v":""},{"$f":"IF(Dados!D271=\"\",\"\",Dados!D271)","v":""},{"$f":"IF(Dados!E271=\"\",\"\",Dados!E271)","v":""},{"$f":"IF(Dados!F271=\"\",\"\",Dados!F271)","v":""},{"$f":"IF(Dados!G271=\"\",\"\",Dados!G271)","v":""},{"$error":"#VALUE!"},"",{"$f":"SUM(I271:I280)","v":0},{"$error":"#VALUE!"},"",{"$f":"SUM(L271:L280)","v":0},{"$error":"#VALUE!"},"",{"$f":"SUM(O271:O280)","v":0},{"$error":"#VALUE!"},"",{"$f":"SUM(R271:R280)","v":0}]
[null,null,{"$f":"IF(Dados!C272=\"\",\"\",Dados!C272)","v":""},{"$f":"IF(Dados!D272=\"\",\"\",Dados!D272)","v":""},{"$f":"IF(Dados!E272=\"\",\"\",Dados!E272)","v":""},{"$f":"IF(Dados!F272=\"\",\"\",Dados!F272)","v":""},{"$f":"IF(Dados!G272=\"\",\"\",Dados!G272)","v":""},{"$error":"#VALUE!"},"",null,{"$error":"#VALUE!"},"",null,{"$error":"#VALUE!"},"",null,{"$error":"#VALUE!"},""]
[null,null,{"$f":"IF(Dados!C273=\"\",\"\",Dados!C273)","v":""},{"$f":"IF(Dados!D273=\"\",\"\",Dados!D273)","v":""},{"$f":"IF(Dados!E273=\"\",\"\",Dados!E273)","v":""},{"$f":"IF(Dados!F273=\"\",\"\",Dados!F273)","v":""},{"$f":"IF(Dados!G273=\"\",\"\",Dados!G273)","v":""},{"$error":"#VALUE!"},"",null,{"$error":"#VALUE!"},"",null,{"$error":"#VALUE!"},"",null,{"$error":"#VALUE!"},""]
[null,null,{"$f":"IF(Dados!C274=\"\",\"\",Dados!C274)","v":""},{"$f":"IF(Dados!D274=\"\",\"\",Dados!D274)","v":""},{"$f":"IF(Dados!E274=\"\",\"\",Dados!E274)","v":""},{"$f":"IF(Dados!F274=\"\",\"\",Dados!F274)","v":""},{"$f":"IF(Dados!G274=\"\",\"\",Dados!G274)","v":""},{"$error":"#VALUE!"},"",null,{"$error":"#VALUE!"},"",null,{"$error":"#VALUE!"},"",null,{"$error":"#VALUE!"},""]
[null,null,{"$f":"IF(Dados!C275=\"\",\"\",Dados!C275)","v":""},{"$f":"IF(Dados!D275=\"\",\"\",Dados!D275)","v":""},{"$f":"IF(Dados!E275=\"\",\"\",Dados!E275)","v":""},{"$f":"IF(Dados!F275=\"\",\"\",Dados!F275)","v":""},{"$f":"IF(Dados!G275=\"\",\"\",Dados!G275)","v":""},{"$error":"#VALUE!"},"",null,{"$error":"#VALUE!"},"",null,{"$error":"#VALUE!"},"",null,{"$error":"#VALUE!"},""]
[null,null,{"$f":"IF(Dados!C276=\"\",\"\",Dados!C276)","v":""},{"$f":"IF(Dados!D276=\"\",\"\",Dados!D276)","v":""},{"$f":"IF(Dados!E276=\"\",\"\",Dados!E276)","v":""},{"$f":"IF(Dados!F276=\"\",\"\",Dados!F276)","v":""},{"$f":"IF(Dados!G276=\"\",\"\",Dados!G276)","v":""},{"$error":"#VALUE!"},"",null,{"$error":"#VALUE!"},"",null,{"$error":"#VALUE!"},"",null,{"$error":"#VALUE!"},""]
[null,null,{"$f":"IF(Dados!C277=\"\",\"\",Dados!C277)","v":""},{"$f":"IF(Dados!D277=\"\",\"\",Dados!D277)","v":""},{"$f":"IF(Dados!E277=\"\",\"\",Dados!E277)","v":""},{"$f":"IF(Dados!F277=\"\",\"\",Dados!F277)","v":""},{"$f":"IF(Dados!G277=\"\",\"\",Dados!G277)","v":""},{"$error":"#VALUE!"},"",null,{"$error":"#VALUE!"},"",null,{"$error":"#VALUE!"},"",null,{"$error":"#VALUE!"},""]
[null,null,{"$f":"IF(Dados!C278=\"\",\"\",Dados!C278)","v":""},{"$f":"IF(Dados!D278=\"\",\"\",Dados!D278)","v":""},{"$f":"IF(Dados!E278=\"\",\"\",Dados!E278)","v":""},{"$f":"IF(Dados!F278=\"\",\"\",Dados!F278)","v":""},{"$f":"IF(Dados!G278=\"\",\"\",Dados!G278)","v":""},{"$error":"#VALUE!"},"",null,{"$error":"#VALUE!"},"",null,{"$error":"#VALUE!"},"",null,{"$error":"#VALUE!"},""]
[null,null,{"$f":"IF(Dados!C279=\"\",\"\",Dados!C279)","v":""},{"$f":"IF(Dados!D279=\"\",\"\",Dados!D279)","v":""},{"$f":"IF(Dados!E279=\"\",\"\",Dados!E279)","v":""},{"$f":"IF(Dados!F279=\"\",\"\",Dados!F279)","v":""},{"$f":"IF(Dados!G279=\"\",\"\",Dados!G279)","v":""},{"$error":"#VALUE!"},"",null,{"$error":"#VALUE!"},"",null,{"$error":"#VALUE!"},"",null,{"$error":"#VALUE!"},""]
[null,null,{"$f":"IF(Dados!C280=\"\",\"\",Dados!C280)","v":""},{"$f":"IF(Dados!D280=\"\",\"\",Dados!D280)","v":""},{"$f":"IF(Dados!E280=\"\",\"\",Dados!E280)","v":""},{"$f":"IF(Dados!F280=\"\",\"\",Dados!F280)","v":""},{"$f":"IF(Dados!G280=\"\",\"\",Dados!G280)","v":""},{"$error":"#VALUE!"},"",null,{"$error":"#VALUE!"},"",null,{"$error":"#VALUE!"},"",null,{"$error":"#VALUE!"},""]
[null,{"$f":"B271+1","v":28},{"$f":"IF(Dados!C281=\"\",\"\",Dados!C281)","v":""},{"$f":"IF(Dados!D281=\"\",\"\",Dados!D281)","v":""},{"$f":"IF(Dados!E281=\"\",\"\",Dados!E281)","v":""},{"$f":"IF(Dados!F281=\"\",\"\",Dados!F281)","v":""},{"$f":"IF(Dados!G281=\"\",\"\",Dados!G281)","v":""},{"$error":"#VALUE!"},"",{"$f":"SUM(I281:I290)","v":0},{"$error":"#VALUE!"},"",{"$f":"SUM(L281:L290)","v":0},{"$error":"#VALUE!"},"",{"$f":"SUM(O281:O290)","v":0},{"$error":"#VALUE!"},"",{"$f":"SUM(R281:R290)","v":0}]
[null,null,{"$f":"IF(Dados!C282=\"\",\"\",Dados!C282)","v":""},{"$f":"IF(Dados!D282=\"\",\"\",Dados!D282)","v":""},{"$f":"IF(Dados!E282=\"\",\"\",Dados!E282)","v":""},{"$f":"IF(Dados!F282=\"\",\"\",Dados!F282)","v":""},{"$f":"IF(Dados!G282=\"\",\"\",Dados!G282)","v":""},{"$error":"#VALUE!"},"",null,{"$error":"#VALUE!"},"",null,{"$error":"#VALUE!"},"",null,{"$error":"#VALUE!"},""]
[null,null,{"$f":"IF(Dados!C283=\"\",\"\",Dados!C283)","v":""},{"$f":"IF(Dados!D283=\"\",\"\",Dados!D283)","v":""},{"$f":"IF(Dados!E283=\"\",\"\",Dados!E283)","v":""},{"$f":"IF(Dados!F283=\"\",\"\",Dados!F283)","v":""},{"$f":"IF(Dados!G283=\"\",\"\",Dados!G283)","v":""},{"$error":"#VALUE!"},"",null,{"$error":"#VALUE!"},"",null,{"$error":"#VALUE!"},"",null,{"$error":"#VALUE!"},""]
[null,null,{"$f":"IF(Dados!C284=\"\",\"\",Dados!C284)","v":""},{"$f":"IF(Dados!D284=\"\",\"\",Dados!D284)","v":""},{"$f":"IF(Dados!E284=\"\",\"\",Dados!E284)","v":""},{"$f":"IF(Dados!F284=\"\",\"\",Dados!F284)","v":""},{"$f":"IF(Dados!G284=\"\",\"\",Dados!G284)","v":""},{"$error":"#VALUE!"},"",null,{"$error":"#VALUE!"},"",null,{"$error":"#VALUE!"},"",null,{"$error":"#VALUE!"},""]
[null,null,{"$f":"IF(Dados!C285=\"\",\"\",Dados!C285)","v":""},{"$f":"IF(Dados!D285=\"\",\"\",Dados!D285)","v":""},{"$f":"IF(Dados!E285=\"\",\"\",Dados!E285)","v":""},{"$f":"IF(Dados!F285=\"\",\"\",Dados!F285)","v":""},{"$f":"IF(Dados!G285=\"\",\"\",Dados!G285)","v":""},{"$error":"#VALUE!"},"",null,{"$error":"#VALUE!"},"",null,{"$error":"#VALUE!"},"",null,{"$error":"#VALUE!"},""]
[null,null,{"$f":"IF(Dados!C286=\"\",\"\",Dados!C286)","v":""},{"$f":"IF(Dados!D286=\"\",\"\",Dados!D286)","v":""},{"$f":"IF(Dados!E286=\"\",\"\",Dados!E286)","v":""},{"$f":"IF(Dados!F286=\"\",\"\",Dados!F286)","v":""},{"$f":"IF(Dados!G286=\"\",\"\",Dados!G286)","v":""},{"$error":"#VALUE!"},"",null,{"$error":"#VALUE!"},"",null,{"$error":"#VALUE!"},"",null,{"$error":"#VALUE!"},""]
[null,null,{"$f":"IF(Dados!C287=\"\",\"\",Dados!C287)","v":""},{"$f":"IF(Dados!D287=\"\",\"\",Dados!D287)","v":""},{"$f":"IF(Dados!E287=\"\",\"\",Dados!E287)","v":""},{"$f":"IF(Dados!F287=\"\",\"\",Dados!F287)","v":""},{"$f":"IF(Dados!G287=\"\",\"\",Dados!G287)","v":""},{"$error":"#VALUE!"},"",null,{"$error":"#VALUE!"},"",null,{"$error":"#VALUE!"},"",null,{"$error":"#VALUE!"},""]
[null,null,{"$f":"IF(Dados!C288=\"\",\"\",Dados!C288)","v":""},{"$f":"IF(Dados!D288=\"\",\"\",Dados!D288)","v":""},{"$f":"IF(Dados!E288=\"\",\"\",Dados!E288)","v":""},{"$f":"IF(Dados!F288=\"\",\"\",Dados!F288)","v":""},{"$f":"IF(Dados!G288=\"\",\"\",Dados!G288)","v":""},{"$error":"#VALUE!"},"",null,{"$error":"#VALUE!"},"",null,{"$error":"#VALUE!"},"",null,{"$error":"#VALUE!"},""]
[null,null,{"$f":"IF(Dados!C289=\"\",\"\",Dados!C289)","v":""},{"$f":"IF(Dados!D289=\"\",\"\",Dados!D289)","v":""},{"$f":"IF(Dados!E289=\"\",\"\",Dados!E289)","v":""},{"$f":"IF(Dados!F289=\"\",\"\",Dados!F289)","v":""},{"$f":"IF(Dados!G289=\"\",\"\",Dados!G289)","v":""},{"$error":"#VALUE!"},"",null,{"$error":"#VALUE!"},"",null,{"$error":"#VALUE!"},"",null,{"$error":"#VALUE!"},""]
[null,null,{"$f":"IF(Dados!C290=\"\",\"\",Dados!C290)","v":""},{"$f":"IF(Dados!D290=\"\",\"\",Dados!D290)","v":""},{"$f":"IF(Dados!E290=\"\",\"\",Dados!E290)","v":""},{"$f":"IF(Dados!F290=\"\",\"\",Dados!F290)","v":""},{"$f":"IF(Dados!G290=\"\",\"\",Dados!G290)","v":""},{"$error":"#VALUE!"},"",null,{"$error":"#VALUE!"},"",null,{"$error":"#VALUE!"},"",null,{"$error":"#VALUE!"},""]
[null,{"$f":"B281+1","v":29},{"$f":"IF(Dados!C291=\"\",\"\",Dados!C291)","v":""},{"$f":"IF(Dados!D291=\"\",\"\",Dados!D291)","v":""},{"$f":"IF(Dados!E291=\"\",\"\",Dados!E291)","v":""},{"$f":"IF(Dados!F291=\"\",\"\",Dados!F291)","v":""},{"$f":"IF(Dados!G291=\"\",\"\",Dados!G291)","v":""},{"$error":"#VALUE!"},"",{"$f":"SUM(I291:I300)","v":0},{"$error":"#VALUE!"},"",{"$f":"SUM(L291:L300)","v":0},{"$error":"#VALUE!"},"",{"$f":"SUM(O291:O300)","v":0},{"$error":"#VALUE!"},"",{"$f":"SUM(R291:R300)","v":0}]
[null,null,{"$f":"IF(Dados!C292=\"\",\"\",Dados!C292)","v":""},{"$f":"IF(Dados!D292=\"\",\"\",Dados!D292)","v":""},{"$f":"IF(Dados!E292=\"\",\"\",Dados!E292)","v":""},{"$f":"IF(Dados!F292=\"\",\"\",Dados!F292)","v":""},{"$f":"IF(Dados!G292=\"\",\"\",Dados!G292)","v":""},{"$error":"#VALUE!"},"",null,{"$error":"#VALUE!"},"",null,{"$error":"#VALUE!"},"",null,{"$error":"#VALUE!"},""]
[null,null,{"$f":"IF(Dados!C293=\"\",\"\",Dados!C293)","v":""},{"$f":"IF(Dados!D293=\"\",\"\",Dados!D293)","v":""},{"$f":"IF(Dados!E293=\"\",\"\",Dados!E293)","v":""},{"$f":"IF(Dados!F293=\"\",\"\",Dados!F293)","v":""},{"$f":"IF(Dados!G293=\"\",\"\",Dados!G293)","v":""},{"$error":"#VALUE!"},"",null,{"$error":"#VALUE!"},"",null,{"$error":"#VALUE!"},"",null,{"$error":"#VALUE!"},""]
[null,null,{"$f":"IF(Dados!C294=\"\",\"\",Dados!C294)","v":""},{"$f":"IF(Dados!D294=\"\",\"\",Dados!D294)","v":""},{"$f":"IF(Dados!E294=\"\",\"\",Dados!E294)","v":""},{"$f":"IF(Dados!F294=\"\",\"\",Dados!F294)","v":""},{"$f":"IF(Dados!G294=\"\",\"\",Dados!G294)","v":""},{"$error":"#VALUE!"},"",null,{"$error":"#VALUE!"},"",null,{"$error":"#VALUE!"},"",null,{"$error":"#VALUE!"},""]
[null,null,{"$f":"IF(Dados!C295=\"\",\"\",Dados!C295)","v":""},{"$f":"IF(Dados!D295=\"\",\"\",Dados!D295)","v":""},{"$f":"IF(Dados!E295=\"\",\"\",Dados!E295)","v":""},{"$f":"IF(Dados!F295=\"\",\"\",Dados!F295)","v":""},{"$f":"IF(Dados!G295=\"\",\"\",Dados!G295)","v":""},{"$error":"#VALUE!"},"",null,{"$error":"#VALUE!"},"",null,{"$error":"#VALUE!"},"",null,{"$error":"#VALUE!"},""]
[null,null,{"$f":"IF(Dados!C296=\"\",\"\",Dados!C296)","v":""},{"$f":"IF(Dados!D296=\"\",\"\",Dados!D296)","v":""},{"$f":"IF(Dados!E296=\"\",\"\",Dados!E296)","v":""},{"$f":"IF(Dados!F296=\"\",\"\",Dados!F296)","v":""},{"$f":"IF(Dados!G296=\"\",\"\",Dados!G296)","v":""},{"$error":"#VALUE!"},"",null,{"$error":"#VALUE!"},"",null,{"$error":"#VALUE!"},"",null,{"$error":"#VALUE!"},""]
[null,null,{"$f":"IF(Dados!C297=\"\",\"\",Dados!C297)","v":""},{"$f":"IF(Dados!D297=\"\",\"\",Dados!D297)","v":""},{"$f":"IF(Dados!E297=\"\",\"\",Dados!E297)","v":""},{"$f":"IF(Dados!F297=\"\",\"\",Dados!F297)","v":""},{"$f":"IF(Dados!G297=\"\",\"\",Dados!G297)","v":""},{"$error":"#VALUE!"},"",null,{"$error":"#VALUE!"},"",null,{"$error":"#VALUE!"},"",null,{"$error":"#VALUE!"},""]
[null,null,{"$f":"IF(Dados!C298=\"\",\"\",Dados!C298)","v":""},{"$f":"IF(Dados!D298=\"\",\"\",Dados!D298)","v":""},{"$f":"IF(Dados!E298=\"\",\"\",Dados!E298)","v":""},{"$f":"IF(Dados!F298=\"\",\"\",Dados!F298)","v":""},{"$f":"IF(Dados!G298=\"\",\"\",Dados!G298)","v":""},{"$error":"#VALUE!"},"",null,{"$error":"#VALUE!"},"",null,{"$error":"#VALUE!"},"",null,{"$error":"#VALUE!"},""]
[null,null,{"$f":"IF(Dados!C299=\"\",\"\",Dados!C299)","v":""},{"$f":"IF(Dados!D299=\"\",\"\",Dados!D299)","v":""},{"$f":"IF(Dados!E299=\"\",\"\",Dados!E299)","v":""},{"$f":"IF(Dados!F299=\"\",\"\",Dados!F299)","v":""},{"$f":"IF(Dados!G299=\"\",\"\",Dados!G299)","v":""},{"$error":"#VALUE!"},"",null,{"$error":"#VALUE!"},"",null,{"$error":"#VALUE!"},"",null,{"$error":"#VALUE!"},""]
[null,null,{"$f":"IF(Dados!C300=\"\",\"\",Dados!C300)","v":""},{"$f":"IF(Dados!D300=\"\",\"\",Dados!D300)","v":""},{"$f":"IF(Dados!E300=\"\",\"\",Dados!E300)","v":""},{"$f":"IF(Dados!F300=\"\",\"\",Dados!F300)","v":""},{"$f":"IF(Dados!G300=\"\",\"\",Dados!G300)","v":""},{"$error":"#VALUE!"},"",null,{"$error":"#VALUE!"},"",null,{"$error":"#VALUE!"},"",null,{"$error":"#VALUE!"},""]
[null,{"$f":"B291+1","v":30},{"$f":"IF(Dados!C301=\"\",\"\",Dados!C301)","v":""},{"$f":"IF(Dados!D301=\"\",\"\",Dados!D301)","v":""},{"$f":"IF(Dados!E301=\"\",\"\",Dados!E301)","v":""},{"$f":"IF(Dados!F301=\"\",\"\",Dados!F301)","v":""},{"$f":"IF(Dados!G301=\"\",\"\",Dados!G301)","v":""},{"$error":"#VALUE!"},"",{"$f":"SUM(I301:I310)","v":0},{"$error":"#VALUE!"},"",{"$f":"SUM(L301:L310)","v":0},{"$error":"#VALUE!"},"",{"$f":"SUM(O301:O310)","v":0},{"$error":"#VALUE!"},"",{"$f":"SUM(R301:R310)","v":0}]
[null,null,{"$f":"IF(Dados!C302=\"\",\"\",Dados!C302)","v":""},{"$f":"IF(Dados!D302=\"\",\"\",Dados!D302)","v":""},{"$f":"IF(Dados!E302=\"\",\"\",Dados!E302)","v":""},{"$f":"IF(Dados!F302=\"\",\"\",Dados!F302)","v":""},{"$f":"IF(Dados!G302=\"\",\"\",Dados!G302)","v":""},{"$error":"#VALUE!"},"",null,{"$error":"#VALUE!"},"",null,{"$error":"#VALUE!"},"",null,{"$error":"#VALUE!"},""]
[null,null,{"$f":"IF(Dados!C303=\"\",\"\",Dados!C303)","v":""},{"$f":"IF(Dados!D303=\"\",\"\",Dados!D303)","v":""},{"$f":"IF(Dados!E303=\"\",\"\",Dados!E303)","v":""},{"$f":"IF(Dados!F303=\"\",\"\",Dados!F303)","v":""},{"$f":"IF(Dados!G303=\"\",\"\",Dados!G303)","v":""},{"$error":"#VALUE!"},"",null,{"$error":"#VALUE!"},"",null,{"$error":"#VALUE!"},"",null,{"$error":"#VALUE!"},""]
[null,null,{"$f":"IF(Dados!C304=\"\",\"\",Dados!C304)","v":""},{"$f":"IF(Dados!D304=\"\",\"\",Dados!D304)","v":""},{"$f":"IF(Dados!E304=\"\",\"\",Dados!E304)","v":""},{"$f":"IF(Dados!F304=\"\",\"\",Dados!F304)","v":""},{"$f":"IF(Dados!G304=\"\",\"\",Dados!G304)","v":""},{"$error":"#VALUE!"},"",null,{"$error":"#VALUE!"},"",null,{"$error":"#VALUE!"},"",null,{"$error":"#VALUE!"},""]
[null,null,{"$f":"IF(Dados!C305=\"\",\"\",Dados!C305)","v":""},{"$f":"IF(Dados!D305=\"\",\"\",Dados!D305)","v":""},{"$f":"IF(Dados!E305=\"\",\"\",Dados!E305)","v":""},{"$f":"IF(Dados!F305=\"\",\"\",Dados!F305)","v":""},{"$f":"IF(Dados!G305=\"\",\"\",Dados!G305)","v":""},{"$error":"#VALUE!"},"",null,{"$error":"#VALUE!"},"",null,{"$error":"#VALUE!"},"",null,{"$error":"#VALUE!"},""]
[null,null,{"$f":"IF(Dados!C306=\"\",\"\",Dados!C306)","v":""},{"$f":"IF(Dados!D306=\"\",\"\",Dados!D306)","v":""},{"$f":"IF(Dados!E306=\"\",\"\",Dados!E306)","v":""},{"$f":"IF(Dados!F306=\"\",\"\",Dados!F306)","v":""},{"$f":"IF(Dados!G306=\"\",\"\",Dados!G306)","v":""},{"$error":"#VALUE!"},"",null,{"$error":"#VALUE!"},"",null,{"$error":"#VALUE!"},"",null,{"$error":"#VALUE!"},""]
[null,null,{"$f":"IF(Dados!C307=\"\",\"\",Dados!C307)","v":""},{"$f":"IF(Dados!D307=\"\",\"\",Dados!D307)","v":""},{"$f":"IF(Dados!E307=\"\",\"\",Dados!E307)","v":""},{"$f":"IF(Dados!F307=\"\",\"\",Dados!F307)","v":""},{"$f":"IF(Dados!G307=\"\",\"\",Dados!G307)","v":""},{"$error":"#VALUE!"},"",null,{"$error":"#VALUE!"},"",null,{"$error":"#VALUE!"},"",null,{"$error":"#VALUE!"},""]
[null,null,{"$f":"IF(Dados!C308=\"\",\"\",Dados!C308)","v":""},{"$f":"IF(Dados!D308=\"\",\"\",Dados!D308)","v":""},{"$f":"IF(Dados!E308=\"\",\"\",Dados!E308)","v":""},{"$f":"IF(Dados!F308=\"\",\"\",Dados!F308)","v":""},{"$f":"IF(Dados!G308=\"\",\"\",Dados!G308)","v":""},{"$error":"#VALUE!"},"",null,{"$error":"#VALUE!"},"",null,{"$error":"#VALUE!"},"",null,{"$error":"#VALUE!"},""]
[null,null,{"$f":"IF(Dados!C309=\"\",\"\",Dados!C309)","v":""},{"$f":"IF(Dados!D309=\"\",\"\",Dados!D309)","v":""},{"$f":"IF(Dados!E309=\"\",\"\",Dados!E309)","v":""},{"$f":"IF(Dados!F309=\"\",\"\",Dados!F309)","v":""},{"$f":"IF(Dados!G309=\"\",\"\",Dados!G309)","v":""},{"$error":"#VALUE!"},"",null,{"$error":"#VALUE!"},"",null,{"$error":"#VALUE!"},"",null,{"$error":"#VALUE!"},""]
[null,null,{"$f":"IF(Dados!C310=\"\",\"\",Dados!C310)","v":""},{"$f":"IF(Dados!D310=\"\",\"\",Dados!D310)","v":""},{"$f":"IF(Dados!E310=\"\",\"\",Dados!E310)","v":""},{"$f":"IF(Dados!F310=\"\",\"\",Dados!F310)","v":""},{"$f":"IF(Dados!G310=\"\",\"\",Dados!G310)","v":""},{"$error":"#VALUE!"},"",null,{"$error":"#VALUE!"},"",null,{"$error":"#VALUE!"},"",null,{"$error":"#VALUE!"},""]
[null,{"$f":"B301+1","v":31},{"$f":"IF(Dados!C311=\"\",\"\",Dados!C311)","v":""},{"$f":"IF(Dados!D311=\"\",\"\",Dados!D311)","v":""},{"$f":"IF(Dados!E311=\"\",\"\",Dados!E311)","v":""},{"$f":"IF(Dados!F311=\"\",\"\",Dados!F311)","v":""},{"$f":"IF(Dados!G311=\"\",\"\",Dados!G311)","v":""},{"$error":"#VALUE!"},"",{"$f":"SUM(I311:I320)","v":0},{"$error":"#VALUE!"},"",{"$f":"SUM(L311:L320)","v":0},{"$error":"#VALUE!"},"",{"$f":"SUM(O311:O320)","v":0},{"$error":"#VALUE!"},"",{"$f":"SUM(R311:R320)","v":0}]
[null,null,{"$f":"IF(Dados!C312=\"\",\"\",Dados!C312)","v":""},{"$f":"IF(Dados!D312=\"\",\"\",Dados!D312)","v":""},{"$f":"IF(Dados!E312=\"\",\"\",Dados!E312)","v":""},{"$f":"IF(Dados!F312=\"\",\"\",Dados!F312)","v":""},{"$f":"IF(Dados!G312=\"\",\"\",Dados!G312)","v":""},{"$error":"#VALUE!"},"",null,{"$error":"#VALUE!"},"",null,{"$error":"#VALUE!"},"",null,{"$error":"#VALUE!"},""]
[null,null,{"$f":"IF(Dados!C313=\"\",\"\",Dados!C313)","v":""},{"$f":"IF(Dados!D313=\"\",\"\",Dados!D313)","v":""},{"$f":"IF(Dados!E313=\"\",\"\",Dados!E313)","v":""},{"$f":"IF(Dados!F313=\"\",\"\",Dados!F313)","v":""},{"$f":"IF(Dados!G313=\"\",\"\",Dados!G313)","v":""},{"$error":"#VALUE!"},"",null,{"$error":"#VALUE!"},"",null,{"$error":"#VALUE!"},"",null,{"$error":"#VALUE!"},""]
[null,null,{"$f":"IF(Dados!C314=\"\",\"\",Dados!C314)","v":""},{"$f":"IF(Dados!D314=\"\",\"\",Dados!D314)","v":""},{"$f":"IF(Dados!E314=\"\",\"\",Dados!E314)","v":""},{"$f":"IF(Dados!F314=\"\",\"\",Dados!F314)","v":""},{"$f":"IF(Dados!G314=\"\",\"\",Dados!G314)","v":""},{"$error":"#VALUE!"},"",null,{"$error":"#VALUE!"},"",null,{"$error":"#VALUE!"},"",null,{"$error":"#VALUE!"},""]
[null,null,{"$f":"IF(Dados!C315=\"\",\"\",Dados!C315)","v":""},{"$f":"IF(Dados!D315=\"\",\"\",Dados!D315)","v":""},{"$f":"IF(Dados!E315=\"\",\"\",Dados!E315)","v":""},{"$f":"IF(Dados!F315=\"\",\"\",Dados!F315)","v":""},{"$f":"IF(Dados!G315=\"\",\"\",Dados!G315)","v":""},{"$error":"#VALUE!"},"",null,{"$error":"#VALUE!"},"",null,{"$error":"#VALUE!"},"",null,{"$error":"#VALUE!"},""]
[null,null,{"$f":"IF(Dados!C316=\"\",\"\",Dados!C316)","v":""},{"$f":"IF(Dados!D316=\"\",\"\",Dados!D316)","v":""},{"$f":"IF(Dados!E316=\"\",\"\",Dados!E316)","v":""},{"$f":"IF(Dados!F316=\"\",\"\",Dados!F316)","v":""},{"$f":"IF(Dados!G316=\"\",\"\",Dados!G316)","v":""},{"$error":"#VALUE!"},"",null,{"$error":"#VALUE!"},"",null,{"$error":"#VALUE!"},"",null,{"$error":"#VALUE!"},""]
[null,null,{"$f":"IF(Dados!C317=\"\",\"\",Dados!C317)","v":""},{"$f":"IF(Dados!D317=\"\",\"\",Dados!D317)","v":""},{"$f":"IF(Dados!E317=\"\",\"\",Dados!E317)","v":""},{"$f":"IF(Dados!F317=\"\",\"\",Dados!F317)","v":""},{"$f":"IF(Dados!G317=\"\",\"\",Dados!G317)","v":""},{"$error":"#VALUE!"},"",null,{"$error":"#VALUE!"},"",null,{"$error":"#VALUE!"},"",null,{"$error":"#VALUE!"},""]
[null,null,{"$f":"IF(Dados!C318=\"\",\"\",Dados!C318)","v":""},{"$f":"IF(Dados!D318=\"\",\"\",Dados!D318)","v":""},{"$f":"IF(Dados!E318=\"\",\"\",Dados!E318)","v":""},{"$f":"IF(Dados!F318=\"\",\"\",Dados!F318)","v":""},{"$f":"IF(Dados!G318=\"\",\"\",Dados!G318)","v":""},{"$error":"#VALUE!"},"",null,{"$error":"#VALUE!"},"",null,{"$error":"#VALUE!"},"",null,{"$error":"#VALUE!"},""]
[null,null,{"$f":"IF(Dados!C319=\"\",\"\",Dados!C319)","v":""},{"$f":"IF(Dados!D319=\"\",\"\",Dados!D319)","v":""},{"$f":"IF(Dados!E319=\"\",\"\",Dados!E319)","v":""},{"$f":"IF(Dados!F319=\"\",\"\",Dados!F319)","v":""},{"$f":"IF(Dados!G319=\"\",\"\",Dados!G319)","v":""},{"$error":"#VALUE!"},"",null,{"$error":"#VALUE!"},"",null,{"$error":"#VALUE!"},"",null,{"$error":"#VALUE!"},""]
[null,null,{"$f":"IF(Dados!C320=\"\",\"\",Dados!C320)","v":""},{"$f":"IF(Dados!D320=\"\",\"\",Dados!D320)","v":""},{"$f":"IF(Dados!E320=\"\",\"\",Dados!E320)","v":""},{"$f":"IF(Dados!F320=\"\",\"\",Dados!F320)","v":""},{"$f":"IF(Dados!G320=\"\",\"\",Dados!G320)","v":""},{"$error":"#VALUE!"},"",null,{"$error":"#VALUE!"},"",null,{"$error":"#VALUE!"},"",null,{"$error":"#VALUE!"},""]
[null,{"$f":"B311+1","v":32},{"$f":"IF(Dados!C321=\"\",\"\",Dados!C321)","v":""},{"$f":"IF(Dados!D321=\"\",\"\",Dados!D321)","v":""},{"$f":"IF(Dados!E321=\"\",\"\",Dados!E321)","v":""},{"$f":"IF(Dados!F321=\"\",\"\",Dados!F321)","v":""},{"$f":"IF(Dados!G321=\"\",\"\",Dados!G321)","v":""},{"$error":"#VALUE!"},"",{"$f":"SUM(I321:I330)","v":0},{"$error":"#VALUE!"},"",{"$f":"SUM(L321:L330)","v":0},{"$error":"#VALUE!"},"",{"$f":"SUM(O321:O330)","v":0},{"$error":"#VALUE!"},"",{"$f":"SUM(R321:R330)","v":0}]
[null,null,{"$f":"IF(Dados!C322=\"\",\"\",Dados!C322)","v":""},{"$f":"IF(Dados!D322=\"\",\"\",Dados!D322)","v":""},{"$f":"IF(Dados!E322=\"\",\"\",Dados!E322)","v":""},{"$f":"IF(Dados!F322=\"\",\"\",Dados!F322)","v":""},{"$f":"IF(Dados!G322=\"\",\"\",Dados!G322)","v":""},{"$error":"#VALUE!"},"",null,{"$error":"#VALUE!"},"",null,{"$error":"#VALUE!"},"",null,{"$error":"#VALUE!"},""]
[null,null,{"$f":"IF(Dados!C323=\"\",\"\",Dados!C323)","v":""},{"$f":"IF(Dados!D323=\"\",\"\",Dados!D323)","v":""},{"$f":"IF(Dados!E323=\"\",\"\",Dados!E323)","v":""},{"$f":"IF(Dados!F323=\"\",\"\",Dados!F323)","v":""},{"$f":"IF(Dados!G323=\"\",\"\",Dados!G323)","v":""},{"$error":"#VALUE!"},"",null,{"$error":"#VALUE!"},"",null,{"$error":"#VALUE!"},"",null,{"$error":"#VALUE!"},""]
[null,null,{"$f":"IF(Dados!C324=\"\",\"\",Dados!C324)","v":""},{"$f":"IF(Dados!D324=\"\",\"\",Dados!D324)","v":""},{"$f":"IF(Dados!E324=\"\",\"\",Dados!E324)","v":""},{"$f":"IF(Dados!F324=\"\",\"\",Dados!F324)","v":""},{"$f":"IF(Dados!G324=\"\",\"\",Dados!G324)","v":""},{"$error":"#VALUE!"},"",null,{"$error":"#VALUE!"},"",null,{"$error":"#VALUE!"},"",null,{"$error":"#VALUE!"},""]
[null,null,{"$f":"IF(Dados!C325=\"\",\"\",Dados!C325)","v":""},{"$f":"IF(Dados!D325=\"\",\"\",Dados!D325)","v":""},{"$f":"IF(Dados!E325=\"\",\"\",Dados!E325)","v":""},{"$f":"IF(Dados!F325=\"\",\"\",Dados!F325)","v":""},{"$f":"IF(Dados!G325=\"\",\"\",Dados!G325)","v":""},{"$error":"#VALUE!"},"",null,{"$error":"#VALUE!"},"",null,{"$error":"#VALUE!"},"",null,{"$error":"#VALUE!"},""]
[null,null,{"$f":"IF(Dados!C326=\"\",\"\",Dados!C326)","v":""},{"$f":"IF(Dados!D326=\"\",\"\",Dados!D326)","v":""},{"$f":"IF(Dados!E326=\"\",\"\",Dados!E326)","v":""},{"$f":"IF(Dados!F326=\"\",\"\",Dados!F326)","v":""},{"$f":"IF(Dados!G326=\"\",\"\",Dados!G326)","v":""},{"$error":"#VALUE!"},"",null,{"$error":"#VALUE!"},"",null,{"$error":"#VALUE!"},"",null,{"$error":"#VALUE!"},""]
[null,null,{"$f":"IF(Dados!C327=\"\",\"\",Dados!C327)","v":""},{"$f":"IF(Dados!D327=\"\",\"\",Dados!D327)","v":""},{"$f":"IF(Dados!E327=\"\",\"\",Dados!E327)","v":""},{"$f":"IF(Dados!F327=\"\",\"\",Dados!F327)","v":""},{"$f":"IF(Dados!G327=\"\",\"\",Dados!G327)","v":""},{"$error":"#VALUE!"},"",null,{"$error":"#VALUE!"},"",null,{"$error":"#VALUE!"},"",null,{"$error":"#VALUE!"},""]
[null,null,{"$f":"IF(Dados!C328=\"\",\"\",Dados!C328)","v":""},{"$f":"IF(Dados!D328=\"\",\"\",Dados!D328)","v":""},{"$f":"IF(Dados!E328=\"\",\"\",Dados!E328)","v":""},{"$f":"IF(Dados!F328=\"\",\"\",Dados!F328)","v":""},{"$f":"IF(Dados!G328=\"\",\"\",Dados!G328)","v":""},{"$error":"#VALUE!"},"",null,{"$error":"#VALUE!"},"",null,{"$error":"#VALUE!"},"",null,{"$error":"#VALUE!"},""]
[null,null,{"$f":"IF(Dados!C329=\"\",\"\",Dados!C329)","v":""},{"$f":"IF(Dados!D329=\"\",\"\",Dados!D329)","v":""},{"$f":"IF(Dados!E329=\"\",\"\",Dados!E329)","v":""},{"$f":"IF(Dados!F329=\"\",\"\",Dados!F329)","v":""},{"$f":"IF(Dados!G329=\"\",\"\",Dados!G329)","v":""},{"$error":"#VALUE!"},"",null,{"$error":"#VALUE!"},"",null,{"$error":"#VALUE!"},"",null,{"$error":"#VALUE!"},""]
[null,null,{"$f":"IF(Dados!C330=\"\",\"\",Dados!C330)","v":""},{"$f":"IF(Dados!D330=\"\",\"\",Dados!D330)","v":""},{"$f":"IF(Dados!E330=\"\",\"\",Dados!E330)","v":""},{"$f":"IF(Dados!F330=\"\",\"\",Dados!F330)","v":""},{"$f":"IF(Dados!G330=\"\",\"\",Dados!G330)","v":""},{"$error":"#VALUE!"},"",null,{"$error":"#VALUE!"},"",null,{"$error":"#VALUE!"},"",null,{"$error":"#VALUE!"},""]
[null,{"$f":"B321+1","v":33},{"$f":"IF(Dados!C331=\"\",\"\",Dados!C331)","v":""},{"$f":"IF(Dados!D331=\"\",\"\",Dados!D331)","v":""},{"$f":"IF(Dados!E331=\"\",\"\",Dados!E331)","v":""},{"$f":"IF(Dados!F331=\"\",\"\",Dados!F331)","v":""},{"$f":"IF(Dados!G331=\"\",\"\",Dados!G331)","v":""},{"$f":"($G331*ChIR*ChEF*ChED)/(ChBW*ChATnc)","v":{"$error":"#VALUE!"}},{"$f":"IFERROR((H331)/(VLOOKUP($F331,intervaloHQ,2,0)),\"\")","v":""},{"$f":"SUM(I331:I340)","v":0},{"$f":"($G331*AdIR*AdEF*AdED)/(AdBW*AdATnc)","v":{"$error":"#VALUE!"}},{"$f":"IFERROR((K331)/(VLOOKUP($F331,intervaloHQ,2,0)),\"\")","v":""},{"$f":"SUM(L331:L340)","v":0},{"$f":"($G331*ChIR*ChEF*ChED)/(ChBW*ChATc)","v":{"$error":"#VALUE!"}},{"$f":"IFERROR((N331)*(VLOOKUP($F331,intervaloHQ,4,0)),\"\")","v":""},{"$f":"SUM(O331:O340)","v":0},{"$f":"($G331*AdIR*AdEF*AdED)/(AdBW*AdATc)","v":{"$error":"#VALUE!"}},{"$f":"IFERROR((Q331)*(VLOOKUP($F331,intervaloHQ,4,0)),\"\")","v":""},{"$f":"SUM(R331:R340)","v":0}]
[null,null,{"$f":"IF(Dados!C332=\"\",\"\",Dados!C332)","v":""},{"$f":"IF(Dados!D332=\"\",\"\",Dados!D332)","v":""},{"$f":"IF(Dados!E332=\"\",\"\",Dados!E332)","v":""},{"$f":"IF(Dados!F332=\"\",\"\",Dados!F332)","v":""},{"$f":"IF(Dados!G332=\"\",\"\",Dados!G332)","v":""},{"$error":"#VALUE!"},"",null,{"$error":"#VALUE!"},"",null,{"$error":"#VALUE!"},"",null,{"$error":"#VALUE!"},""]
[null,null,{"$f":"IF(Dados!C333=\"\",\"\",Dados!C333)","v":""},{"$f":"IF(Dados!D333=\"\",\"\",Dados!D333)","v":""},{"$f":"IF(Dados!E333=\"\",\"\",Dados!E333)","v":""},{"$f":"IF(Dados!F333=\"\",\"\",Dados!F333)","v":""},{"$f":"IF(Dados!G333=\"\",\"\",Dados!G333)","v":""},{"$error":"#VALUE!"},"",null,{"$error":"#VALUE!"},"",null,{"$error":"#VALUE!"},"",null,{"$error":"#VALUE!"},""]
[null,null,{"$f":"IF(Dados!C334=\"\",\"\",Dados!C334)","v":""},{"$f":"IF(Dados!D334=\"\",\"\",Dados!D334)","v":""},{"$f":"IF(Dados!E334=\"\",\"\",Dados!E334)","v":""},{"$f":"IF(Dados!F334=\"\",\"\",Dados!F334)","v":""},{"$f":"IF(Dados!G334=\"\",\"\",Dados!G334)","v":""},{"$error":"#VALUE!"},"",null,{"$error":"#VALUE!"},"",null,{"$error":"#VALUE!"},"",null,{"$error":"#VALUE!"},""]
[null,null,{"$f":"IF(Dados!C335=\"\",\"\",Dados!C335)","v":""},{"$f":"IF(Dados!D335=\"\",\"\",Dados!D335)","v":""},{"$f":"IF(Dados!E335=\"\",\"\",Dados!E335)","v":""},{"$f":"IF(Dados!F335=\"\",\"\",Dados!F335)","v":""},{"$f":"IF(Dados!G335=\"\",\"\",Dados!G335)","v":""},{"$error":"#VALUE!"},"",null,{"$error":"#VALUE!"},"",null,{"$error":"#VALUE!"},"",null,{"$error":"#VALUE!"},""]
[null,null,{"$f":"IF(Dados!C336=\"\",\"\",Dados!C336)","v":""},{"$f":"IF(Dados!D336=\"\",\"\",Dados!D336)","v":""},{"$f":"IF(Dados!E336=\"\",\"\",Dados!E336)","v":""},{"$f":"IF(Dados!F336=\"\",\"\",Dados!F336)","v":""},{"$f":"IF(Dados!G336=\"\",\"\",Dados!G336)","v":""},{"$error":"#VALUE!"},"",null,{"$error":"#VALUE!"},"",null,{"$error":"#VALUE!"},"",null,{"$error":"#VALUE!"},""]
[null,null,{"$f":"IF(Dados!C337=\"\",\"\",Dados!C337)","v":""},{"$f":"IF(Dados!D337=\"\",\"\",Dados!D337)","v":""},{"$f":"IF(Dados!E337=\"\",\"\",Dados!E337)","v":""},{"$f":"IF(Dados!F337=\"\",\"\",Dados!F337)","v":""},{"$f":"IF(Dados!G337=\"\",\"\",Dados!G337)","v":""},{"$error":"#VALUE!"},"",null,{"$error":"#VALUE!"},"",null,{"$error":"#VALUE!"},"",null,{"$error":"#VALUE!"},""]
[null,null,{"$f":"IF(Dados!C338=\"\",\"\",Dados!C338)","v":""},{"$f":"IF(Dados!D338=\"\",\"\",Dados!D338)","v":""},{"$f":"IF(Dados!E338=\"\",\"\",Dados!E338)","v":""},{"$f":"IF(Dados!F338=\"\",\"\",Dados!F338)","v":""},{"$f":"IF(Dados!G338=\"\",\"\",Dados!G338)","v":""},{"$error":"#VALUE!"},"",null,{"$error":"#VALUE!"},"",null,{"$error":"#VALUE!"},"",null,{"$error":"#VALUE!"},""]
[null,null,{"$f":"IF(Dados!C339=\"\",\"\",Dados!C339)","v":""},{"$f":"IF(Dados!D339=\"\",\"\",Dados!D339)","v":""},{"$f":"IF(Dados!E339=\"\",\"\",Dados!E339)","v":""},{"$f":"IF(Dados!F339=\"\",\"\",Dados!F339)","v":""},{"$f":"IF(Dados!G339=\"\",\"\",Dados!G339)","v":""},{"$error":"#VALUE!"},"",null,{"$error":"#VALUE!"},"",null,{"$error":"#VALUE!"},"",null,{"$error":"#VALUE!"},""]
[null,null,{"$f":"IF(Dados!C340=\"\",\"\",Dados!C340)","v":""},{"$f":"IF(Dados!D340=\"\",\"\",Dados!D340)","v":""},{"$f":"IF(Dados!E340=\"\",\"\",Dados!E340)","v":""},{"$f":"IF(Dados!F340=\"\",\"\",Dados!F340)","v":""},{"$f":"IF(Dados!G340=\"\",\"\",Dados!G340)","v":""},{"$error":"#VALUE!"},"",null,{"$error":"#VALUE!"},"",null,{"$error":"#VALUE!"},"",null,{"$error":"#VALUE!"},""]
[null,{"$f":"B331+1","v":34},{"$f":"IF(Dados!C341=\"\",\"\",Dados!C341)","v":""},{"$f":"IF(Dados!D341=\"\",\"\",Dados!D341)","v":""},{"$f":"IF(Dados!E341=\"\",\"\",Dados!E341)","v":""},{"$f":"IF(Dados!F341=\"\",\"\",Dados!F341)","v":""},{"$f":"IF(Dados!G341=\"\",\"\",Dados!G341)","v":""},{"$error":"#VALUE!"},"",{"$f":"SUM(I341:I350)","v":0},{"$error":"#VALUE!"},"",{"$f":"SUM(L341:L350)","v":0},{"$error":"#VALUE!"},"",{"$f":"SUM(O341:O350)","v":0},{"$error":"#VALUE!"},"",{"$f":"SUM(R341:R350)","v":0}]
[null,null,{"$f":"IF(Dados!C342=\"\",\"\",Dados!C342)","v":""},{"$f":"IF(Dados!D342=\"\",\"\",Dados!D342)","v":""},{"$f":"IF(Dados!E342=\"\",\"\",Dados!E342)","v":""},{"$f":"IF(Dados!F342=\"\",\"\",Dados!F342)","v":""},{"$f":"IF(Dados!G342=\"\",\"\",Dados!G342)","v":""},{"$error":"#VALUE!"},"",null,{"$error":"#VALUE!"},"",null,{"$error":"#VALUE!"},"",null,{"$error":"#VALUE!"},""]
[null,null,{"$f":"IF(Dados!C343=\"\",\"\",Dados!C343)","v":""},{"$f":"IF(Dados!D343=\"\",\"\",Dados!D343)","v":""},{"$f":"IF(Dados!E343=\"\",\"\",Dados!E343)","v":""},{"$f":"IF(Dados!F343=\"\",\"\",Dados!F343)","v":""},{"$f":"IF(Dados!G343=\"\",\"\",Dados!G343)","v":""},{"$error":"#VALUE!"},"",null,{"$error":"#VALUE!"},"",null,{"$error":"#VALUE!"},"",null,{"$error":"#VALUE!"},""]
[null,null,{"$f":"IF(Dados!C344=\"\",\"\",Dados!C344)","v":""},{"$f":"IF(Dados!D344=\"\",\"\",Dados!D344)","v":""},{"$f":"IF(Dados!E344=\"\",\"\",Dados!E344)","v":""},{"$f":"IF(Dados!F344=\"\",\"\",Dados!F344)","v":""},{"$f":"IF(Dados!G344=\"\",\"\",Dados!G344)","v":""},{"$error":"#VALUE!"},"",null,{"$error":"#VALUE!"},"",null,{"$error":"#VALUE!"},"",null,{"$error":"#VALUE!"},""]
[null,null,{"$f":"IF(Dados!C345=\"\",\"\",Dados!C345)","v":""},{"$f":"IF(Dados!D345=\"\",\"\",Dados!D345)","v":""},{"$f":"IF(Dados!E345=\"\",\"\",Dados!E345)","v":""},{"$f":"IF(Dados!F345=\"\",\"\",Dados!F345)","v":""},{"$f":"IF(Dados!G345=\"\",\"\",Dados!G345)","v":""},{"$error":"#VALUE!"},"",null,{"$error":"#VALUE!"},"",null,{"$error":"#VALUE!"},"",null,{"$error":"#VALUE!"},""]
[null,null,{"$f":"IF(Dados!C346=\"\",\"\",Dados!C346)","v":""},{"$f":"IF(Dados!D346=\"\",\"\",Dados!D346)","v":""},{"$f":"IF(Dados!E346=\"\",\"\",Dados!E346)","v":""},{"$f":"IF(Dados!F346=\"\",\"\",Dados!F346)","v":""},{"$f":"IF(Dados!G346=\"\",\"\",Dados!G346)","v":""},{"$error":"#VALUE!"},"",null,{"$error":"#VALUE!"},"",null,{"$error":"#VALUE!"},"",null,{"$error":"#VALUE!"},""]
[null,null,{"$f":"IF(Dados!C347=\"\",\"\",Dados!C347)","v":""},{"$f":"IF(Dados!D347=\"\",\"\",Dados!D347)","v":""},{"$f":"IF(Dados!E347=\"\",\"\",Dados!E347)","v":""},{"$f":"IF(Dados!F347=\"\",\"\",Dados!F347)","v":""},{"$f":"IF(Dados!G347=\"\",\"\",Dados!G347)","v":""},{"$error":"#VALUE!"},"",null,{"$error":"#VALUE!"},"",null,{"$error":"#VALUE!"},"",null,{"$error":"#VALUE!"},""]
[null,null,{"$f":"IF(Dados!C348=\"\",\"\",Dados!C348)","v":""},{"$f":"IF(Dados!D348=\"\",\"\",Dados!D348)","v":""},{"$f":"IF(Dados!E348=\"\",\"\",Dados!E348)","v":""},{"$f":"IF(Dados!F348=\"\",\"\",Dados!F348)","v":""},{"$f":"IF(Dados!G348=\"\",\"\",Dados!G348)","v":""},{"$error":"#VALUE!"},"",null,{"$error":"#VALUE!"},"",null,{"$error":"#VALUE!"},"",null,{"$error":"#VALUE!"},""]
[null,null,{"$f":"IF(Dados!C349=\"\",\"\",Dados!C349)","v":""},{"$f":"IF(Dados!D349=\"\",\"\",Dados!D349)","v":""},{"$f":"IF(Dados!E349=\"\",\"\",Dados!E349)","v":""},{"$f":"IF(Dados!F349=\"\",\"\",Dados!F349)","v":""},{"$f":"IF(Dados!G349=\"\",\"\",Dados!G349)","v":""},{"$error":"#VALUE!"},"",null,{"$error":"#VALUE!"},"",null,{"$error":"#VALUE!"},"",null,{"$error":"#VALUE!"},""]
[null,null,{"$f":"IF(Dados!C350=\"\",\"\",Dados!C350)","v":""},{"$f":"IF(Dados!D350=\"\",\"\",Dados!D350)","v":""},{"$f":"IF(Dados!E350=\"\",\"\",Dados!E350)","v":""},{"$f":"IF(Dados!F350=\"\",\"\",Dados!F350)","v":""},{"$f":"IF(Dados!G350=\"\",\"\",Dados!G350)","v":""},{"$error":"#VALUE!"},"",null,{"$error":"#VALUE!"},"",null,{"$error":"#VALUE!"},"",null,{"$error":"#VALUE!"},""]
[null,{"$f":"B341+1","v":35},{"$f":"IF(Dados!C351=\"\",\"\",Dados!C351)","v":""},{"$f":"IF(Dados!D351=\"\",\"\",Dados!D351)","v":""},{"$f":"IF(Dados!E351=\"\",\"\",Dados!E351)","v":""},{"$f":"IF(Dados!F351=\"\",\"\",Dados!F351)","v":""},{"$f":"IF(Dados!G351=\"\",\"\",Dados!G351)","v":""},{"$error":"#VALUE!"},"",{"$f":"SUM(I351:I360)","v":0},{"$error":"#VALUE!"},"",{"$f":"SUM(L351:L360)","v":0},{"$error":"#VALUE!"},"",{"$f":"SUM(O351:O360)","v":0},{"$error":"#VALUE!"},"",{"$f":"SUM(R351:R360)","v":0}]
[null,null,{"$f":"IF(Dados!C352=\"\",\"\",Dados!C352)","v":""},{"$f":"IF(Dados!D352=\"\",\"\",Dados!D352)","v":""},{"$f":"IF(Dados!E352=\"\",\"\",Dados!E352)","v":""},{"$f":"IF(Dados!F352=\"\",\"\",Dados!F352)","v":""},{"$f":"IF(Dados!G352=\"\",\"\",Dados!G352)","v":""},{"$error":"#VALUE!"},"",null,{"$error":"#VALUE!"},"",null,{"$error":"#VALUE!"},"",null,{"$error":"#VALUE!"},""]
[null,null,{"$f":"IF(Dados!C353=\"\",\"\",Dados!C353)","v":""},{"$f":"IF(Dados!D353=\"\",\"\",Dados!D353)","v":""},{"$f":"IF(Dados!E353=\"\",\"\",Dados!E353)","v":""},{"$f":"IF(Dados!F353=\"\",\"\",Dados!F353)","v":""},{"$f":"IF(Dados!G353=\"\",\"\",Dados!G353)","v":""},{"$error":"#VALUE!"},"",null,{"$error":"#VALUE!"},"",null,{"$error":"#VALUE!"},"",null,{"$error":"#VALUE!"},""]
[null,null,{"$f":"IF(Dados!C354=\"\",\"\",Dados!C354)","v":""},{"$f":"IF(Dados!D354=\"\",\"\",Dados!D354)","v":""},{"$f":"IF(Dados!E354=\"\",\"\",Dados!E354)","v":""},{"$f":"IF(Dados!F354=\"\",\"\",Dados!F354)","v":""},{"$f":"IF(Dados!G354=\"\",\"\",Dados!G354)","v":""},{"$error":"#VALUE!"},"",null,{"$error":"#VALUE!"},"",null,{"$error":"#VALUE!"},"",null,{"$error":"#VALUE!"},""]
[null,null,{"$f":"IF(Dados!C355=\"\",\"\",Dados!C355)","v":""},{"$f":"IF(Dados!D355=\"\",\"\",Dados!D355)","v":""},{"$f":"IF(Dados!E355=\"\",\"\",Dados!E355)","v":""},{"$f":"IF(Dados!F355=\"\",\"\",Dados!F355)","v":""},{"$f":"IF(Dados!G355=\"\",\"\",Dados!G355)","v":""},{"$error":"#VALUE!"},"",null,{"$error":"#VALUE!"},"",null,{"$error":"#VALUE!"},"",null,{"$error":"#VALUE!"},""]
[null,null,{"$f":"IF(Dados!C356=\"\",\"\",Dados!C356)","v":""},{"$f":"IF(Dados!D356=\"\",\"\",Dados!D356)","v":""},{"$f":"IF(Dados!E356=\"\",\"\",Dados!E356)","v":""},{"$f":"IF(Dados!F356=\"\",\"\",Dados!F356)","v":""},{"$f":"IF(Dados!G356=\"\",\"\",Dados!G356)","v":""},{"$error":"#VALUE!"},"",null,{"$error":"#VALUE!"},"",null,{"$error":"#VALUE!"},"",null,{"$error":"#VALUE!"},""]
[null,null,{"$f":"IF(Dados!C357=\"\",\"\",Dados!C357)","v":""},{"$f":"IF(Dados!D357=\"\",\"\",Dados!D357)","v":""},{"$f":"IF(Dados!E357=\"\",\"\",Dados!E357)","v":""},{"$f":"IF(Dados!F357=\"\",\"\",Dados!F357)","v":""},{"$f":"IF(Dados!G357=\"\",\"\",Dados!G357)","v":""},{"$error":"#VALUE!"},"",null,{"$error":"#VALUE!"},"",null,{"$error":"#VALUE!"},"",null,{"$error":"#VALUE!"},""]
[null,null,{"$f":"IF(Dados!C358=\"\",\"\",Dados!C358)","v":""},{"$f":"IF(Dados!D358=\"\",\"\",Dados!D358)","v":""},{"$f":"IF(Dados!E358=\"\",\"\",Dados!E358)","v":""},{"$f":"IF(Dados!F358=\"\",\"\",Dados!F358)","v":""},{"$f":"IF(Dados!G358=\"\",\"\",Dados!G358)","v":""},{"$error":"#VALUE!"},"",null,{"$error":"#VALUE!"},"",null,{"$error":"#VALUE!"},"",null,{"$error":"#VALUE!"},""]
[null,null,{"$f":"IF(Dados!C359=\"\",\"\",Dados!C359)","v":""},{"$f":"IF(Dados!D359=\"\",\"\",Dados!D359)","v":""},{"$f":"IF(Dados!E359=\"\",\"\",Dados!E359)","v":""},{"$f":"IF(Dados!F359=\"\",\"\",Dados!F359)","v":""},{"$f":"IF(Dados!G359=\"\",\"\",Dados!G359)","v":""},{"$error":"#VALUE!"},"",null,{"$error":"#VALUE!"},"",null,{"$error":"#VALUE!"},"",null,{"$error":"#VALUE!"},""]
[null,null,{"$f":"IF(Dados!C360=\"\",\"\",Dados!C360)","v":""},{"$f":"IF(Dados!D360=\"\",\"\",Dados!D360)","v":""},{"$f":"IF(Dados!E360=\"\",\"\",Dados!E360)","v":""},{"$f":"IF(Dados!F360=\"\",\"\",Dados!F360)","v":""},{"$f":"IF(Dados!G360=\"\",\"\",Dados!G360)","v":""},{"$error":"#VALUE!"},"",null,{"$error":"#VALUE!"},"",null,{"$error":"#VALUE!"},"",null,{"$error":"#VALUE!"},""]
[null,{"$f":"B351+1","v":36},{"$f":"IF(Dados!C361=\"\",\"\",Dados!C361)","v":""},{"$f":"IF(Dados!D361=\"\",\"\",Dados!D361)","v":""},{"$f":"IF(Dados!E361=\"\",\"\",Dados!E361)","v":""},{"$f":"IF(Dados!F361=\"\",\"\",Dados!F361)","v":""},{"$f":"IF(Dados!G361=\"\",\"\",Dados!G361)","v":""},{"$error":"#VALUE!"},"",{"$f":"SUM(I361:I370)","v":0},{"$error":"#VALUE!"},"",{"$f":"SUM(L361:L370)","v":0},{"$error":"#VALUE!"},"",{"$f":"SUM(O361:O370)","v":0},{"$error":"#VALUE!"},"",{"$f":"SUM(R361:R370)","v":0}]
[null,null,{"$f":"IF(Dados!C362=\"\",\"\",Dados!C362)","v":""},{"$f":"IF(Dados!D362=\"\",\"\",Dados!D362)","v":""},{"$f":"IF(Dados!E362=\"\",\"\",Dados!E362)","v":""},{"$f":"IF(Dados!F362=\"\",\"\",Dados!F362)","v":""},{"$f":"IF(Dados!G362=\"\",\"\",Dados!G362)","v":""},{"$error":"#VALUE!"},"",null,{"$error":"#VALUE!"},"",null,{"$error":"#VALUE!"},"",null,{"$error":"#VALUE!"},""]
[null,null,{"$f":"IF(Dados!C363=\"\",\"\",Dados!C363)","v":""},{"$f":"IF(Dados!D363=\"\",\"\",Dados!D363)","v":""},{"$f":"IF(Dados!E363=\"\",\"\",Dados!E363)","v":""},{"$f":"IF(Dados!F363=\"\",\"\",Dados!F363)","v":""},{"$f":"IF(Dados!G363=\"\",\"\",Dados!G363)","v":""},{"$error":"#VALUE!"},"",null,{"$error":"#VALUE!"},"",null,{"$error":"#VALUE!"},"",null,{"$error":"#VALUE!"},""]
[null,null,{"$f":"IF(Dados!C364=\"\",\"\",Dados!C364)","v":""},{"$f":"IF(Dados!D364=\"\",\"\",Dados!D364)","v":""},{"$f":"IF(Dados!E364=\"\",\"\",Dados!E364)","v":""},{"$f":"IF(Dados!F364=\"\",\"\",Dados!F364)","v":""},{"$f":"IF(Dados!G364=\"\",\"\",Dados!G364)","v":""},{"$error":"#VALUE!"},"",null,{"$error":"#VALUE!"},"",null,{"$error":"#VALUE!"},"",null,{"$error":"#VALUE!"},""]
[null,null,{"$f":"IF(Dados!C365=\"\",\"\",Dados!C365)","v":""},{"$f":"IF(Dados!D365=\"\",\"\",Dados!D365)","v":""},{"$f":"IF(Dados!E365=\"\",\"\",Dados!E365)","v":""},{"$f":"IF(Dados!F365=\"\",\"\",Dados!F365)","v":""},{"$f":"IF(Dados!G365=\"\",\"\",Dados!G365)","v":""},{"$error":"#VALUE!"},"",null,{"$error":"#VALUE!"},"",null,{"$error":"#VALUE!"},"",null,{"$error":"#VALUE!"},""]
[null,null,{"$f":"IF(Dados!C366=\"\",\"\",Dados!C366)","v":""},{"$f":"IF(Dados!D366=\"\",\"\",Dados!D366)","v":""},{"$f":"IF(Dados!E366=\"\",\"\",Dados!E366)","v":""},{"$f":"IF(Dados!F366=\"\",\"\",Dados!F366)","v":""},{"$f":"IF(Dados!G366=\"\",\"\",Dados!G366)","v":""},{"$error":"#VALUE!"},"",null,{"$error":"#VALUE!"},"",null,{"$error":"#VALUE!"},"",null,{"$error":"#VALUE!"},""]
[null,null,{"$f":"IF(Dados!C367=\"\",\"\",Dados!C367)","v":""},{"$f":"IF(Dados!D367=\"\",\"\",Dados!D367)","v":""},{"$f":"IF(Dados!E367=\"\",\"\",Dados!E367)","v":""},{"$f":"IF(Dados!F367=\"\",\"\",Dados!F367)","v":""},{"$f":"IF(Dados!G367=\"\",\"\",Dados!G367)","v":""},{"$error":"#VALUE!"},"",null,{"$error":"#VALUE!"},"",null,{"$error":"#VALUE!"},"",null,{"$error":"#VALUE!"},""]
[null,null,{"$f":"IF(Dados!C368=\"\",\"\",Dados!C368)","v":""},{"$f":"IF(Dados!D368=\"\",\"\",Dados!D368)","v":""},{"$f":"IF(Dados!E368=\"\",\"\",Dados!E368)","v":""},{"$f":"IF(Dados!F368=\"\",\"\",Dados!F368)","v":""},{"$f":"IF(Dados!G368=\"\",\"\",Dados!G368)","v":""},{"$error":"#VALUE!"},"",null,{"$error":"#VALUE!"},"",null,{"$error":"#VALUE!"},"",null,{"$error":"#VALUE!"},""]
[null,null,{"$f":"IF(Dados!C369=\"\",\"\",Dados!C369)","v":""},{"$f":"IF(Dados!D369=\"\",\"\",Dados!D369)","v":""},{"$f":"IF(Dados!E369=\"\",\"\",Dados!E369)","v":""},{"$f":"IF(Dados!F369=\"\",\"\",Dados!F369)","v":""},{"$f":"IF(Dados!G369=\"\",\"\",Dados!G369)","v":""},{"$error":"#VALUE!"},"",null,{"$error":"#VALUE!"},"",null,{"$error":"#VALUE!"},"",null,{"$error":"#VALUE!"},""]
[null,null,{"$f":"IF(Dados!C370=\"\",\"\",Dados!C370)","v":""},{"$f":"IF(Dados!D370=\"\",\"\",Dados!D370)","v":""},{"$f":"IF(Dados!E370=\"\",\"\",Dados!E370)","v":""},{"$f":"IF(Dados!F370=\"\",\"\",Dados!F370)","v":""},{"$f":"IF(Dados!G370=\"\",\"\",Dados!G370)","v":""},{"$error":"#VALUE!"},"",null,{"$error":"#VALUE!"},"",null,{"$error":"#VALUE!"},"",null,{"$error":"#VALUE!"},""]
[null,{"$f":"B361+1","v":37},{"$f":"IF(Dados!C371=\"\",\"\",Dados!C371)","v":""},{"$f":"IF(Dados!D371=\"\",\"\",Dados!D371)","v":""},{"$f":"IF(Dados!E371=\"\",\"\",Dados!E371)","v":""},{"$f":"IF(Dados!F371=\"\",\"\",Dados!F371)","v":""},{"$f":"IF(Dados!G371=\"\",\"\",Dados!G371)","v":""},{"$error":"#VALUE!"},"",{"$f":"SUM(I371:I380)","v":0},{"$error":"#VALUE!"},"",{"$f":"SUM(L371:L380)","v":0},{"$error":"#VALUE!"},"",{"$f":"SUM(O371:O380)","v":0},{"$error":"#VALUE!"},"",{"$f":"SUM(R371:R380)","v":0}]
[null,null,{"$f":"IF(Dados!C372=\"\",\"\",Dados!C372)","v":""},{"$f":"IF(Dados!D372=\"\",\"\",Dados!D372)","v":""},{"$f":"IF(Dados!E372=\"\",\"\",Dados!E372)","v":""},{"$f":"IF(Dados!F372=\"\",\"\",Dados!F372)","v":""},{"$f":"IF(Dados!G372=\"\",\"\",Dados!G372)","v":""},{"$error":"#VALUE!"},"",null,{"$error":"#VALUE!"},"",null,{"$error":"#VALUE!"},"",null,{"$error":"#VALUE!"},""]
[null,null,{"$f":"IF(Dados!C373=\"\",\"\",Dados!C373)","v":""},{"$f":"IF(Dados!D373=\"\",\"\",Dados!D373)","v":""},{"$f":"IF(Dados!E373=\"\",\"\",Dados!E373)","v":""},{"$f":"IF(Dados!F373=\"\",\"\",Dados!F373)","v":""},{"$f":"IF(Dados!G373=\"\",\"\",Dados!G373)","v":""},{"$error":"#VALUE!"},"",null,{"$error":"#VALUE!"},"",null,{"$error":"#VALUE!"},"",null,{"$error":"#VALUE!"},""]
[null,null,{"$f":"IF(Dados!C374=\"\",\"\",Dados!C374)","v":""},{"$f":"IF(Dados!D374=\"\",\"\",Dados!D374)","v":""},{"$f":"IF(Dados!E374=\"\",\"\",Dados!E374)","v":""},{"$f":"IF(Dados!F374=\"\",\"\",Dados!F374)","v":""},{"$f":"IF(Dados!G374=\"\",\"\",Dados!G374)","v":""},{"$error":"#VALUE!"},"",null,{"$error":"#VALUE!"},"",null,{"$error":"#VALUE!"},"",null,{"$error":"#VALUE!"},""]
[null,null,{"$f":"IF(Dados!C375=\"\",\"\",Dados!C375)","v":""},{"$f":"IF(Dados!D375=\"\",\"\",Dados!D375)","v":""},{"$f":"IF(Dados!E375=\"\",\"\",Dados!E375)","v":""},{"$f":"IF(Dados!F375=\"\",\"\",Dados!F375)","v":""},{"$f":"IF(Dados!G375=\"\",\"\",Dados!G375)","v":""},{"$error":"#VALUE!"},"",null,{"$error":"#VALUE!"},"",null,{"$error":"#VALUE!"},"",null,{"$error":"#VALUE!"},""]
[null,null,{"$f":"IF(Dados!C376=\"\",\"\",Dados!C376)","v":""},{"$f":"IF(Dados!D376=\"\",\"\",Dados!D376)","v":""},{"$f":"IF(Dados!E376=\"\",\"\",Dados!E376)","v":""},{"$f":"IF(Dados!F376=\"\",\"\",Dados!F376)","v":""},{"$f":"IF(Dados!G376=\"\",\"\",Dados!G376)","v":""},{"$error":"#VALUE!"},"",null,{"$error":"#VALUE!"},"",null,{"$error":"#VALUE!"},"",null,{"$error":"#VALUE!"},""]
[null,null,{"$f":"IF(Dados!C377=\"\",\"\",Dados!C377)","v":""},{"$f":"IF(Dados!D377=\"\",\"\",Dados!D377)","v":""},{"$f":"IF(Dados!E377=\"\",\"\",Dados!E377)","v":""},{"$f":"IF(Dados!F377=\"\",\"\",Dados!F377)","v":""},{"$f":"IF(Dados!G377=\"\",\"\",Dados!G377)","v":""},{"$error":"#VALUE!"},"",null,{"$error":"#VALUE!"},"",null,{"$error":"#VALUE!"},"",null,{"$error":"#VALUE!"},""]
[null,null,{"$f":"IF(Dados!C378=\"\",\"\",Dados!C378)","v":""},{"$f":"IF(Dados!D378=\"\",\"\",Dados!D378)","v":""},{"$f":"IF(Dados!E378=\"\",\"\",Dados!E378)","v":""},{"$f":"IF(Dados!F378=\"\",\"\",Dados!F378)","v":""},{"$f":"IF(Dados!G378=\"\",\"\",Dados!G378)","v":""},{"$error":"#VALUE!"},"",null,{"$error":"#VALUE!"},"",null,{"$error":"#VALUE!"},"",null,{"$error":"#VALUE!"},""]
[null,null,{"$f":"IF(Dados!C379=\"\",\"\",Dados!C379)","v":""},{"$f":"IF(Dados!D379=\"\",\"\",Dados!D379)","v":""},{"$f":"IF(Dados!E379=\"\",\"\",Dados!E379)","v":""},{"$f":"IF(Dados!F379=\"\",\"\",Dados!F379)","v":""},{"$f":"IF(Dados!G379=\"\",\"\",Dados!G379)","v":""},{"$error":"#VALUE!"},"",null,{"$error":"#VALUE!"},"",null,{"$error":"#VALUE!"},"",null,{"$error":"#VALUE!"},""]
[null,null,{"$f":"IF(Dados!C380=\"\",\"\",Dados!C380)","v":""},{"$f":"IF(Dados!D380=\"\",\"\",Dados!D380)","v":""},{"$f":"IF(Dados!E380=\"\",\"\",Dados!E380)","v":""},{"$f":"IF(Dados!F380=\"\",\"\",Dados!F380)","v":""},{"$f":"IF(Dados!G380=\"\",\"\",Dados!G380)","v":""},{"$error":"#VALUE!"},"",null,{"$error":"#VALUE!"},"",null,{"$error":"#VALUE!"},"",null,{"$error":"#VALUE!"},""]
[null,{"$f":"B371+1","v":38},{"$f":"IF(Dados!C381=\"\",\"\",Dados!C381)","v":""},{"$f":"IF(Dados!D381=\"\",\"\",Dados!D381)","v":""},{"$f":"IF(Dados!E381=\"\",\"\",Dados!E381)","v":""},{"$f":"IF(Dados!F381=\"\",\"\",Dados!F381)","v":""},{"$f":"IF(Dados!G381=\"\",\"\",Dados!G381)","v":""},{"$error":"#VALUE!"},"",{"$f":"SUM(I381:I390)","v":0},{"$error":"#VALUE!"},"",{"$f":"SUM(L381:L390)","v":0},{"$error":"#VALUE!"},"",{"$f":"SUM(O381:O390)","v":0},{"$error":"#VALUE!"},"",{"$f":"SUM(R381:R390)","v":0}]
[null,null,{"$f":"IF(Dados!C382=\"\",\"\",Dados!C382)","v":""},{"$f":"IF(Dados!D382=\"\",\"\",Dados!D382)","v":""},{"$f":"IF(Dados!E382=\"\",\"\",Dados!E382)","v":""},{"$f":"IF(Dados!F382=\"\",\"\",Dados!F382)","v":""},{"$f":"IF(Dados!G382=\"\",\"\",Dados!G382)","v":""},{"$error":"#VALUE!"},"",null,{"$error":"#VALUE!"},"",null,{"$error":"#VALUE!"},"",null,{"$error":"#VALUE!"},""]
[null,null,{"$f":"IF(Dados!C383=\"\",\"\",Dados!C383)","v":""},{"$f":"IF(Dados!D383=\"\",\"\",Dados!D383)","v":""},{"$f":"IF(Dados!E383=\"\",\"\",Dados!E383)","v":""},{"$f":"IF(Dados!F383=\"\",\"\",Dados!F383)","v":""},{"$f":"IF(Dados!G383=\"\",\"\",Dados!G383)","v":""},{"$error":"#VALUE!"},"",null,{"$error":"#VALUE!"},"",null,{"$error":"#VALUE!"},"",null,{"$error":"#VALUE!"},""]
[null,null,{"$f":"IF(Dados!C384=\"\",\"\",Dados!C384)","v":""},{"$f":"IF(Dados!D384=\"\",\"\",Dados!D384)","v":""},{"$f":"IF(Dados!E384=\"\",\"\",Dados!E384)","v":""},{"$f":"IF(Dados!F384=\"\",\"\",Dados!F384)","v":""},{"$f":"IF(Dados!G384=\"\",\"\",Dados!G384)","v":""},{"$error":"#VALUE!"},"",null,{"$error":"#VALUE!"},"",null,{"$error":"#VALUE!"},"",null,{"$error":"#VALUE!"},""]
[null,null,{"$f":"IF(Dados!C385=\"\",\"\",Dados!C385)","v":""},{"$f":"IF(Dados!D385=\"\",\"\",Dados!D385)","v":""},{"$f":"IF(Dados!E385=\"\",\"\",Dados!E385)","v":""},{"$f":"IF(Dados!F385=\"\",\"\",Dados!F385)","v":""},{"$f":"IF(Dados!G385=\"\",\"\",Dados!G385)","v":""},{"$error":"#VALUE!"},"",null,{"$error":"#VALUE!"},"",null,{"$error":"#VALUE!"},"",null,{"$error":"#VALUE!"},""]
[null,null,{"$f":"IF(Dados!C386=\"\",\"\",Dados!C386)","v":""},{"$f":"IF(Dados!D386=\"\",\"\",Dados!D386)","v":""},{"$f":"IF(Dados!E386=\"\",\"\",Dados!E386)","v":""},{"$f":"IF(Dados!F386=\"\",\"\",Dados!F386)","v":""},{"$f":"IF(Dados!G386=\"\",\"\",Dados!G386)","v":""},{"$error":"#VALUE!"},"",null,{"$error":"#VALUE!"},"",null,{"$error":"#VALUE!"},"",null,{"$error":"#VALUE!"},""]
[null,null,{"$f":"IF(Dados!C387=\"\",\"\",Dados!C387)","v":""},{"$f":"IF(Dados!D387=\"\",\"\",Dados!D387)","v":""},{"$f":"IF(Dados!E387=\"\",\"\",Dados!E387)","v":""},{"$f":"IF(Dados!F387=\"\",\"\",Dados!F387)","v":""},{"$f":"IF(Dados!G387=\"\",\"\",Dados!G387)","v":""},{"$error":"#VALUE!"},"",null,{"$error":"#VALUE!"},"",null,{"$error":"#VALUE!"},"",null,{"$error":"#VALUE!"},""]
[null,null,{"$f":"IF(Dados!C388=\"\",\"\",Dados!C388)","v":""},{"$f":"IF(Dados!D388=\"\",\"\",Dados!D388)","v":""},{"$f":"IF(Dados!E388=\"\",\"\",Dados!E388)","v":""},{"$f":"IF(Dados!F388=\"\",\"\",Dados!F388)","v":""},{"$f":"IF(Dados!G388=\"\",\"\",Dados!G388)","v":""},{"$error":"#VALUE!"},"",null,{"$error":"#VALUE!"},"",null,{"$error":"#VALUE!"},"",null,{"$error":"#VALUE!"},""]
[null,null,{"$f":"IF(Dados!C389=\"\",\"\",Dados!C389)","v":""},{"$f":"IF(Dados!D389=\"\",\"\",Dados!D389)","v":""},{"$f":"IF(Dados!E389=\"\",\"\",Dados!E389)","v":""},{"$f":"IF(Dados!F389=\"\",\"\",Dados!F389)","v":""},{"$f":"IF(Dados!G389=\"\",\"\",Dados!G389)","v":""},{"$error":"#VALUE!"},"",null,{"$error":"#VALUE!"},"",null,{"$error":"#VALUE!"},"",null,{"$error":"#VALUE!"},""]
[null,null,{"$f":"IF(Dados!C390=\"\",\"\",Dados!C390)","v":""},{"$f":"IF(Dados!D390=\"\",\"\",Dados!D390)","v":""},{"$f":"IF(Dados!E390=\"\",\"\",Dados!E390)","v":""},{"$f":"IF(Dados!F390=\"\",\"\",Dados!F390)","v":""},{"$f":"IF(Dados!G390=\"\",\"\",Dados!G390)","v":""},{"$error":"#VALUE!"},"",null,{"$error":"#VALUE!"},"",null,{"$error":"#VALUE!"},"",null,{"$error":"#VALUE!"},""]
[null,{"$f":"B381+1","v":39},{"$f":"IF(Dados!C391=\"\",\"\",Dados!C391)","v":""},{"$f":"IF(Dados!D391=\"\",\"\",Dados!D391)","v":""},{"$f":"IF(Dados!E391=\"\",\"\",Dados!E391)","v":""},{"$f":"IF(Dados!F391=\"\",\"\",Dados!F391)","v":""},{"$f":"IF(Dados!G391=\"\",\"\",Dados!G391)","v":""},{"$error":"#VALUE!"},"",{"$f":"SUM(I391:I400)","v":0},{"$error":"#VALUE!"},"",{"$f":"SUM(L391:L400)","v":0},{"$error":"#VALUE!"},"",{"$f":"SUM(O391:O400)","v":0},{"$error":"#VALUE!"},"",{"$f":"SUM(R391:R400)","v":0}]
[null,null,{"$f":"IF(Dados!C392=\"\",\"\",Dados!C392)","v":""},{"$f":"IF(Dados!D392=\"\",\"\",Dados!D392)","v":""},{"$f":"IF(Dados!E392=\"\",\"\",Dados!E392)","v":""},{"$f":"IF(Dados!F392=\"\",\"\",Dados!F392)","v":""},{"$f":"IF(Dados!G392=\"\",\"\",Dados!G392)","v":""},{"$error":"#VALUE!"},"",null,{"$error":"#VALUE!"},"",null,{"$error":"#VALUE!"},"",null,{"$error":"#VALUE!"},""]
[null,null,{"$f":"IF(Dados!C393=\"\",\"\",Dados!C393)","v":""},{"$f":"IF(Dados!D393=\"\",\"\",Dados!D393)","v":""},{"$f":"IF(Dados!E393=\"\",\"\",Dados!E393)","v":""},{"$f":"IF(Dados!F393=\"\",\"\",Dados!F393)","v":""},{"$f":"IF(Dados!G393=\"\",\"\",Dados!G393)","v":""},{"$error":"#VALUE!"},"",null,{"$error":"#VALUE!"},"",null,{"$error":"#VALUE!"},"",null,{"$error":"#VALUE!"},""]
[null,null,{"$f":"IF(Dados!C394=\"\",\"\",Dados!C394)","v":""},{"$f":"IF(Dados!D394=\"\",\"\",Dados!D394)","v":""},{"$f":"IF(Dados!E394=\"\",\"\",Dados!E394)","v":""},{"$f":"IF(Dados!F394=\"\",\"\",Dados!F394)","v":""},{"$f":"IF(Dados!G394=\"\",\"\",Dados!G394)","v":""},{"$error":"#VALUE!"},"",null,{"$error":"#VALUE!"},"",null,{"$error":"#VALUE!"},"",null,{"$error":"#VALUE!"},""]
[null,null,{"$f":"IF(Dados!C395=\"\",\"\",Dados!C395)","v":""},{"$f":"IF(Dados!D395=\"\",\"\",Dados!D395)","v":""},{"$f":"IF(Dados!E395=\"\",\"\",Dados!E395)","v":""},{"$f":"IF(Dados!F395=\"\",\"\",Dados!F395)","v":""},{"$f":"IF(Dados!G395=\"\",\"\",Dados!G395)","v":""},{"$f":"($G395*ChIR*ChEF*ChED)/(ChBW*ChATnc)","v":{"$error":"#VALUE!"}},{"$f":"IFERROR((H395)/(VLOOKUP($F395,intervaloHQ,2,0)),\"\")","v":""},null,{"$f":"($G395*AdIR*AdEF*AdED)/(AdBW*AdATnc)","v":{"$error":"#VALUE!"}},{"$f":"IFERROR((K395)/(VLOOKUP($F395,intervaloHQ,2,0)),\"\")","v":""},null,{"$f":"($G395*ChIR*ChEF*ChED)/(ChBW*ChATc)","v":{"$error":"#VALUE!"}},{"$f":"IFERROR((N395)*(VLOOKUP($F395,intervaloHQ,4,0)),\"\")","v":""},null,{"$f":"($G395*AdIR*AdEF*AdED)/(AdBW*AdATc)","v":{"$error":"#VALUE!"}},{"$f":"IFERROR((Q395)*(VLOOKUP($F395,intervaloHQ,4,0)),\"\")","v":""}]
[null,null,{"$f":"IF(Dados!C396=\"\",\"\",Dados!C396)","v":""},{"$f":"IF(Dados!D396=\"\",\"\",Dados!D396)","v":""},{"$f":"IF(Dados!E396=\"\",\"\",Dados!E396)","v":""},{"$f":"IF(Dados!F396=\"\",\"\",Dados!F396)","v":""},{"$f":"IF(Dados!G396=\"\",\"\",Dados!G396)","v":""},{"$error":"#VALUE!"},"",null,{"$error":"#VALUE!"},"",null,{"$error":"#VALUE!"},"",null,{"$error":"#VALUE!"},""]
[null,null,{"$f":"IF(Dados!C397=\"\",\"\",Dados!C397)","v":""},{"$f":"IF(Dados!D397=\"\",\"\",Dados!D397)","v":""},{"$f":"IF(Dados!E397=\"\",\"\",Dados!E397)","v":""},{"$f":"IF(Dados!F397=\"\",\"\",Dados!F397)","v":""},{"$f":"IF(Dados!G397=\"\",\"\",Dados!G397)","v":""},{"$error":"#VALUE!"},"",null,{"$error":"#VALUE!"},"",null,{"$error":"#VALUE!"},"",null,{"$error":"#VALUE!"},""]
[null,null,{"$f":"IF(Dados!C398=\"\",\"\",Dados!C398)","v":""},{"$f":"IF(Dados!D398=\"\",\"\",Dados!D398)","v":""},{"$f":"IF(Dados!E398=\"\",\"\",Dados!E398)","v":""},{"$f":"IF(Dados!F398=\"\",\"\",Dados!F398)","v":""},{"$f":"IF(Dados!G398=\"\",\"\",Dados!G398)","v":""},{"$error":"#VALUE!"},"",null,{"$error":"#VALUE!"},"",null,{"$error":"#VALUE!"},"",null,{"$error":"#VALUE!"},""]
[null,null,{"$f":"IF(Dados!C399=\"\",\"\",Dados!C399)","v":""},{"$f":"IF(Dados!D399=\"\",\"\",Dados!D399)","v":""},{"$f":"IF(Dados!E399=\"\",\"\",Dados!E399)","v":""},{"$f":"IF(Dados!F399=\"\",\"\",Dados!F399)","v":""},{"$f":"IF(Dados!G399=\"\",\"\",Dados!G399)","v":""},{"$error":"#VALUE!"},"",null,{"$error":"#VALUE!"},"",null,{"$error":"#VALUE!"},"",null,{"$error":"#VALUE!"},""]
[null,null,{"$f":"IF(Dados!C400=\"\",\"\",Dados!C400)","v":""},{"$f":"IF(Dados!D400=\"\",\"\",Dados!D400)","v":""},{"$f":"IF(Dados!E400=\"\",\"\",Dados!E400)","v":""},{"$f":"IF(Dados!F400=\"\",\"\",Dados!F400)","v":""},{"$f":"IF(Dados!G400=\"\",\"\",Dados!G400)","v":""},{"$error":"#VALUE!"},"",null,{"$error":"#VALUE!"},"",null,{"$error":"#VALUE!"},"",null,{"$error":"#VALUE!"},""]
[null,{"$f":"B391+1","v":40},{"$f":"IF(Dados!C401=\"\",\"\",Dados!C401)","v":""},{"$f":"IF(Dados!D401=\"\",\"\",Dados!D401)","v":""},{"$f":"IF(Dados!E401=\"\",\"\",Dados!E401)","v":""},{"$f":"IF(Dados!F401=\"\",\"\",Dados!F401)","v":""},{"$f":"IF(Dados!G401=\"\",\"\",Dados!G401)","v":""},{"$error":"#VALUE!"},"",{"$f":"SUM(I401:I410)","v":0},{"$error":"#VALUE!"},"",{"$f":"SUM(L401:L410)","v":0},{"$error":"#VALUE!"},"",{"$f":"SUM(O401:O410)","v":0},{"$error":"#VALUE!"},"",{"$f":"SUM(R401:R410)","v":0}]
[null,null,{"$f":"IF(Dados!C402=\"\",\"\",Dados!C402)","v":""},{"$f":"IF(Dados!D402=\"\",\"\",Dados!D402)","v":""},{"$f":"IF(Dados!E402=\"\",\"\",Dados!E402)","v":""},{"$f":"IF(Dados!F402=\"\",\"\",Dados!F402)","v":""},{"$f":"IF(Dados!G402=\"\",\"\",Dados!G402)","v":""},{"$error":"#VALUE!"},"",null,{"$error":"#VALUE!"},"",null,{"$error":"#VALUE!"},"",null,{"$error":"#VALUE!"},""]
[null,null,{"$f":"IF(Dados!C403=\"\",\"\",Dados!C403)","v":""},{"$f":"IF(Dados!D403=\"\",\"\",Dados!D403)","v":""},{"$f":"IF(Dados!E403=\"\",\"\",Dados!E403)","v":""},{"$f":"IF(Dados!F403=\"\",\"\",Dados!F403)","v":""},{"$f":"IF(Dados!G403=\"\",\"\",Dados!G403)","v":""},{"$error":"#VALUE!"},"",null,{"$error":"#VALUE!"},"",null,{"$error":"#VALUE!"},"",null,{"$error":"#VALUE!"},""]
[null,null,{"$f":"IF(Dados!C404=\"\",\"\",Dados!C404)","v":""},{"$f":"IF(Dados!D404=\"\",\"\",Dados!D404)","v":""},{"$f":"IF(Dados!E404=\"\",\"\",Dados!E404)","v":""},{"$f":"IF(Dados!F404=\"\",\"\",Dados!F404)","v":""},{"$f":"IF(Dados!G404=\"\",\"\",Dados!G404)","v":""},{"$error":"#VALUE!"},"",null,{"$error":"#VALUE!"},"",null,{"$error":"#VALUE!"},"",null,{"$error":"#VALUE!"},""]
[null,null,{"$f":"IF(Dados!C405=\"\",\"\",Dados!C405)","v":""},{"$f":"IF(Dados!D405=\"\",\"\",Dados!D405)","v":""},{"$f":"IF(Dados!E405=\"\",\"\",Dados!E405)","v":""},{"$f":"IF(Dados!F405=\"\",\"\",Dados!F405)","v":""},{"$f":"IF(Dados!G405=\"\",\"\",Dados!G405)","v":""},{"$error":"#VALUE!"},"",null,{"$error":"#VALUE!"},"",null,{"$error":"#VALUE!"},"",null,{"$error":"#VALUE!"},""]
[null,null,{"$f":"IF(Dados!C406=\"\",\"\",Dados!C406)","v":""},{"$f":"IF(Dados!D406=\"\",\"\",Dados!D406)","v":""},{"$f":"IF(Dados!E406=\"\",\"\",Dados!E406)","v":""},{"$f":"IF(Dados!F406=\"\",\"\",Dados!F406)","v":""},{"$f":"IF(Dados!G406=\"\",\"\",Dados!G406)","v":""},{"$error":"#VALUE!"},"",null,{"$error":"#VALUE!"},"",null,{"$error":"#VALUE!"},"",null,{"$error":"#VALUE!"},""]
[null,null,{"$f":"IF(Dados!C407=\"\",\"\",Dados!C407)","v":""},{"$f":"IF(Dados!D407=\"\",\"\",Dados!D407)","v":""},{"$f":"IF(Dados!E407=\"\",\"\",Dados!E407)","v":""},{"$f":"IF(Dados!F407=\"\",\"\",Dados!F407)","v":""},{"$f":"IF(Dados!G407=\"\",\"\",Dados!G407)","v":""},{"$error":"#VALUE!"},"",null,{"$error":"#VALUE!"},"",null,{"$error":"#VALUE!"},"",null,{"$error":"#VALUE!"},""]
[null,null,{"$f":"IF(Dados!C408=\"\",\"\",Dados!C408)","v":""},{"$f":"IF(Dados!D408=\"\",\"\",Dados!D408)","v":""},{"$f":"IF(Dados!E408=\"\",\"\",Dados!E408)","v":""},{"$f":"IF(Dados!F408=\"\",\"\",Dados!F408)","v":""},{"$f":"IF(Dados!G408=\"\",\"\",Dados!G408)","v":""},{"$error":"#VALUE!"},"",null,{"$error":"#VALUE!"},"",null,{"$error":"#VALUE!"},"",null,{"$error":"#VALUE!"},""]
[null,null,{"$f":"IF(Dados!C409=\"\",\"\",Dados!C409)","v":""},{"$f":"IF(Dados!D409=\"\",\"\",Dados!D409)","v":""},{"$f":"IF(Dados!E409=\"\",\"\",Dados!E409)","v":""},{"$f":"IF(Dados!F409=\"\",\"\",Dados!F409)","v":""},{"$f":"IF(Dados!G409=\"\",\"\",Dados!G409)","v":""},{"$error":"#VALUE!"},"",null,{"$error":"#VALUE!"},"",null,{"$error":"#VALUE!"},"",null,{"$error":"#VALUE!"},""]
[null,null,{"$f":"IF(Dados!C410=\"\",\"\",Dados!C410)","v":""},{"$f":"IF(Dados!D410=\"\",\"\",Dados!D410)","v":""},{"$f":"IF(Dados!E410=\"\",\"\",Dados!E410)","v":""},{"$f":"IF(Dados!F410=\"\",\"\",Dados!F410)","v":""},{"$f":"IF(Dados!G410=\"\",\"\",Dados!G410)","v":""},{"$error":"#VALUE!"},"",null,{"$error":"#VALUE!"},"",null,{"$error":"#VALUE!"},"",null,{"$error":"#VALUE!"},""]
[null,{"$f":"B401+1","v":41},{"$f":"IF(Dados!C411=\"\",\"\",Dados!C411)","v":""},{"$f":"IF(Dados!D411=\"\",\"\",Dados!D411)","v":""},{"$f":"IF(Dados!E411=\"\",\"\",Dados!E411)","v":""},{"$f":"IF(Dados!F411=\"\",\"\",Dados!F411)","v":""},{"$f":"IF(Dados!G411=\"\",\"\",Dados!G411)","v":""},{"$error":"#VALUE!"},"",{"$f":"SUM(I411:I420)","v":0},{"$error":"#VALUE!"},"",{"$f":"SUM(L411:L420)","v":0},{"$error":"#VALUE!"},"",{"$f":"SUM(O411:O420)","v":0},{"$error":"#VALUE!"},"",{"$f":"SUM(R411:R420)","v":0}]
[null,null,{"$f":"IF(Dados!C412=\"\",\"\",Dados!C412)","v":""},{"$f":"IF(Dados!D412=\"\",\"\",Dados!D412)","v":""},{"$f":"IF(Dados!E412=\"\",\"\",Dados!E412)","v":""},{"$f":"IF(Dados!F412=\"\",\"\",Dados!F412)","v":""},{"$f":"IF(Dados!G412=\"\",\"\",Dados!G412)","v":""},{"$error":"#VALUE!"},"",null,{"$error":"#VALUE!"},"",null,{"$error":"#VALUE!"},"",null,{"$error":"#VALUE!"},""]
[null,null,{"$f":"IF(Dados!C413=\"\",\"\",Dados!C413)","v":""},{"$f":"IF(Dados!D413=\"\",\"\",Dados!D413)","v":""},{"$f":"IF(Dados!E413=\"\",\"\",Dados!E413)","v":""},{"$f":"IF(Dados!F413=\"\",\"\",Dados!F413)","v":""},{"$f":"IF(Dados!G413=\"\",\"\",Dados!G413)","v":""},{"$error":"#VALUE!"},"",null,{"$error":"#VALUE!"},"",null,{"$error":"#VALUE!"},"",null,{"$error":"#VALUE!"},""]
[null,null,{"$f":"IF(Dados!C414=\"\",\"\",Dados!C414)","v":""},{"$f":"IF(Dados!D414=\"\",\"\",Dados!D414)","v":""},{"$f":"IF(Dados!E414=\"\",\"\",Dados!E414)","v":""},{"$f":"IF(Dados!F414=\"\",\"\",Dados!F414)","v":""},{"$f":"IF(Dados!G414=\"\",\"\",Dados!G414)","v":""},{"$error":"#VALUE!"},"",null,{"$error":"#VALUE!"},"",null,{"$error":"#VALUE!"},"",null,{"$error":"#VALUE!"},""]
[null,null,{"$f":"IF(Dados!C415=\"\",\"\",Dados!C415)","v":""},{"$f":"IF(Dados!D415=\"\",\"\",Dados!D415)","v":""},{"$f":"IF(Dados!E415=\"\",\"\",Dados!E415)","v":""},{"$f":"IF(Dados!F415=\"\",\"\",Dados!F415)","v":""},{"$f":"IF(Dados!G415=\"\",\"\",Dados!G415)","v":""},{"$error":"#VALUE!"},"",null,{"$error":"#VALUE!"},"",null,{"$error":"#VALUE!"},"",null,{"$error":"#VALUE!"},""]
[null,null,{"$f":"IF(Dados!C416=\"\",\"\",Dados!C416)","v":""},{"$f":"IF(Dados!D416=\"\",\"\",Dados!D416)","v":""},{"$f":"IF(Dados!E416=\"\",\"\",Dados!E416)","v":""},{"$f":"IF(Dados!F416=\"\",\"\",Dados!F416)","v":""},{"$f":"IF(Dados!G416=\"\",\"\",Dados!G416)","v":""},{"$error":"#VALUE!"},"",null,{"$error":"#VALUE!"},"",null,{"$error":"#VALUE!"},"",null,{"$error":"#VALUE!"},""]
[null,null,{"$f":"IF(Dados!C417=\"\",\"\",Dados!C417)","v":""},{"$f":"IF(Dados!D417=\"\",\"\",Dados!D417)","v":""},{"$f":"IF(Dados!E417=\"\",\"\",Dados!E417)","v":""},{"$f":"IF(Dados!F417=\"\",\"\",Dados!F417)","v":""},{"$f":"IF(Dados!G417=\"\",\"\",Dados!G417)","v":""},{"$error":"#VALUE!"},"",null,{"$error":"#VALUE!"},"",null,{"$error":"#VALUE!"},"",null,{"$error":"#VALUE!"},""]
[null,null,{"$f":"IF(Dados!C418=\"\",\"\",Dados!C418)","v":""},{"$f":"IF(Dados!D418=\"\",\"\",Dados!D418)","v":""},{"$f":"IF(Dados!E418=\"\",\"\",Dados!E418)","v":""},{"$f":"IF(Dados!F418=\"\",\"\",Dados!F418)","v":""},{"$f":"IF(Dados!G418=\"\",\"\",Dados!G418)","v":""},{"$error":"#VALUE!"},"",null,{"$error":"#VALUE!"},"",null,{"$error":"#VALUE!"},"",null,{"$error":"#VALUE!"},""]
[null,null,{"$f":"IF(Dados!C419=\"\",\"\",Dados!C419)","v":""},{"$f":"IF(Dados!D419=\"\",\"\",Dados!D419)","v":""},{"$f":"IF(Dados!E419=\"\",\"\",Dados!E419)","v":""},{"$f":"IF(Dados!F419=\"\",\"\",Dados!F419)","v":""},{"$f":"IF(Dados!G419=\"\",\"\",Dados!G419)","v":""},{"$error":"#VALUE!"},"",null,{"$error":"#VALUE!"},"",null,{"$error":"#VALUE!"},"",null,{"$error":"#VALUE!"},""]
[null,null,{"$f":"IF(Dados!C420=\"\",\"\",Dados!C420)","v":""},{"$f":"IF(Dados!D420=\"\",\"\",Dados!D420)","v":""},{"$f":"IF(Dados!E420=\"\",\"\",Dados!E420)","v":""},{"$f":"IF(Dados!F420=\"\",\"\",Dados!F420)","v":""},{"$f":"IF(Dados!G420=\"\",\"\",Dados!G420)","v":""},{"$error":"#VALUE!"},"",null,{"$error":"#VALUE!"},"",null,{"$error":"#VALUE!"},"",null,{"$error":"#VALUE!"},""]
[null,{"$f":"B411+1","v":42},{"$f":"IF(Dados!C421=\"\",\"\",Dados!C421)","v":""},{"$f":"IF(Dados!D421=\"\",\"\",Dados!D421)","v":""},{"$f":"IF(Dados!E421=\"\",\"\",Dados!E421)","v":""},{"$f":"IF(Dados!F421=\"\",\"\",Dados!F421)","v":""},{"$f":"IF(Dados!G421=\"\",\"\",Dados!G421)","v":""},{"$error":"#VALUE!"},"",{"$f":"SUM(I421:I430)","v":0},{"$error":"#VALUE!"},"",{"$f":"SUM(L421:L430)","v":0},{"$error":"#VALUE!"},"",{"$f":"SUM(O421:O430)","v":0},{"$error":"#VALUE!"},"",{"$f":"SUM(R421:R430)","v":0}]
[null,null,{"$f":"IF(Dados!C422=\"\",\"\",Dados!C422)","v":""},{"$f":"IF(Dados!D422=\"\",\"\",Dados!D422)","v":""},{"$f":"IF(Dados!E422=\"\",\"\",Dados!E422)","v":""},{"$f":"IF(Dados!F422=\"\",\"\",Dados!F422)","v":""},{"$f":"IF(Dados!G422=\"\",\"\",Dados!G422)","v":""},{"$error":"#VALUE!"},"",null,{"$error":"#VALUE!"},"",null,{"$error":"#VALUE!"},"",null,{"$error":"#VALUE!"},""]
[null,null,{"$f":"IF(Dados!C423=\"\",\"\",Dados!C423)","v":""},{"$f":"IF(Dados!D423=\"\",\"\",Dados!D423)","v":""},{"$f":"IF(Dados!E423=\"\",\"\",Dados!E423)","v":""},{"$f":"IF(Dados!F423=\"\",\"\",Dados!F423)","v":""},{"$f":"IF(Dados!G423=\"\",\"\",Dados!G423)","v":""},{"$error":"#VALUE!"},"",null,{"$error":"#VALUE!"},"",null,{"$error":"#VALUE!"},"",null,{"$error":"#VALUE!"},""]
[null,null,{"$f":"IF(Dados!C424=\"\",\"\",Dados!C424)","v":""},{"$f":"IF(Dados!D424=\"\",\"\",Dados!D424)","v":""},{"$f":"IF(Dados!E424=\"\",\"\",Dados!E424)","v":""},{"$f":"IF(Dados!F424=\"\",\"\",Dados!F424)","v":""},{"$f":"IF(Dados!G424=\"\",\"\",Dados!G424)","v":""},{"$error":"#VALUE!"},"",null,{"$error":"#VALUE!"},"",null,{"$error":"#VALUE!"},"",null,{"$error":"#VALUE!"},""]
[null,null,{"$f":"IF(Dados!C425=\"\",\"\",Dados!C425)","v":""},{"$f":"IF(Dados!D425=\"\",\"\",Dados!D425)","v":""},{"$f":"IF(Dados!E425=\"\",\"\",Dados!E425)","v":""},{"$f":"IF(Dados!F425=\"\",\"\",Dados!F425)","v":""},{"$f":"IF(Dados!G425=\"\",\"\",Dados!G425)","v":""},{"$error":"#VALUE!"},"",null,{"$error":"#VALUE!"},"",null,{"$error":"#VALUE!"},"",null,{"$error":"#VALUE!"},""]
[null,null,{"$f":"IF(Dados!C426=\"\",\"\",Dados!C426)","v":""},{"$f":"IF(Dados!D426=\"\",\"\",Dados!D426)","v":""},{"$f":"IF(Dados!E426=\"\",\"\",Dados!E426)","v":""},{"$f":"IF(Dados!F426=\"\",\"\",Dados!F426)","v":""},{"$f":"IF(Dados!G426=\"\",\"\",Dados!G426)","v":""},{"$error":"#VALUE!"},"",null,{"$error":"#VALUE!"},"",null,{"$error":"#VALUE!"},"",null,{"$error":"#VALUE!"},""]
[null,null,{"$f":"IF(Dados!C427=\"\",\"\",Dados!C427)","v":""},{"$f":"IF(Dados!D427=\"\",\"\",Dados!D427)","v":""},{"$f":"IF(Dados!E427=\"\",\"\",Dados!E427)","v":""},{"$f":"IF(Dados!F427=\"\",\"\",Dados!F427)","v":""},{"$f":"IF(Dados!G427=\"\",\"\",Dados!G427)","v":""},{"$error":"#VALUE!"},"",null,{"$error":"#VALUE!"},"",null,{"$error":"#VALUE!"},"",null,{"$error":"#VALUE!"},""]
[null,null,{"$f":"IF(Dados!C428=\"\",\"\",Dados!C428)","v":""},{"$f":"IF(Dados!D428=\"\",\"\",Dados!D428)","v":""},{"$f":"IF(Dados!E428=\"\",\"\",Dados!E428)","v":""},{"$f":"IF(Dados!F428=\"\",\"\",Dados!F428)","v":""},{"$f":"IF(Dados!G428=\"\",\"\",Dados!G428)","v":""},{"$error":"#VALUE!"},"",null,{"$error":"#VALUE!"},"",null,{"$error":"#VALUE!"},"",null,{"$error":"#VALUE!"},""]
[null,null,{"$f":"IF(Dados!C429=\"\",\"\",Dados!C429)","v":""},{"$f":"IF(Dados!D429=\"\",\"\",Dados!D429)","v":""},{"$f":"IF(Dados!E429=\"\",\"\",Dados!E429)","v":""},{"$f":"IF(Dados!F429=\"\",\"\",Dados!F429)","v":""},{"$f":"IF(Dados!G429=\"\",\"\",Dados!G429)","v":""},{"$error":"#VALUE!"},"",null,{"$error":"#VALUE!"},"",null,{"$error":"#VALUE!"},"",null,{"$error":"#VALUE!"},""]
[null,null,{"$f":"IF(Dados!C430=\"\",\"\",Dados!C430)","v":""},{"$f":"IF(Dados!D430=\"\",\"\",Dados!D430)","v":""},{"$f":"IF(Dados!E430=\"\",\"\",Dados!E430)","v":""},{"$f":"IF(Dados!F430=\"\",\"\",Dados!F430)","v":""},{"$f":"IF(Dados!G430=\"\",\"\",Dados!G430)","v":""},{"$error":"#VALUE!"},"",null,{"$error":"#VALUE!"},"",null,{"$error":"#VALUE!"},"",null,{"$error":"#VALUE!"},""]
[null,{"$f":"B421+1","v":43},{"$f":"IF(Dados!C431=\"\",\"\",Dados!C431)","v":""},{"$f":"IF(Dados!D431=\"\",\"\",Dados!D431)","v":""},{"$f":"IF(Dados!E431=\"\",\"\",Dados!E431)","v":""},{"$f":"IF(Dados!F431=\"\",\"\",Dados!F431)","v":""},{"$f":"IF(Dados!G431=\"\",\"\",Dados!G431)","v":""},{"$error":"#VALUE!"},"",{"$f":"SUM(I431:I440)","v":0},{"$error":"#VALUE!"},"",{"$f":"SUM(L431:L440)","v":0},{"$error":"#VALUE!"},"",{"$f":"SUM(O431:O440)","v":0},{"$error":"#VALUE!"},"",{"$f":"SUM(R431:R440)","v":0}]
[null,null,{"$f":"IF(Dados!C432=\"\",\"\",Dados!C432)","v":""},{"$f":"IF(Dados!D432=\"\",\"\",Dados!D432)","v":""},{"$f":"IF(Dados!E432=\"\",\"\",Dados!E432)","v":""},{"$f":"IF(Dados!F432=\"\",\"\",Dados!F432)","v":""},{"$f":"IF(Dados!G432=\"\",\"\",Dados!G432)","v":""},{"$error":"#VALUE!"},"",null,{"$error":"#VALUE!"},"",null,{"$error":"#VALUE!"},"",null,{"$error":"#VALUE!"},""]
[null,null,{"$f":"IF(Dados!C433=\"\",\"\",Dados!C433)","v":""},{"$f":"IF(Dados!D433=\"\",\"\",Dados!D433)","v":""},{"$f":"IF(Dados!E433=\"\",\"\",Dados!E433)","v":""},{"$f":"IF(Dados!F433=\"\",\"\",Dados!F433)","v":""},{"$f":"IF(Dados!G433=\"\",\"\",Dados!G433)","v":""},{"$error":"#VALUE!"},"",null,{"$error":"#VALUE!"},"",null,{"$error":"#VALUE!"},"",null,{"$error":"#VALUE!"},""]
[null,null,{"$f":"IF(Dados!C434=\"\",\"\",Dados!C434)","v":""},{"$f":"IF(Dados!D434=\"\",\"\",Dados!D434)","v":""},{"$f":"IF(Dados!E434=\"\",\"\",Dados!E434)","v":""},{"$f":"IF(Dados!F434=\"\",\"\",Dados!F434)","v":""},{"$f":"IF(Dados!G434=\"\",\"\",Dados!G434)","v":""},{"$error":"#VALUE!"},"",null,{"$error":"#VALUE!"},"",null,{"$error":"#VALUE!"},"",null,{"$error":"#VALUE!"},""]
[null,null,{"$f":"IF(Dados!C435=\"\",\"\",Dados!C435)","v":""},{"$f":"IF(Dados!D435=\"\",\"\",Dados!D435)","v":""},{"$f":"IF(Dados!E435=\"\",\"\",Dados!E435)","v":""},{"$f":"IF(Dados!F435=\"\",\"\",Dados!F435)","v":""},{"$f":"IF(Dados!G435=\"\",\"\",Dados!G435)","v":""},{"$error":"#VALUE!"},"",null,{"$error":"#VALUE!"},"",null,{"$error":"#VALUE!"},"",null,{"$error":"#VALUE!"},""]
[null,null,{"$f":"IF(Dados!C436=\"\",\"\",Dados!C436)","v":""},{"$f":"IF(Dados!D436=\"\",\"\",Dados!D436)","v":""},{"$f":"IF(Dados!E436=\"\",\"\",Dados!E436)","v":""},{"$f":"IF(Dados!F436=\"\",\"\",Dados!F436)","v":""},{"$f":"IF(Dados!G436=\"\",\"\",Dados!G436)","v":""},{"$error":"#VALUE!"},"",null,{"$error":"#VALUE!"},"",null,{"$error":"#VALUE!"},"",null,{"$error":"#VALUE!"},""]
[null,null,{"$f":"IF(Dados!C437=\"\",\"\",Dados!C437)","v":""},{"$f":"IF(Dados!D437=\"\",\"\",Dados!D437)","v":""},{"$f":"IF(Dados!E437=\"\",\"\",Dados!E437)","v":""},{"$f":"IF(Dados!F437=\"\",\"\",Dados!F437)","v":""},{"$f":"IF(Dados!G437=\"\",\"\",Dados!G437)","v":""},{"$error":"#VALUE!"},"",null,{"$error":"#VALUE!"},"",null,{"$error":"#VALUE!"},"",null,{"$error":"#VALUE!"},""]
[null,null,{"$f":"IF(Dados!C438=\"\",\"\",Dados!C438)","v":""},{"$f":"IF(Dados!D438=\"\",\"\",Dados!D438)","v":""},{"$f":"IF(Dados!E438=\"\",\"\",Dados!E438)","v":""},{"$f":"IF(Dados!F438=\"\",\"\",Dados!F438)","v":""},{"$f":"IF(Dados!G438=\"\",\"\",Dados!G438)","v":""},{"$error":"#VALUE!"},"",null,{"$error":"#VALUE!"},"",null,{"$error":"#VALUE!"},"",null,{"$error":"#VALUE!"},""]
[null,null,{"$f":"IF(Dados!C439=\"\",\"\",Dados!C439)","v":""},{"$f":"IF(Dados!D439=\"\",\"\",Dados!D439)","v":""},{"$f":"IF(Dados!E439=\"\",\"\",Dados!E439)","v":""},{"$f":"IF(Dados!F439=\"\",\"\",Dados!F439)","v":""},{"$f":"IF(Dados!G439=\"\",\"\",Dados!G439)","v":""},{"$error":"#VALUE!"},"",null,{"$error":"#VALUE!"},"",null,{"$error":"#VALUE!"},"",null,{"$error":"#VALUE!"},""]
[null,null,{"$f":"IF(Dados!C440=\"\",\"\",Dados!C440)","v":""},{"$f":"IF(Dados!D440=\"\",\"\",Dados!D440)","v":""},{"$f":"IF(Dados!E440=\"\",\"\",Dados!E440)","v":""},{"$f":"IF(Dados!F440=\"\",\"\",Dados!F440)","v":""},{"$f":"IF(Dados!G440=\"\",\"\",Dados!G440)","v":""},{"$error":"#VALUE!"},"",null,{"$error":"#VALUE!"},"",null,{"$error":"#VALUE!"},"",null,{"$error":"#VALUE!"},""]
[null,{"$f":"B431+1","v":44},{"$f":"IF(Dados!C441=\"\",\"\",Dados!C441)","v":""},{"$f":"IF(Dados!D441=\"\",\"\",Dados!D441)","v":""},{"$f":"IF(Dados!E441=\"\",\"\",Dados!E441)","v":""},{"$f":"IF(Dados!F441=\"\",\"\",Dados!F441)","v":""},{"$f":"IF(Dados!G441=\"\",\"\",Dados!G441)","v":""},{"$error":"#VALUE!"},"",{"$f":"SUM(I441:I450)","v":0},{"$error":"#VALUE!"},"",{"$f":"SUM(L441:L450)","v":0},{"$error":"#VALUE!"},"",{"$f":"SUM(O441:O450)","v":0},{"$error":"#VALUE!"},"",{"$f":"SUM(R441:R450)","v":0}]
[null,null,{"$f":"IF(Dados!C442=\"\",\"\",Dados!C442)","v":""},{"$f":"IF(Dados!D442=\"\",\"\",Dados!D442)","v":""},{"$f":"IF(Dados!E442=\"\",\"\",Dados!E442)","v":""},{"$f":"IF(Dados!F442=\"\",\"\",Dados!F442)","v":""},{"$f":"IF(Dados!G442=\"\",\"\",Dados!G442)","v":""},{"$error":"#VALUE!"},"",null,{"$error":"#VALUE!"},"",null,{"$error":"#VALUE!"},"",null,{"$error":"#VALUE!"},""]
[null,null,{"$f":"IF(Dados!C443=\"\",\"\",Dados!C443)","v":""},{"$f":"IF(Dados!D443=\"\",\"\",Dados!D443)","v":""},{"$f":"IF(Dados!E443=\"\",\"\",Dados!E443)","v":""},{"$f":"IF(Dados!F443=\"\",\"\",Dados!F443)","v":""},{"$f":"IF(Dados!G443=\"\",\"\",Dados!G443)","v":""},{"$error":"#VALUE!"},"",null,{"$error":"#VALUE!"},"",null,{"$error":"#VALUE!"},"",null,{"$error":"#VALUE!"},""]
[null,null,{"$f":"IF(Dados!C444=\"\",\"\",Dados!C444)","v":""},{"$f":"IF(Dados!D444=\"\",\"\",Dados!D444)","v":""},{"$f":"IF(Dados!E444=\"\",\"\",Dados!E444)","v":""},{"$f":"IF(Dados!F444=\"\",\"\",Dados!F444)","v":""},{"$f":"IF(Dados!G444=\"\",\"\",Dados!G444)","v":""},{"$error":"#VALUE!"},"",null,{"$error":"#VALUE!"},"",null,{"$error":"#VALUE!"},"",null,{"$error":"#VALUE!"},""]
[null,null,{"$f":"IF(Dados!C445=\"\",\"\",Dados!C445)","v":""},{"$f":"IF(Dados!D445=\"\",\"\",Dados!D445)","v":""},{"$f":"IF(Dados!E445=\"\",\"\",Dados!E445)","v":""},{"$f":"IF(Dados!F445=\"\",\"\",Dados!F445)","v":""},{"$f":"IF(Dados!G445=\"\",\"\",Dados!G445)","v":""},{"$error":"#VALUE!"},"",null,{"$error":"#VALUE!"},"",null,{"$error":"#VALUE!"},"",null,{"$error":"#VALUE!"},""]
[null,null,{"$f":"IF(Dados!C446=\"\",\"\",Dados!C446)","v":""},{"$f":"IF(Dados!D446=\"\",\"\",Dados!D446)","v":""},{"$f":"IF(Dados!E446=\"\",\"\",Dados!E446)","v":""},{"$f":"IF(Dados!F446=\"\",\"\",Dados!F446)","v":""},{"$f":"IF(Dados!G446=\"\",\"\",Dados!G446)","v":""},{"$error":"#VALUE!"},"",null,{"$error":"#VALUE!"},"",null,{"$error":"#VALUE!"},"",null,{"$error":"#VALUE!"},""]
[null,null,{"$f":"IF(Dados!C447=\"\",\"\",Dados!C447)","v":""},{"$f":"IF(Dados!D447=\"\",\"\",Dados!D447)","v":""},{"$f":"IF(Dados!E447=\"\",\"\",Dados!E447)","v":""},{"$f":"IF(Dados!F447=\"\",\"\",Dados!F447)","v":""},{"$f":"IF(Dados!G447=\"\",\"\",Dados!G447)","v":""},{"$error":"#VALUE!"},"",null,{"$error":"#VALUE!"},"",null,{"$error":"#VALUE!"},"",null,{"$error":"#VALUE!"},""]
[null,null,{"$f":"IF(Dados!C448=\"\",\"\",Dados!C448)","v":""},{"$f":"IF(Dados!D448=\"\",\"\",Dados!D448)","v":""},{"$f":"IF(Dados!E448=\"\",\"\",Dados!E448)","v":""},{"$f":"IF(Dados!F448=\"\",\"\",Dados!F448)","v":""},{"$f":"IF(Dados!G448=\"\",\"\",Dados!G448)","v":""},{"$error":"#VALUE!"},"",null,{"$error":"#VALUE!"},"",null,{"$error":"#VALUE!"},"",null,{"$error":"#VALUE!"},""]
[null,null,{"$f":"IF(Dados!C449=\"\",\"\",Dados!C449)","v":""},{"$f":"IF(Dados!D449=\"\",\"\",Dados!D449)","v":""},{"$f":"IF(Dados!E449=\"\",\"\",Dados!E449)","v":""},{"$f":"IF(Dados!F449=\"\",\"\",Dados!F449)","v":""},{"$f":"IF(Dados!G449=\"\",\"\",Dados!G449)","v":""},{"$error":"#VALUE!"},"",null,{"$error":"#VALUE!"},"",null,{"$error":"#VALUE!"},"",null,{"$error":"#VALUE!"},""]
[null,null,{"$f":"IF(Dados!C450=\"\",\"\",Dados!C450)","v":""},{"$f":"IF(Dados!D450=\"\",\"\",Dados!D450)","v":""},{"$f":"IF(Dados!E450=\"\",\"\",Dados!E450)","v":""},{"$f":"IF(Dados!F450=\"\",\"\",Dados!F450)","v":""},{"$f":"IF(Dados!G450=\"\",\"\",Dados!G450)","v":""},{"$error":"#VALUE!"},"",null,{"$error":"#VALUE!"},"",null,{"$error":"#VALUE!"},"",null,{"$error":"#VALUE!"},""]
[null,{"$f":"B441+1","v":45},{"$f":"IF(Dados!C451=\"\",\"\",Dados!C451)","v":""},{"$f":"IF(Dados!D451=\"\",\"\",Dados!D451)","v":""},{"$f":"IF(Dados!E451=\"\",\"\",Dados!E451)","v":""},{"$f":"IF(Dados!F451=\"\",\"\",Dados!F451)","v":""},{"$f":"IF(Dados!G451=\"\",\"\",Dados!G451)","v":""},{"$error":"#VALUE!"},"",{"$f":"SUM(I451:I460)","v":0},{"$error":"#VALUE!"},"",{"$f":"SUM(L451:L460)","v":0},{"$error":"#VALUE!"},"",{"$f":"SUM(O451:O460)","v":0},{"$error":"#VALUE!"},"",{"$f":"SUM(R451:R460)","v":0}]
[null,null,{"$f":"IF(Dados!C452=\"\",\"\",Dados!C452)","v":""},{"$f":"IF(Dados!D452=\"\",\"\",Dados!D452)","v":""},{"$f":"IF(Dados!E452=\"\",\"\",Dados!E452)","v":""},{"$f":"IF(Dados!F452=\"\",\"\",Dados!F452)","v":""},{"$f":"IF(Dados!G452=\"\",\"\",Dados!G452)","v":""},{"$error":"#VALUE!"},"",null,{"$error":"#VALUE!"},"",null,{"$error":"#VALUE!"},"",null,{"$error":"#VALUE!"},""]
[null,null,{"$f":"IF(Dados!C453=\"\",\"\",Dados!C453)","v":""},{"$f":"IF(Dados!D453=\"\",\"\",Dados!D453)","v":""},{"$f":"IF(Dados!E453=\"\",\"\",Dados!E453)","v":""},{"$f":"IF(Dados!F453=\"\",\"\",Dados!F453)","v":""},{"$f":"IF(Dados!G453=\"\",\"\",Dados!G453)","v":""},{"$error":"#VALUE!"},"",null,{"$error":"#VALUE!"},"",null,{"$error":"#VALUE!"},"",null,{"$error":"#VALUE!"},""]
[null,null,{"$f":"IF(Dados!C454=\"\",\"\",Dados!C454)","v":""},{"$f":"IF(Dados!D454=\"\",\"\",Dados!D454)","v":""},{"$f":"IF(Dados!E454=\"\",\"\",Dados!E454)","v":""},{"$f":"IF(Dados!F454=\"\",\"\",Dados!F454)","v":""},{"$f":"IF(Dados!G454=\"\",\"\",Dados!G454)","v":""},{"$error":"#VALUE!"},"",null,{"$error":"#VALUE!"},"",null,{"$error":"#VALUE!"},"",null,{"$error":"#VALUE!"},""]
[null,null,{"$f":"IF(Dados!C455=\"\",\"\",Dados!C455)","v":""},{"$f":"IF(Dados!D455=\"\",\"\",Dados!D455)","v":""},{"$f":"IF(Dados!E455=\"\",\"\",Dados!E455)","v":""},{"$f":"IF(Dados!F455=\"\",\"\",Dados!F455)","v":""},{"$f":"IF(Dados!G455=\"\",\"\",Dados!G455)","v":""},{"$error":"#VALUE!"},"",null,{"$error":"#VALUE!"},"",null,{"$error":"#VALUE!"},"",null,{"$error":"#VALUE!"},""]
[null,null,{"$f":"IF(Dados!C456=\"\",\"\",Dados!C456)","v":""},{"$f":"IF(Dados!D456=\"\",\"\",Dados!D456)","v":""},{"$f":"IF(Dados!E456=\"\",\"\",Dados!E456)","v":""},{"$f":"IF(Dados!F456=\"\",\"\",Dados!F456)","v":""},{"$f":"IF(Dados!G456=\"\",\"\",Dados!G456)","v":""},{"$error":"#VALUE!"},"",null,{"$error":"#VALUE!"},"",null,{"$error":"#VALUE!"},"",null,{"$error":"#VALUE!"},""]
[null,null,{"$f":"IF(Dados!C457=\"\",\"\",Dados!C457)","v":""},{"$f":"IF(Dados!D457=\"\",\"\",Dados!D457)","v":""},{"$f":"IF(Dados!E457=\"\",\"\",Dados!E457)","v":""},{"$f":"IF(Dados!F457=\"\",\"\",Dados!F457)","v":""},{"$f":"IF(Dados!G457=\"\",\"\",Dados!G457)","v":""},{"$error":"#VALUE!"},"",null,{"$error":"#VALUE!"},"",null,{"$error":"#VALUE!"},"",null,{"$error":"#VALUE!"},""]
[null,null,{"$f":"IF(Dados!C458=\"\",\"\",Dados!C458)","v":""},{"$f":"IF(Dados!D458=\"\",\"\",Dados!D458)","v":""},{"$f":"IF(Dados!E458=\"\",\"\",Dados!E458)","v":""},{"$f":"IF(Dados!F458=\"\",\"\",Dados!F458)","v":""},{"$f":"IF(Dados!G458=\"\",\"\",Dados!G458)","v":""},{"$error":"#VALUE!"},"",null,{"$error":"#VALUE!"},"",null,{"$error":"#VALUE!"},"",null,{"$error":"#VALUE!"},""]
[null,null,{"$f":"IF(Dados!C459=\"\",\"\",Dados!C459)","v":""},{"$f":"IF(Dados!D459=\"\",\"\",Dados!D459)","v":""},{"$f":"IF(Dados!E459=\"\",\"\",Dados!E459)","v":""},{"$f":"IF(Dados!F459=\"\",\"\",Dados!F459)","v":""},{"$f":"IF(Dados!G459=\"\",\"\",Dados!G459)","v":""},{"$f":"($G459*ChIR*ChEF*ChED)/(ChBW*ChATnc)","v":{"$error":"#VALUE!"}},{"$f":"IFERROR((H459)/(VLOOKUP($F459,intervaloHQ,2,0)),\"\")","v":""},null,{"$f":"($G459*AdIR*AdEF*AdED)/(AdBW*AdATnc)","v":{"$error":"#VALUE!"}},{"$f":"IFERROR((K459)/(VLOOKUP($F459,intervaloHQ,2,0)),\"\")","v":""},null,{"$f":"($G459*ChIR*ChEF*ChED)/(ChBW*ChATc)","v":{"$error":"#VALUE!"}},{"$f":"IFERROR((N459)*(VLOOKUP($F459,intervaloHQ,4,0)),\"\")","v":""},null,{"$f":"($G459*AdIR*AdEF*AdED)/(AdBW*AdATc)","v":{"$error":"#VALUE!"}},{"$f":"IFERROR((Q459)*(VLOOKUP($F459,intervaloHQ,4,0)),\"\")","v":""}]
[null,null,{"$f":"IF(Dados!C460=\"\",\"\",Dados!C460)","v":""},{"$f":"IF(Dados!D460=\"\",\"\",Dados!D460)","v":""},{"$f":"IF(Dados!E460=\"\",\"\",Dados!E460)","v":""},{"$f":"IF(Dados!F460=\"\",\"\",Dados!F460)","v":""},{"$f":"IF(Dados!G460=\"\",\"\",Dados!G460)","v":""},{"$error":"#VALUE!"},"",null,{"$error":"#VALUE!"},"",null,{"$error":"#VALUE!"},"",null,{"$error":"#VALUE!"},""]
[null,{"$f":"B451+1","v":46},{"$f":"IF(Dados!C461=\"\",\"\",Dados!C461)","v":""},{"$f":"IF(Dados!D461=\"\",\"\",Dados!D461)","v":""},{"$f":"IF(Dados!E461=\"\",\"\",Dados!E461)","v":""},{"$f":"IF(Dados!F461=\"\",\"\",Dados!F461)","v":""},{"$f":"IF(Dados!G461=\"\",\"\",Dados!G461)","v":""},{"$error":"#VALUE!"},"",{"$f":"SUM(I461:I470)","v":0},{"$error":"#VALUE!"},"",{"$f":"SUM(L461:L470)","v":0},{"$error":"#VALUE!"},"",{"$f":"SUM(O461:O470)","v":0},{"$error":"#VALUE!"},"",{"$f":"SUM(R461:R470)","v":0}]
[null,null,{"$f":"IF(Dados!C462=\"\",\"\",Dados!C462)","v":""},{"$f":"IF(Dados!D462=\"\",\"\",Dados!D462)","v":""},{"$f":"IF(Dados!E462=\"\",\"\",Dados!E462)","v":""},{"$f":"IF(Dados!F462=\"\",\"\",Dados!F462)","v":""},{"$f":"IF(Dados!G462=\"\",\"\",Dados!G462)","v":""},{"$error":"#VALUE!"},"",null,{"$error":"#VALUE!"},"",null,{"$error":"#VALUE!"},"",null,{"$error":"#VALUE!"},""]
[null,null,{"$f":"IF(Dados!C463=\"\",\"\",Dados!C463)","v":""},{"$f":"IF(Dados!D463=\"\",\"\",Dados!D463)","v":""},{"$f":"IF(Dados!E463=\"\",\"\",Dados!E463)","v":""},{"$f":"IF(Dados!F463=\"\",\"\",Dados!F463)","v":""},{"$f":"IF(Dados!G463=\"\",\"\",Dados!G463)","v":""},{"$error":"#VALUE!"},"",null,{"$error":"#VALUE!"},"",null,{"$error":"#VALUE!"},"",null,{"$error":"#VALUE!"},""]
[null,null,{"$f":"IF(Dados!C464=\"\",\"\",Dados!C464)","v":""},{"$f":"IF(Dados!D464=\"\",\"\",Dados!D464)","v":""},{"$f":"IF(Dados!E464=\"\",\"\",Dados!E464)","v":""},{"$f":"IF(Dados!F464=\"\",\"\",Dados!F464)","v":""},{"$f":"IF(Dados!G464=\"\",\"\",Dados!G464)","v":""},{"$error":"#VALUE!"},"",null,{"$error":"#VALUE!"},"",null,{"$error":"#VALUE!"},"",null,{"$error":"#VALUE!"},""]
[null,null,{"$f":"IF(Dados!C465=\"\",\"\",Dados!C465)","v":""},{"$f":"IF(Dados!D465=\"\",\"\",Dados!D465)","v":""},{"$f":"IF(Dados!E465=\"\",\"\",Dados!E465)","v":""},{"$f":"IF(Dados!F465=\"\",\"\",Dados!F465)","v":""},{"$f":"IF(Dados!G465=\"\",\"\",Dados!G465)","v":""},{"$error":"#VALUE!"},"",null,{"$error":"#VALUE!"},"",null,{"$error":"#VALUE!"},"",null,{"$error":"#VALUE!"},""]
[null,null,{"$f":"IF(Dados!C466=\"\",\"\",Dados!C466)","v":""},{"$f":"IF(Dados!D466=\"\",\"\",Dados!D466)","v":""},{"$f":"IF(Dados!E466=\"\",\"\",Dados!E466)","v":""},{"$f":"IF(Dados!F466=\"\",\"\",Dados!F466)","v":""},{"$f":"IF(Dados!G466=\"\",\"\",Dados!G466)","v":""},{"$error":"#VALUE!"},"",null,{"$error":"#VALUE!"},"",null,{"$error":"#VALUE!"},"",null,{"$error":"#VALUE!"},""]
[null,null,{"$f":"IF(Dados!C467=\"\",\"\",Dados!C467)","v":""},{"$f":"IF(Dados!D467=\"\",\"\",Dados!D467)","v":""},{"$f":"IF(Dados!E467=\"\",\"\",Dados!E467)","v":""},{"$f":"IF(Dados!F467=\"\",\"\",Dados!F467)","v":""},{"$f":"IF(Dados!G467=\"\",\"\",Dados!G467)","v":""},{"$error":"#VALUE!"},"",null,{"$error":"#VALUE!"},"",null,{"$error":"#VALUE!"},"",null,{"$error":"#VALUE!"},""]
[null,null,{"$f":"IF(Dados!C468=\"\",\"\",Dados!C468)","v":""},{"$f":"IF(Dados!D468=\"\",\"\",Dados!D468)","v":""},{"$f":"IF(Dados!E468=\"\",\"\",Dados!E468)","v":""},{"$f":"IF(Dados!F468=\"\",\"\",Dados!F468)","v":""},{"$f":"IF(Dados!G468=\"\",\"\",Dados!G468)","v":""},{"$error":"#VALUE!"},"",null,{"$error":"#VALUE!"},"",null,{"$error":"#VALUE!"},"",null,{"$error":"#VALUE!"},""]
[null,null,{"$f":"IF(Dados!C469=\"\",\"\",Dados!C469)","v":""},{"$f":"IF(Dados!D469=\"\",\"\",Dados!D469)","v":""},{"$f":"IF(Dados!E469=\"\",\"\",Dados!E469)","v":""},{"$f":"IF(Dados!F469=\"\",\"\",Dados!F469)","v":""},{"$f":"IF(Dados!G469=\"\",\"\",Dados!G469)","v":""},{"$error":"#VALUE!"},"",null,{"$error":"#VALUE!"},"",null,{"$error":"#VALUE!"},"",null,{"$error":"#VALUE!"},""]
[null,null,{"$f":"IF(Dados!C470=\"\",\"\",Dados!C470)","v":""},{"$f":"IF(Dados!D470=\"\",\"\",Dados!D470)","v":""},{"$f":"IF(Dados!E470=\"\",\"\",Dados!E470)","v":""},{"$f":"IF(Dados!F470=\"\",\"\",Dados!F470)","v":""},{"$f":"IF(Dados!G470=\"\",\"\",Dados!G470)","v":""},{"$error":"#VALUE!"},"",null,{"$error":"#VALUE!"},"",null,{"$error":"#VALUE!"},"",null,{"$error":"#VALUE!"},""]
[null,{"$f":"B461+1","v":47},{"$f":"IF(Dados!C471=\"\",\"\",Dados!C471)","v":""},{"$f":"IF(Dados!D471=\"\",\"\",Dados!D471)","v":""},{"$f":"IF(Dados!E471=\"\",\"\",Dados!E471)","v":""},{"$f":"IF(Dados!F471=\"\",\"\",Dados!F471)","v":""},{"$f":"IF(Dados!G471=\"\",\"\",Dados!G471)","v":""},{"$error":"#VALUE!"},"",{"$f":"SUM(I471:I480)","v":0},{"$error":"#VALUE!"},"",{"$f":"SUM(L471:L480)","v":0},{"$error":"#VALUE!"},"",{"$f":"SUM(O471:O480)","v":0},{"$error":"#VALUE!"},"",{"$f":"SUM(R471:R480)","v":0}]
[null,null,{"$f":"IF(Dados!C472=\"\",\"\",Dados!C472)","v":""},{"$f":"IF(Dados!D472=\"\",\"\",Dados!D472)","v":""},{"$f":"IF(Dados!E472=\"\",\"\",Dados!E472)","v":""},{"$f":"IF(Dados!F472=\"\",\"\",Dados!F472)","v":""},{"$f":"IF(Dados!G472=\"\",\"\",Dados!G472)","v":""},{"$error":"#VALUE!"},"",null,{"$error":"#VALUE!"},"",null,{"$error":"#VALUE!"},"",null,{"$error":"#VALUE!"},""]
[null,null,{"$f":"IF(Dados!C473=\"\",\"\",Dados!C473)","v":""},{"$f":"IF(Dados!D473=\"\",\"\",Dados!D473)","v":""},{"$f":"IF(Dados!E473=\"\",\"\",Dados!E473)","v":""},{"$f":"IF(Dados!F473=\"\",\"\",Dados!F473)","v":""},{"$f":"IF(Dados!G473=\"\",\"\",Dados!G473)","v":""},{"$error":"#VALUE!"},"",null,{"$error":"#VALUE!"},"",null,{"$error":"#VALUE!"},"",null,{"$error":"#VALUE!"},""]
[null,null,{"$f":"IF(Dados!C474=\"\",\"\",Dados!C474)","v":""},{"$f":"IF(Dados!D474=\"\",\"\",Dados!D474)","v":""},{"$f":"IF(Dados!E474=\"\",\"\",Dados!E474)","v":""},{"$f":"IF(Dados!F474=\"\",\"\",Dados!F474)","v":""},{"$f":"IF(Dados!G474=\"\",\"\",Dados!G474)","v":""},{"$error":"#VALUE!"},"",null,{"$error":"#VALUE!"},"",null,{"$error":"#VALUE!"},"",null,{"$error":"#VALUE!"},""]
[null,null,{"$f":"IF(Dados!C475=\"\",\"\",Dados!C475)","v":""},{"$f":"IF(Dados!D475=\"\",\"\",Dados!D475)","v":""},{"$f":"IF(Dados!E475=\"\",\"\",Dados!E475)","v":""},{"$f":"IF(Dados!F475=\"\",\"\",Dados!F475)","v":""},{"$f":"IF(Dados!G475=\"\",\"\",Dados!G475)","v":""},{"$error":"#VALUE!"},"",null,{"$error":"#VALUE!"},"",null,{"$error":"#VALUE!"},"",null,{"$error":"#VALUE!"},""]
[null,null,{"$f":"IF(Dados!C476=\"\",\"\",Dados!C476)","v":""},{"$f":"IF(Dados!D476=\"\",\"\",Dados!D476)","v":""},{"$f":"IF(Dados!E476=\"\",\"\",Dados!E476)","v":""},{"$f":"IF(Dados!F476=\"\",\"\",Dados!F476)","v":""},{"$f":"IF(Dados!G476=\"\",\"\",Dados!G476)","v":""},{"$error":"#VALUE!"},"",null,{"$error":"#VALUE!"},"",null,{"$error":"#VALUE!"},"",null,{"$error":"#VALUE!"},""]
[null,null,{"$f":"IF(Dados!C477=\"\",\"\",Dados!C477)","v":""},{"$f":"IF(Dados!D477=\"\",\"\",Dados!D477)","v":""},{"$f":"IF(Dados!E477=\"\",\"\",Dados!E477)","v":""},{"$f":"IF(Dados!F477=\"\",\"\",Dados!F477)","v":""},{"$f":"IF(Dados!G477=\"\",\"\",Dados!G477)","v":""},{"$error":"#VALUE!"},"",null,{"$error":"#VALUE!"},"",null,{"$error":"#VALUE!"},"",null,{"$error":"#VALUE!"},""]
[null,null,{"$f":"IF(Dados!C478=\"\",\"\",Dados!C478)","v":""},{"$f":"IF(Dados!D478=\"\",\"\",Dados!D478)","v":""},{"$f":"IF(Dados!E478=\"\",\"\",Dados!E478)","v":""},{"$f":"IF(Dados!F478=\"\",\"\",Dados!F478)","v":""},{"$f":"IF(Dados!G478=\"\",\"\",Dados!G478)","v":""},{"$error":"#VALUE!"},"",null,{"$error":"#VALUE!"},"",null,{"$error":"#VALUE!"},"",null,{"$error":"#VALUE!"},""]
[null,null,{"$f":"IF(Dados!C479=\"\",\"\",Dados!C479)","v":""},{"$f":"IF(Dados!D479=\"\",\"\",Dados!D479)","v":""},{"$f":"IF(Dados!E479=\"\",\"\",Dados!E479)","v":""},{"$f":"IF(Dados!F479=\"\",\"\",Dados!F479)","v":""},{"$f":"IF(Dados!G479=\"\",\"\",Dados!G479)","v":""},{"$error":"#VALUE!"},"",null,{"$error":"#VALUE!"},"",null,{"$error":"#VALUE!"},"",null,{"$error":"#VALUE!"},""]
[null,null,{"$f":"IF(Dados!C480=\"\",\"\",Dados!C480)","v":""},{"$f":"IF(Dados!D480=\"\",\"\",Dados!D480)","v":""},{"$f":"IF(Dados!E480=\"\",\"\",Dados!E480)","v":""},{"$f":"IF(Dados!F480=\"\",\"\",Dados!F480)","v":""},{"$f":"IF(Dados!G480=\"\",\"\",Dados!G480)","v":""},{"$error":"#VALUE!"},"",null,{"$error":"#VALUE!"},"",null,{"$error":"#VALUE!"},"",null,{"$error":"#VALUE!"},""]
[null,{"$f":"B471+1","v":48},{"$f":"IF(Dados!C481=\"\",\"\",Dados!C481)","v":""},{"$f":"IF(Dados!D481=\"\",\"\",Dados!D481)","v":""},{"$f":"IF(Dados!E481=\"\",\"\",Dados!E481)","v":""},{"$f":"IF(Dados!F481=\"\",\"\",Dados!F481)","v":""},{"$f":"IF(Dados!G481=\"\",\"\",Dados!G481)","v":""},{"$error":"#VALUE!"},"",{"$f":"SUM(I481:I490)","v":0},{"$error":"#VALUE!"},"",{"$f":"SUM(L481:L490)","v":0},{"$error":"#VALUE!"},"",{"$f":"SUM(O481:O490)","v":0},{"$error":"#VALUE!"},"",{"$f":"SUM(R481:R490)","v":0}]
[null,null,{"$f":"IF(Dados!C482=\"\",\"\",Dados!C482)","v":""},{"$f":"IF(Dados!D482=\"\",\"\",Dados!D482)","v":""},{"$f":"IF(Dados!E482=\"\",\"\",Dados!E482)","v":""},{"$f":"IF(Dados!F482=\"\",\"\",Dados!F482)","v":""},{"$f":"IF(Dados!G482=\"\",\"\",Dados!G482)","v":""},{"$error":"#VALUE!"},"",null,{"$error":"#VALUE!"},"",null,{"$error":"#VALUE!"},"",null,{"$error":"#VALUE!"},""]
[null,null,{"$f":"IF(Dados!C483=\"\",\"\",Dados!C483)","v":""},{"$f":"IF(Dados!D483=\"\",\"\",Dados!D483)","v":""},{"$f":"IF(Dados!E483=\"\",\"\",Dados!E483)","v":""},{"$f":"IF(Dados!F483=\"\",\"\",Dados!F483)","v":""},{"$f":"IF(Dados!G483=\"\",\"\",Dados!G483)","v":""},{"$error":"#VALUE!"},"",null,{"$error":"#VALUE!"},"",null,{"$error":"#VALUE!"},"",null,{"$error":"#VALUE!"},""]
[null,null,{"$f":"IF(Dados!C484=\"\",\"\",Dados!C484)","v":""},{"$f":"IF(Dados!D484=\"\",\"\",Dados!D484)","v":""},{"$f":"IF(Dados!E484=\"\",\"\",Dados!E484)","v":""},{"$f":"IF(Dados!F484=\"\",\"\",Dados!F484)","v":""},{"$f":"IF(Dados!G484=\"\",\"\",Dados!G484)","v":""},{"$error":"#VALUE!"},"",null,{"$error":"#VALUE!"},"",null,{"$error":"#VALUE!"},"",null,{"$error":"#VALUE!"},""]
[null,null,{"$f":"IF(Dados!C485=\"\",\"\",Dados!C485)","v":""},{"$f":"IF(Dados!D485=\"\",\"\",Dados!D485)","v":""},{"$f":"IF(Dados!E485=\"\",\"\",Dados!E485)","v":""},{"$f":"IF(Dados!F485=\"\",\"\",Dados!F485)","v":""},{"$f":"IF(Dados!G485=\"\",\"\",Dados!G485)","v":""},{"$error":"#VALUE!"},"",null,{"$error":"#VALUE!"},"",null,{"$error":"#VALUE!"},"",null,{"$error":"#VALUE!"},""]
[null,null,{"$f":"IF(Dados!C486=\"\",\"\",Dados!C486)","v":""},{"$f":"IF(Dados!D486=\"\",\"\",Dados!D486)","v":""},{"$f":"IF(Dados!E486=\"\",\"\",Dados!E486)","v":""},{"$f":"IF(Dados!F486=\"\",\"\",Dados!F486)","v":""},{"$f":"IF(Dados!G486=\"\",\"\",Dados!G486)","v":""},{"$error":"#VALUE!"},"",null,{"$error":"#VALUE!"},"",null,{"$error":"#VALUE!"},"",null,{"$error":"#VALUE!"},""]
[null,null,{"$f":"IF(Dados!C487=\"\",\"\",Dados!C487)","v":""},{"$f":"IF(Dados!D487=\"\",\"\",Dados!D487)","v":""},{"$f":"IF(Dados!E487=\"\",\"\",Dados!E487)","v":""},{"$f":"IF(Dados!F487=\"\",\"\",Dados!F487)","v":""},{"$f":"IF(Dados!G487=\"\",\"\",Dados!G487)","v":""},{"$error":"#VALUE!"},"",null,{"$error":"#VALUE!"},"",null,{"$error":"#VALUE!"},"",null,{"$error":"#VALUE!"},""]
[null,null,{"$f":"IF(Dados!C488=\"\",\"\",Dados!C488)","v":""},{"$f":"IF(Dados!D488=\"\",\"\",Dados!D488)","v":""},{"$f":"IF(Dados!E488=\"\",\"\",Dados!E488)","v":""},{"$f":"IF(Dados!F488=\"\",\"\",Dados!F488)","v":""},{"$f":"IF(Dados!G488=\"\",\"\",Dados!G488)","v":""},{"$error":"#VALUE!"},"",null,{"$error":"#VALUE!"},"",null,{"$error":"#VALUE!"},"",null,{"$error":"#VALUE!"},""]
[null,null,{"$f":"IF(Dados!C489=\"\",\"\",Dados!C489)","v":""},{"$f":"IF(Dados!D489=\"\",\"\",Dados!D489)","v":""},{"$f":"IF(Dados!E489=\"\",\"\",Dados!E489)","v":""},{"$f":"IF(Dados!F489=\"\",\"\",Dados!F489)","v":""},{"$f":"IF(Dados!G489=\"\",\"\",Dados!G489)","v":""},{"$error":"#VALUE!"},"",null,{"$error":"#VALUE!"},"",null,{"$error":"#VALUE!"},"",null,{"$error":"#VALUE!"},""]
[null,null,{"$f":"IF(Dados!C490=\"\",\"\",Dados!C490)","v":""},{"$f":"IF(Dados!D490=\"\",\"\",Dados!D490)","v":""},{"$f":"IF(Dados!E490=\"\",\"\",Dados!E490)","v":""},{"$f":"IF(Dados!F490=\"\",\"\",Dados!F490)","v":""},{"$f":"IF(Dados!G490=\"\",\"\",Dados!G490)","v":""},{"$error":"#VALUE!"},"",null,{"$error":"#VALUE!"},"",null,{"$error":"#VALUE!"},"",null,{"$error":"#VALUE!"},""]
[null,{"$f":"B481+1","v":49},{"$f":"IF(Dados!C491=\"\",\"\",Dados!C491)","v":""},{"$f":"IF(Dados!D491=\"\",\"\",Dados!D491)","v":""},{"$f":"IF(Dados!E491=\"\",\"\",Dados!E491)","v":""},{"$f":"IF(Dados!F491=\"\",\"\",Dados!F491)","v":""},{"$f":"IF(Dados!G491=\"\",\"\",Dados!G491)","v":""},{"$error":"#VALUE!"},"",{"$f":"SUM(I491:I500)","v":0},{"$error":"#VALUE!"},"",{"$f":"SUM(L491:L500)","v":0},{"$error":"#VALUE!"},"",{"$f":"SUM(O491:O500)","v":0},{"$error":"#VALUE!"},"",{"$f":"SUM(R491:R500)","v":0}]
[null,null,{"$f":"IF(Dados!C492=\"\",\"\",Dados!C492)","v":""},{"$f":"IF(Dados!D492=\"\",\"\",Dados!D492)","v":""},{"$f":"IF(Dados!E492=\"\",\"\",Dados!E492)","v":""},{"$f":"IF(Dados!F492=\"\",\"\",Dados!F492)","v":""},{"$f":"IF(Dados!G492=\"\",\"\",Dados!G492)","v":""},{"$error":"#VALUE!"},"",null,{"$error":"#VALUE!"},"",null,{"$error":"#VALUE!"},"",null,{"$error":"#VALUE!"},""]
[null,null,{"$f":"IF(Dados!C493=\"\",\"\",Dados!C493)","v":""},{"$f":"IF(Dados!D493=\"\",\"\",Dados!D493)","v":""},{"$f":"IF(Dados!E493=\"\",\"\",Dados!E493)","v":""},{"$f":"IF(Dados!F493=\"\",\"\",Dados!F493)","v":""},{"$f":"IF(Dados!G493=\"\",\"\",Dados!G493)","v":""},{"$error":"#VALUE!"},"",null,{"$error":"#VALUE!"},"",null,{"$error":"#VALUE!"},"",null,{"$error":"#VALUE!"},""]
[null,null,{"$f":"IF(Dados!C494=\"\",\"\",Dados!C494)","v":""},{"$f":"IF(Dados!D494=\"\",\"\",Dados!D494)","v":""},{"$f":"IF(Dados!E494=\"\",\"\",Dados!E494)","v":""},{"$f":"IF(Dados!F494=\"\",\"\",Dados!F494)","v":""},{"$f":"IF(Dados!G494=\"\",\"\",Dados!G494)","v":""},{"$error":"#VALUE!"},"",null,{"$error":"#VALUE!"},"",null,{"$error":"#VALUE!"},"",null,{"$error":"#VALUE!"},""]
[null,null,{"$f":"IF(Dados!C495=\"\",\"\",Dados!C495)","v":""},{"$f":"IF(Dados!D495=\"\",\"\",Dados!D495)","v":""},{"$f":"IF(Dados!E495=\"\",\"\",Dados!E495)","v":""},{"$f":"IF(Dados!F495=\"\",\"\",Dados!F495)","v":""},{"$f":"IF(Dados!G495=\"\",\"\",Dados!G495)","v":""},{"$error":"#VALUE!"},"",null,{"$error":"#VALUE!"},"",null,{"$error":"#VALUE!"},"",null,{"$error":"#VALUE!"},""]
[null,null,{"$f":"IF(Dados!C496=\"\",\"\",Dados!C496)","v":""},{"$f":"IF(Dados!D496=\"\",\"\",Dados!D496)","v":""},{"$f":"IF(Dados!E496=\"\",\"\",Dados!E496)","v":""},{"$f":"IF(Dados!F496=\"\",\"\",Dados!F496)","v":""},{"$f":"IF(Dados!G496=\"\",\"\",Dados!G496)","v":""},{"$error":"#VALUE!"},"",null,{"$error":"#VALUE!"},"",null,{"$error":"#VALUE!"},"",null,{"$error":"#VALUE!"},""]
[null,null,{"$f":"IF(Dados!C497=\"\",\"\",Dados!C497)","v":""},{"$f":"IF(Dados!D497=\"\",\"\",Dados!D497)","v":""},{"$f":"IF(Dados!E497=\"\",\"\",Dados!E497)","v":""},{"$f":"IF(Dados!F497=\"\",\"\",Dados!F497)","v":""},{"$f":"IF(Dados!G497=\"\",\"\",Dados!G497)","v":""},{"$error":"#VALUE!"},"",null,{"$error":"#VALUE!"},"",null,{"$error":"#VALUE!"},"",null,{"$error":"#VALUE!"},""]
[null,null,{"$f":"IF(Dados!C498=\"\",\"\",Dados!C498)","v":""},{"$f":"IF(Dados!D498=\"\",\"\",Dados!D498)","v":""},{"$f":"IF(Dados!E498=\"\",\"\",Dados!E498)","v":""},{"$f":"IF(Dados!F498=\"\",\"\",Dados!F498)","v":""},{"$f":"IF(Dados!G498=\"\",\"\",Dados!G498)","v":""},{"$error":"#VALUE!"},"",null,{"$error":"#VALUE!"},"",null,{"$error":"#VALUE!"},"",null,{"$error":"#VALUE!"},""]
[null,null,{"$f":"IF(Dados!C499=\"\",\"\",Dados!C499)","v":""},{"$f":"IF(Dados!D499=\"\",\"\",Dados!D499)","v":""},{"$f":"IF(Dados!E499=\"\",\"\",Dados!E499)","v":""},{"$f":"IF(Dados!F499=\"\",\"\",Dados!F499)","v":""},{"$f":"IF(Dados!G499=\"\",\"\",Dados!G499)","v":""},{"$error":"#VALUE!"},"",null,{"$error":"#VALUE!"},"",null,{"$error":"#VALUE!"},"",null,{"$error":"#VALUE!"},""]
[null,null,{"$f":"IF(Dados!C500=\"\",\"\",Dados!C500)","v":""},{"$f":"IF(Dados!D500=\"\",\"\",Dados!D500)","v":""},{"$f":"IF(Dados!E500=\"\",\"\",Dados!E500)","v":""},{"$f":"IF(Dados!F500=\"\",\"\",Dados!F500)","v":""},{"$f":"IF(Dados!G500=\"\",\"\",Dados!G500)","v":""},{"$error":"#VALUE!"},"",null,{"$error":"#VALUE!"},"",null,{"$error":"#VALUE!"},"",null,{"$error":"#VALUE!"},""]
[null,{"$f":"B491+1","v":50},{"$f":"IF(Dados!C501=\"\",\"\",Dados!C501)","v":""},{"$f":"IF(Dados!D501=\"\",\"\",Dados!D501)","v":""},{"$f":"IF(Dados!E501=\"\",\"\",Dados!E501)","v":""},{"$f":"IF(Dados!F501=\"\",\"\",Dados!F501)","v":""},{"$f":"IF(Dados!G501=\"\",\"\",Dados!G501)","v":""},{"$error":"#VALUE!"},"",{"$f":"SUM(I501:I510)","v":0},{"$error":"#VALUE!"},"",{"$f":"SUM(L501:L510)","v":0},{"$error":"#VALUE!"},"",{"$f":"SUM(O501:O510)","v":0},{"$error":"#VALUE!"},"",{"$f":"SUM(R501:R510)","v":0}]
[null,null,{"$f":"IF(Dados!C502=\"\",\"\",Dados!C502)","v":""},{"$f":"IF(Dados!D502=\"\",\"\",Dados!D502)","v":""},{"$f":"IF(Dados!E502=\"\",\"\",Dados!E502)","v":""},{"$f":"IF(Dados!F502=\"\",\"\",Dados!F502)","v":""},{"$f":"IF(Dados!G502=\"\",\"\",Dados!G502)","v":""},{"$error":"#VALUE!"},"",null,{"$error":"#VALUE!"},"",null,{"$error":"#VALUE!"},"",null,{"$error":"#VALUE!"},""]
[null,null,{"$f":"IF(Dados!C503=\"\",\"\",Dados!C503)","v":""},{"$f":"IF(Dados!D503=\"\",\"\",Dados!D503)","v":""},{"$f":"IF(Dados!E503=\"\",\"\",Dados!E503)","v":""},{"$f":"IF(Dados!F503=\"\",\"\",Dados!F503)","v":""},{"$f":"IF(Dados!G503=\"\",\"\",Dados!G503)","v":""},{"$error":"#VALUE!"},"",null,{"$error":"#VALUE!"},"",null,{"$error":"#VALUE!"},"",null,{"$error":"#VALUE!"},""]
[null,null,{"$f":"IF(Dados!C504=\"\",\"\",Dados!C504)","v":""},{"$f":"IF(Dados!D504=\"\",\"\",Dados!D504)","v":""},{"$f":"IF(Dados!E504=\"\",\"\",Dados!E504)","v":""},{"$f":"IF(Dados!F504=\"\",\"\",Dados!F504)","v":""},{"$f":"IF(Dados!G504=\"\",\"\",Dados!G504)","v":""},{"$error":"#VALUE!"},"",null,{"$error":"#VALUE!"},"",null,{"$error":"#VALUE!"},"",null,{"$error":"#VALUE!"},""]
[null,null,{"$f":"IF(Dados!C505=\"\",\"\",Dados!C505)","v":""},{"$f":"IF(Dados!D505=\"\",\"\",Dados!D505)","v":""},{"$f":"IF(Dados!E505=\"\",\"\",Dados!E505)","v":""},{"$f":"IF(Dados!F505=\"\",\"\",Dados!F505)","v":""},{"$f":"IF(Dados!G505=\"\",\"\",Dados!G505)","v":""},{"$error":"#VALUE!"},"",null,{"$error":"#VALUE!"},"",null,{"$error":"#VALUE!"},"",null,{"$error":"#VALUE!"},""]
[null,null,{"$f":"IF(Dados!C506=\"\",\"\",Dados!C506)","v":""},{"$f":"IF(Dados!D506=\"\",\"\",Dados!D506)","v":""},{"$f":"IF(Dados!E506=\"\",\"\",Dados!E506)","v":""},{"$f":"IF(Dados!F506=\"\",\"\",Dados!F506)","v":""},{"$f":"IF(Dados!G506=\"\",\"\",Dados!G506)","v":""},{"$error":"#VALUE!"},"",null,{"$error":"#VALUE!"},"",null,{"$error":"#VALUE!"},"",null,{"$error":"#VALUE!"},""]
[null,null,{"$f":"IF(Dados!C507=\"\",\"\",Dados!C507)","v":""},{"$f":"IF(Dados!D507=\"\",\"\",Dados!D507)","v":""},{"$f":"IF(Dados!E507=\"\",\"\",Dados!E507)","v":""},{"$f":"IF(Dados!F507=\"\",\"\",Dados!F507)","v":""},{"$f":"IF(Dados!G507=\"\",\"\",Dados!G507)","v":""},{"$error":"#VALUE!"},"",null,{"$error":"#VALUE!"},"",null,{"$error":"#VALUE!"},"",null,{"$error":"#VALUE!"},""]
[null,null,{"$f":"IF(Dados!C508=\"\",\"\",Dados!C508)","v":""},{"$f":"IF(Dados!D508=\"\",\"\",Dados!D508)","v":""},{"$f":"IF(Dados!E508=\"\",\"\",Dados!E508)","v":""},{"$f":"IF(Dados!F508=\"\",\"\",Dados!F508)","v":""},{"$f":"IF(Dados!G508=\"\",\"\",Dados!G508)","v":""},{"$error":"#VALUE!"},"",null,{"$error":"#VALUE!"},"",null,{"$error":"#VALUE!"},"",null,{"$error":"#VALUE!"},""]
[null,null,{"$f":"IF(Dados!C509=\"\",\"\",Dados!C509)","v":""},{"$f":"IF(Dados!D509=\"\",\"\",Dados!D509)","v":""},{"$f":"IF(Dados!E509=\"\",\"\",Dados!E509)","v":""},{"$f":"IF(Dados!F509=\"\",\"\",Dados!F509)","v":""},{"$f":"IF(Dados!G509=\"\",\"\",Dados!G509)","v":""},{"$error":"#VALUE!"},"",null,{"$error":"#VALUE!"},"",null,{"$error":"#VALUE!"},"",null,{"$error":"#VALUE!"},""]
[null,null,{"$f":"IF(Dados!C510=\"\",\"\",Dados!C510)","v":""},{"$f":"IF(Dados!D510=\"\",\"\",Dados!D510)","v":""},{"$f":"IF(Dados!E510=\"\",\"\",Dados!E510)","v":""},{"$f":"IF(Dados!F510=\"\",\"\",Dados!F510)","v":""},{"$f":"IF(Dados!G510=\"\",\"\",Dados!G510)","v":""},{"$error":"#VALUE!"},"",null,{"$error":"#VALUE!"},"",null,{"$error":"#VALUE!"},"",null,{"$error":"#VALUE!"},""]
[null,{"$f":"B501+1","v":51},{"$f":"IF(Dados!C511=\"\",\"\",Dados!C511)","v":""},{"$f":"IF(Dados!D511=\"\",\"\",Dados!D511)","v":""},{"$f":"IF(Dados!E511=\"\",\"\",Dados!E511)","v":""},{"$f":"IF(Dados!F511=\"\",\"\",Dados!F511)","v":""},{"$f":"IF(Dados!G511=\"\",\"\",Dados!G511)","v":""},{"$error":"#VALUE!"},"",{"$f":"SUM(I511:I520)","v":0},{"$error":"#VALUE!"},"",{"$f":"SUM(L511:L520)","v":0},{"$error":"#VALUE!"},"",{"$f":"SUM(O511:O520)","v":0},{"$error":"#VALUE!"},"",{"$f":"SUM(R511:R520)","v":0}]
[null,null,{"$f":"IF(Dados!C512=\"\",\"\",Dados!C512)","v":""},{"$f":"IF(Dados!D512=\"\",\"\",Dados!D512)","v":""},{"$f":"IF(Dados!E512=\"\",\"\",Dados!E512)","v":""},{"$f":"IF(Dados!F512=\"\",\"\",Dados!F512)","v":""},{"$f":"IF(Dados!G512=\"\",\"\",Dados!G512)","v":""},{"$error":"#VALUE!"},"",null,{"$error":"#VALUE!"},"",null,{"$error":"#VALUE!"},"",null,{"$error":"#VALUE!"},""]
[null,null,{"$f":"IF(Dados!C513=\"\",\"\",Dados!C513)","v":""},{"$f":"IF(Dados!D513=\"\",\"\",Dados!D513)","v":""},{"$f":"IF(Dados!E513=\"\",\"\",Dados!E513)","v":""},{"$f":"IF(Dados!F513=\"\",\"\",Dados!F513)","v":""},{"$f":"IF(Dados!G513=\"\",\"\",Dados!G513)","v":""},{"$error":"#VALUE!"},"",null,{"$error":"#VALUE!"},"",null,{"$error":"#VALUE!"},"",null,{"$error":"#VALUE!"},""]
[null,null,{"$f":"IF(Dados!C514=\"\",\"\",Dados!C514)","v":""},{"$f":"IF(Dados!D514=\"\",\"\",Dados!D514)","v":""},{"$f":"IF(Dados!E514=\"\",\"\",Dados!E514)","v":""},{"$f":"IF(Dados!F514=\"\",\"\",Dados!F514)","v":""},{"$f":"IF(Dados!G514=\"\",\"\",Dados!G514)","v":""},{"$error":"#VALUE!"},"",null,{"$error":"#VALUE!"},"",null,{"$error":"#VALUE!"},"",null,{"$error":"#VALUE!"},""]
[null,null,{"$f":"IF(Dados!C515=\"\",\"\",Dados!C515)","v":""},{"$f":"IF(Dados!D515=\"\",\"\",Dados!D515)","v":""},{"$f":"IF(Dados!E515=\"\",\"\",Dados!E515)","v":""},{"$f":"IF(Dados!F515=\"\",\"\",Dados!F515)","v":""},{"$f":"IF(Dados!G515=\"\",\"\",Dados!G515)","v":""},{"$error":"#VALUE!"},"",null,{"$error":"#VALUE!"},"",null,{"$error":"#VALUE!"},"",null,{"$error":"#VALUE!"},""]
[null,null,{"$f":"IF(Dados!C516=\"\",\"\",Dados!C516)","v":""},{"$f":"IF(Dados!D516=\"\",\"\",Dados!D516)","v":""},{"$f":"IF(Dados!E516=\"\",\"\",Dados!E516)","v":""},{"$f":"IF(Dados!F516=\"\",\"\",Dados!F516)","v":""},{"$f":"IF(Dados!G516=\"\",\"\",Dados!G516)","v":""},{"$error":"#VALUE!"},"",null,{"$error":"#VALUE!"},"",null,{"$error":"#VALUE!"},"",null,{"$error":"#VALUE!"},""]
[null,null,{"$f":"IF(Dados!C517=\"\",\"\",Dados!C517)","v":""},{"$f":"IF(Dados!D517=\"\",\"\",Dados!D517)","v":""},{"$f":"IF(Dados!E517=\"\",\"\",Dados!E517)","v":""},{"$f":"IF(Dados!F517=\"\",\"\",Dados!F517)","v":""},{"$f":"IF(Dados!G517=\"\",\"\",Dados!G517)","v":""},{"$error":"#VALUE!"},"",null,{"$error":"#VALUE!"},"",null,{"$error":"#VALUE!"},"",null,{"$error":"#VALUE!"},""]
[null,null,{"$f":"IF(Dados!C518=\"\",\"\",Dados!C518)","v":""},{"$f":"IF(Dados!D518=\"\",\"\",Dados!D518)","v":""},{"$f":"IF(Dados!E518=\"\",\"\",Dados!E518)","v":""},{"$f":"IF(Dados!F518=\"\",\"\",Dados!F518)","v":""},{"$f":"IF(Dados!G518=\"\",\"\",Dados!G518)","v":""},{"$error":"#VALUE!"},"",null,{"$error":"#VALUE!"},"",null,{"$error":"#VALUE!"},"",null,{"$error":"#VALUE!"},""]
[null,null,{"$f":"IF(Dados!C519=\"\",\"\",Dados!C519)","v":""},{"$f":"IF(Dados!D519=\"\",\"\",Dados!D519)","v":""},{"$f":"IF(Dados!E519=\"\",\"\",Dados!E519)","v":""},{"$f":"IF(Dados!F519=\"\",\"\",Dados!F519)","v":""},{"$f":"IF(Dados!G519=\"\",\"\",Dados!G519)","v":""},{"$error":"#VALUE!"},"",null,{"$error":"#VALUE!"},"",null,{"$error":"#VALUE!"},"",null,{"$error":"#VALUE!"},""]
[null,null,{"$f":"IF(Dados!C520=\"\",\"\",Dados!C520)","v":""},{"$f":"IF(Dados!D520=\"\",\"\",Dados!D520)","v":""},{"$f":"IF(Dados!E520=\"\",\"\",Dados!E520)","v":""},{"$f":"IF(Dados!F520=\"\",\"\",Dados!F520)","v":""},{"$f":"IF(Dados!G520=\"\",\"\",Dados!G520)","v":""},{"$error":"#VALUE!"},"",null,{"$error":"#VALUE!"},"",null,{"$error":"#VALUE!"},"",null,{"$error":"#VALUE!"},""]
[null,{"$f":"B511+1","v":52},{"$f":"IF(Dados!C521=\"\",\"\",Dados!C521)","v":""},{"$f":"IF(Dados!D521=\"\",\"\",Dados!D521)","v":""},{"$f":"IF(Dados!E521=\"\",\"\",Dados!E521)","v":""},{"$f":"IF(Dados!F521=\"\",\"\",Dados!F521)","v":""},{"$f":"IF(Dados!G521=\"\",\"\",Dados!G521)","v":""},{"$error":"#VALUE!"},"",{"$f":"SUM(I521:I530)","v":0},{"$error":"#VALUE!"},"",{"$f":"SUM(L521:L530)","v":0},{"$error":"#VALUE!"},"",{"$f":"SUM(O521:O530)","v":0},{"$error":"#VALUE!"},"",{"$f":"SUM(R521:R530)","v":0}]
[null,null,{"$f":"IF(Dados!C522=\"\",\"\",Dados!C522)","v":""},{"$f":"IF(Dados!D522=\"\",\"\",Dados!D522)","v":""},{"$f":"IF(Dados!E522=\"\",\"\",Dados!E522)","v":""},{"$f":"IF(Dados!F522=\"\",\"\",Dados!F522)","v":""},{"$f":"IF(Dados!G522=\"\",\"\",Dados!G522)","v":""},{"$error":"#VALUE!"},"",null,{"$error":"#VALUE!"},"",null,{"$error":"#VALUE!"},"",null,{"$error":"#VALUE!"},""]
[null,null,{"$f":"IF(Dados!C523=\"\",\"\",Dados!C523)","v":""},{"$f":"IF(Dados!D523=\"\",\"\",Dados!D523)","v":""},{"$f":"IF(Dados!E523=\"\",\"\",Dados!E523)","v":""},{"$f":"IF(Dados!F523=\"\",\"\",Dados!F523)","v":""},{"$f":"IF(Dados!G523=\"\",\"\",Dados!G523)","v":""},{"$f":"($G523*ChIR*ChEF*ChED)/(ChBW*ChATnc)","v":{"$error":"#VALUE!"}},{"$f":"IFERROR((H523)/(VLOOKUP($F523,intervaloHQ,2,0)),\"\")","v":""},null,{"$f":"($G523*AdIR*AdEF*AdED)/(AdBW*AdATnc)","v":{"$error":"#VALUE!"}},{"$f":"IFERROR((K523)/(VLOOKUP($F523,intervaloHQ,2,0)),\"\")","v":""},null,{"$f":"($G523*ChIR*ChEF*ChED)/(ChBW*ChATc)","v":{"$error":"#VALUE!"}},{"$f":"IFERROR((N523)*(VLOOKUP($F523,intervaloHQ,4,0)),\"\")","v":""},null,{"$f":"($G523*AdIR*AdEF*AdED)/(AdBW*AdATc)","v":{"$error":"#VALUE!"}},{"$f":"IFERROR((Q523)*(VLOOKUP($F523,intervaloHQ,4,0)),\"\")","v":""}]
[null,null,{"$f":"IF(Dados!C524=\"\",\"\",Dados!C524)","v":""},{"$f":"IF(Dados!D524=\"\",\"\",Dados!D524)","v":""},{"$f":"IF(Dados!E524=\"\",\"\",Dados!E524)","v":""},{"$f":"IF(Dados!F524=\"\",\"\",Dados!F524)","v":""},{"$f":"IF(Dados!G524=\"\",\"\",Dados!G524)","v":""},{"$error":"#VALUE!"},"",null,{"$error":"#VALUE!"},"",null,{"$error":"#VALUE!"},"",null,{"$error":"#VALUE!"},""]
[null,null,{"$f":"IF(Dados!C525=\"\",\"\",Dados!C525)","v":""},{"$f":"IF(Dados!D525=\"\",\"\",Dados!D525)","v":""},{"$f":"IF(Dados!E525=\"\",\"\",Dados!E525)","v":""},{"$f":"IF(Dados!F525=\"\",\"\",Dados!F525)","v":""},{"$f":"IF(Dados!G525=\"\",\"\",Dados!G525)","v":""},{"$error":"#VALUE!"},"",null,{"$error":"#VALUE!"},"",null,{"$error":"#VALUE!"},"",null,{"$error":"#VALUE!"},""]
[null,null,{"$f":"IF(Dados!C526=\"\",\"\",Dados!C526)","v":""},{"$f":"IF(Dados!D526=\"\",\"\",Dados!D526)","v":""},{"$f":"IF(Dados!E526=\"\",\"\",Dados!E526)","v":""},{"$f":"IF(Dados!F526=\"\",\"\",Dados!F526)","v":""},{"$f":"IF(Dados!G526=\"\",\"\",Dados!G526)","v":""},{"$error":"#VALUE!"},"",null,{"$error":"#VALUE!"},"",null,{"$error":"#VALUE!"},"",null,{"$error":"#VALUE!"},""]
[null,null,{"$f":"IF(Dados!C527=\"\",\"\",Dados!C527)","v":""},{"$f":"IF(Dados!D527=\"\",\"\",Dados!D527)","v":""},{"$f":"IF(Dados!E527=\"\",\"\",Dados!E527)","v":""},{"$f":"IF(Dados!F527=\"\",\"\",Dados!F527)","v":""},{"$f":"IF(Dados!G527=\"\",\"\",Dados!G527)","v":""},{"$error":"#VALUE!"},"",null,{"$error":"#VALUE!"},"",null,{"$error":"#VALUE!"},"",null,{"$error":"#VALUE!"},""]
[null,null,{"$f":"IF(Dados!C528=\"\",\"\",Dados!C528)","v":""},{"$f":"IF(Dados!D528=\"\",\"\",Dados!D528)","v":""},{"$f":"IF(Dados!E528=\"\",\"\",Dados!E528)","v":""},{"$f":"IF(Dados!F528=\"\",\"\",Dados!F528)","v":""},{"$f":"IF(Dados!G528=\"\",\"\",Dados!G528)","v":""},{"$error":"#VALUE!"},"",null,{"$error":"#VALUE!"},"",null,{"$error":"#VALUE!"},"",null,{"$error":"#VALUE!"},""]
[null,null,{"$f":"IF(Dados!C529=\"\",\"\",Dados!C529)","v":""},{"$f":"IF(Dados!D529=\"\",\"\",Dados!D529)","v":""},{"$f":"IF(Dados!E529=\"\",\"\",Dados!E529)","v":""},{"$f":"IF(Dados!F529=\"\",\"\",Dados!F529)","v":""},{"$f":"IF(Dados!G529=\"\",\"\",Dados!G529)","v":""},{"$error":"#VALUE!"},"",null,{"$error":"#VALUE!"},"",null,{"$error":"#VALUE!"},"",null,{"$error":"#VALUE!"},""]
[null,null,{"$f":"IF(Dados!C530=\"\",\"\",Dados!C530)","v":""},{"$f":"IF(Dados!D530=\"\",\"\",Dados!D530)","v":""},{"$f":"IF(Dados!E530=\"\",\"\",Dados!E530)","v":""},{"$f":"IF(Dados!F530=\"\",\"\",Dados!F530)","v":""},{"$f":"IF(Dados!G530=\"\",\"\",Dados!G530)","v":""},{"$error":"#VALUE!"},"",null,{"$error":"#VALUE!"},"",null,{"$error":"#VALUE!"},"",null,{"$error":"#VALUE!"},""]
[null,{"$f":"B521+1","v":53},{"$f":"IF(Dados!C531=\"\",\"\",Dados!C531)","v":""},{"$f":"IF(Dados!D531=\"\",\"\",Dados!D531)","v":""},{"$f":"IF(Dados!E531=\"\",\"\",Dados!E531)","v":""},{"$f":"IF(Dados!F531=\"\",\"\",Dados!F531)","v":""},{"$f":"IF(Dados!G531=\"\",\"\",Dados!G531)","v":""},{"$error":"#VALUE!"},"",{"$f":"SUM(I531:I540)","v":0},{"$error":"#VALUE!"},"",{"$f":"SUM(L531:L540)","v":0},{"$error":"#VALUE!"},"",{"$f":"SUM(O531:O540)","v":0},{"$error":"#VALUE!"},"",{"$f":"SUM(R531:R540)","v":0}]
[null,null,{"$f":"IF(Dados!C532=\"\",\"\",Dados!C532)","v":""},{"$f":"IF(Dados!D532=\"\",\"\",Dados!D532)","v":""},{"$f":"IF(Dados!E532=\"\",\"\",Dados!E532)","v":""},{"$f":"IF(Dados!F532=\"\",\"\",Dados!F532)","v":""},{"$f":"IF(Dados!G532=\"\",\"\",Dados!G532)","v":""},{"$error":"#VALUE!"},"",null,{"$error":"#VALUE!"},"",null,{"$error":"#VALUE!"},"",null,{"$error":"#VALUE!"},""]
[null,null,{"$f":"IF(Dados!C533=\"\",\"\",Dados!C533)","v":""},{"$f":"IF(Dados!D533=\"\",\"\",Dados!D533)","v":""},{"$f":"IF(Dados!E533=\"\",\"\",Dados!E533)","v":""},{"$f":"IF(Dados!F533=\"\",\"\",Dados!F533)","v":""},{"$f":"IF(Dados!G533=\"\",\"\",Dados!G533)","v":""},{"$error":"#VALUE!"},"",null,{"$error":"#VALUE!"},"",null,{"$error":"#VALUE!"},"",null,{"$error":"#VALUE!"},""]
[null,null,{"$f":"IF(Dados!C534=\"\",\"\",Dados!C534)","v":""},{"$f":"IF(Dados!D534=\"\",\"\",Dados!D534)","v":""},{"$f":"IF(Dados!E534=\"\",\"\",Dados!E534)","v":""},{"$f":"IF(Dados!F534=\"\",\"\",Dados!F534)","v":""},{"$f":"IF(Dados!G534=\"\",\"\",Dados!G534)","v":""},{"$error":"#VALUE!"},"",null,{"$error":"#VALUE!"},"",null,{"$error":"#VALUE!"},"",null,{"$error":"#VALUE!"},""]
[null,null,{"$f":"IF(Dados!C535=\"\",\"\",Dados!C535)","v":""},{"$f":"IF(Dados!D535=\"\",\"\",Dados!D535)","v":""},{"$f":"IF(Dados!E535=\"\",\"\",Dados!E535)","v":""},{"$f":"IF(Dados!F535=\"\",\"\",Dados!F535)","v":""},{"$f":"IF(Dados!G535=\"\",\"\",Dados!G535)","v":""},{"$error":"#VALUE!"},"",null,{"$error":"#VALUE!"},"",null,{"$error":"#VALUE!"},"",null,{"$error":"#VALUE!"},""]
[null,null,{"$f":"IF(Dados!C536=\"\",\"\",Dados!C536)","v":""},{"$f":"IF(Dados!D536=\"\",\"\",Dados!D536)","v":""},{"$f":"IF(Dados!E536=\"\",\"\",Dados!E536)","v":""},{"$f":"IF(Dados!F536=\"\",\"\",Dados!F536)","v":""},{"$f":"IF(Dados!G536=\"\",\"\",Dados!G536)","v":""},{"$error":"#VALUE!"},"",null,{"$error":"#VALUE!"},"",null,{"$error":"#VALUE!"},"",null,{"$error":"#VALUE!"},""]
[null,null,{"$f":"IF(Dados!C537=\"\",\"\",Dados!C537)","v":""},{"$f":"IF(Dados!D537=\"\",\"\",Dados!D537)","v":""},{"$f":"IF(Dados!E537=\"\",\"\",Dados!E537)","v":""},{"$f":"IF(Dados!F537=\"\",\"\",Dados!F537)","v":""},{"$f":"IF(Dados!G537=\"\",\"\",Dados!G537)","v":""},{"$error":"#VALUE!"},"",null,{"$error":"#VALUE!"},"",null,{"$error":"#VALUE!"},"",null,{"$error":"#VALUE!"},""]
[null,null,{"$f":"IF(Dados!C538=\"\",\"\",Dados!C538)","v":""},{"$f":"IF(Dados!D538=\"\",\"\",Dados!D538)","v":""},{"$f":"IF(Dados!E538=\"\",\"\",Dados!E538)","v":""},{"$f":"IF(Dados!F538=\"\",\"\",Dados!F538)","v":""},{"$f":"IF(Dados!G538=\"\",\"\",Dados!G538)","v":""},{"$error":"#VALUE!"},"",null,{"$error":"#VALUE!"},"",null,{"$error":"#VALUE!"},"",null,{"$error":"#VALUE!"},""]
[null,null,{"$f":"IF(Dados!C539=\"\",\"\",Dados!C539)","v":""},{"$f":"IF(Dados!D539=\"\",\"\",Dados!D539)","v":""},{"$f":"IF(Dados!E539=\"\",\"\",Dados!E539)","v":""},{"$f":"IF(Dados!F539=\"\",\"\",Dados!F539)","v":""},{"$f":"IF(Dados!G539=\"\",\"\",Dados!G539)","v":""},{"$error":"#VALUE!"},"",null,{"$error":"#VALUE!"},"",null,{"$error":"#VALUE!"},"",null,{"$error":"#VALUE!"},""]
[null,null,{"$f":"IF(Dados!C540=\"\",\"\",Dados!C540)","v":""},{"$f":"IF(Dados!D540=\"\",\"\",Dados!D540)","v":""},{"$f":"IF(Dados!E540=\"\",\"\",Dados!E540)","v":""},{"$f":"IF(Dados!F540=\"\",\"\",Dados!F540)","v":""},{"$f":"IF(Dados!G540=\"\",\"\",Dados!G540)","v":""},{"$error":"#VALUE!"},"",null,{"$error":"#VALUE!"},"",null,{"$error":"#VALUE!"},"",null,{"$error":"#VALUE!"},""]
[null,{"$f":"B531+1","v":54},{"$f":"IF(Dados!C541=\"\",\"\",Dados!C541)","v":""},{"$f":"IF(Dados!D541=\"\",\"\",Dados!D541)","v":""},{"$f":"IF(Dados!E541=\"\",\"\",Dados!E541)","v":""},{"$f":"IF(Dados!F541=\"\",\"\",Dados!F541)","v":""},{"$f":"IF(Dados!G541=\"\",\"\",Dados!G541)","v":""},{"$error":"#VALUE!"},"",{"$f":"SUM(I541:I550)","v":0},{"$error":"#VALUE!"},"",{"$f":"SUM(L541:L550)","v":0},{"$error":"#VALUE!"},"",{"$f":"SUM(O541:O550)","v":0},{"$error":"#VALUE!"},"",{"$f":"SUM(R541:R550)","v":0}]
[null,null,{"$f":"IF(Dados!C542=\"\",\"\",Dados!C542)","v":""},{"$f":"IF(Dados!D542=\"\",\"\",Dados!D542)","v":""},{"$f":"IF(Dados!E542=\"\",\"\",Dados!E542)","v":""},{"$f":"IF(Dados!F542=\"\",\"\",Dados!F542)","v":""},{"$f":"IF(Dados!G542=\"\",\"\",Dados!G542)","v":""},{"$error":"#VALUE!"},"",null,{"$error":"#VALUE!"},"",null,{"$error":"#VALUE!"},"",null,{"$error":"#VALUE!"},""]
[null,null,{"$f":"IF(Dados!C543=\"\",\"\",Dados!C543)","v":""},{"$f":"IF(Dados!D543=\"\",\"\",Dados!D543)","v":""},{"$f":"IF(Dados!E543=\"\",\"\",Dados!E543)","v":""},{"$f":"IF(Dados!F543=\"\",\"\",Dados!F543)","v":""},{"$f":"IF(Dados!G543=\"\",\"\",Dados!G543)","v":""},{"$error":"#VALUE!"},"",null,{"$error":"#VALUE!"},"",null,{"$error":"#VALUE!"},"",null,{"$error":"#VALUE!"},""]
[null,null,{"$f":"IF(Dados!C544=\"\",\"\",Dados!C544)","v":""},{"$f":"IF(Dados!D544=\"\",\"\",Dados!D544)","v":""},{"$f":"IF(Dados!E544=\"\",\"\",Dados!E544)","v":""},{"$f":"IF(Dados!F544=\"\",\"\",Dados!F544)","v":""},{"$f":"IF(Dados!G544=\"\",\"\",Dados!G544)","v":""},{"$error":"#VALUE!"},"",null,{"$error":"#VALUE!"},"",null,{"$error":"#VALUE!"},"",null,{"$error":"#VALUE!"},""]
[null,null,{"$f":"IF(Dados!C545=\"\",\"\",Dados!C545)","v":""},{"$f":"IF(Dados!D545=\"\",\"\",Dados!D545)","v":""},{"$f":"IF(Dados!E545=\"\",\"\",Dados!E545)","v":""},{"$f":"IF(Dados!F545=\"\",\"\",Dados!F545)","v":""},{"$f":"IF(Dados!G545=\"\",\"\",Dados!G545)","v":""},{"$error":"#VALUE!"},"",null,{"$error":"#VALUE!"},"",null,{"$error":"#VALUE!"},"",null,{"$error":"#VALUE!"},""]
[null,null,{"$f":"IF(Dados!C546=\"\",\"\",Dados!C546)","v":""},{"$f":"IF(Dados!D546=\"\",\"\",Dados!D546)","v":""},{"$f":"IF(Dados!E546=\"\",\"\",Dados!E546)","v":""},{"$f":"IF(Dados!F546=\"\",\"\",Dados!F546)","v":""},{"$f":"IF(Dados!G546=\"\",\"\",Dados!G546)","v":""},{"$error":"#VALUE!"},"",null,{"$error":"#VALUE!"},"",null,{"$error":"#VALUE!"},"",null,{"$error":"#VALUE!"},""]
[null,null,{"$f":"IF(Dados!C547=\"\",\"\",Dados!C547)","v":""},{"$f":"IF(Dados!D547=\"\",\"\",Dados!D547)","v":""},{"$f":"IF(Dados!E547=\"\",\"\",Dados!E547)","v":""},{"$f":"IF(Dados!F547=\"\",\"\",Dados!F547)","v":""},{"$f":"IF(Dados!G547=\"\",\"\",Dados!G547)","v":""},{"$error":"#VALUE!"},"",null,{"$error":"#VALUE!"},"",null,{"$error":"#VALUE!"},"",null,{"$error":"#VALUE!"},""]
[null,null,{"$f":"IF(Dados!C548=\"\",\"\",Dados!C548)","v":""},{"$f":"IF(Dados!D548=\"\",\"\",Dados!D548)","v":""},{"$f":"IF(Dados!E548=\"\",\"\",Dados!E548)","v":""},{"$f":"IF(Dados!F548=\"\",\"\",Dados!F548)","v":""},{"$f":"IF(Dados!G548=\"\",\"\",Dados!G548)","v":""},{"$error":"#VALUE!"},"",null,{"$error":"#VALUE!"},"",null,{"$error":"#VALUE!"},"",null,{"$error":"#VALUE!"},""]
[null,null,{"$f":"IF(Dados!C549=\"\",\"\",Dados!C549)","v":""},{"$f":"IF(Dados!D549=\"\",\"\",Dados!D549)","v":""},{"$f":"IF(Dados!E549=\"\",\"\",Dados!E549)","v":""},{"$f":"IF(Dados!F549=\"\",\"\",Dados!F549)","v":""},{"$f":"IF(Dados!G549=\"\",\"\",Dados!G549)","v":""},{"$error":"#VALUE!"},"",null,{"$error":"#VALUE!"},"",null,{"$error":"#VALUE!"},"",null,{"$error":"#VALUE!"},""]
[null,null,{"$f":"IF(Dados!C550=\"\",\"\",Dados!C550)","v":""},{"$f":"IF(Dados!D550=\"\",\"\",Dados!D550)","v":""},{"$f":"IF(Dados!E550=\"\",\"\",Dados!E550)","v":""},{"$f":"IF(Dados!F550=\"\",\"\",Dados!F550)","v":""},{"$f":"IF(Dados!G550=\"\",\"\",Dados!G550)","v":""},{"$error":"#VALUE!"},"",null,{"$error":"#VALUE!"},"",null,{"$error":"#VALUE!"},"",null,{"$error":"#VALUE!"},""]
[null,{"$f":"B541+1","v":55},{"$f":"IF(Dados!C551=\"\",\"\",Dados!C551)","v":""},{"$f":"IF(Dados!D551=\"\",\"\",Dados!D551)","v":""},{"$f":"IF(Dados!E551=\"\",\"\",Dados!E551)","v":""},{"$f":"IF(Dados!F551=\"\",\"\",Dados!F551)","v":""},{"$f":"IF(Dados!G551=\"\",\"\",Dados!G551)","v":""},{"$error":"#VALUE!"},"",{"$f":"SUM(I551:I560)","v":0},{"$error":"#VALUE!"},"",{"$f":"SUM(L551:L560)","v":0},{"$error":"#VALUE!"},"",{"$f":"SUM(O551:O560)","v":0},{"$error":"#VALUE!"},"",{"$f":"SUM(R551:R560)","v":0}]
[null,null,{"$f":"IF(Dados!C552=\"\",\"\",Dados!C552)","v":""},{"$f":"IF(Dados!D552=\"\",\"\",Dados!D552)","v":""},{"$f":"IF(Dados!E552=\"\",\"\",Dados!E552)","v":""},{"$f":"IF(Dados!F552=\"\",\"\",Dados!F552)","v":""},{"$f":"IF(Dados!G552=\"\",\"\",Dados!G552)","v":""},{"$error":"#VALUE!"},"",null,{"$error":"#VALUE!"},"",null,{"$error":"#VALUE!"},"",null,{"$error":"#VALUE!"},""]
[null,null,{"$f":"IF(Dados!C553=\"\",\"\",Dados!C553)","v":""},{"$f":"IF(Dados!D553=\"\",\"\",Dados!D553)","v":""},{"$f":"IF(Dados!E553=\"\",\"\",Dados!E553)","v":""},{"$f":"IF(Dados!F553=\"\",\"\",Dados!F553)","v":""},{"$f":"IF(Dados!G553=\"\",\"\",Dados!G553)","v":""},{"$error":"#VALUE!"},"",null,{"$error":"#VALUE!"},"",null,{"$error":"#VALUE!"},"",null,{"$error":"#VALUE!"},""]
[null,null,{"$f":"IF(Dados!C554=\"\",\"\",Dados!C554)","v":""},{"$f":"IF(Dados!D554=\"\",\"\",Dados!D554)","v":""},{"$f":"IF(Dados!E554=\"\",\"\",Dados!E554)","v":""},{"$f":"IF(Dados!F554=\"\",\"\",Dados!F554)","v":""},{"$f":"IF(Dados!G554=\"\",\"\",Dados!G554)","v":""},{"$error":"#VALUE!"},"",null,{"$error":"#VALUE!"},"",null,{"$error":"#VALUE!"},"",null,{"$error":"#VALUE!"},""]
[null,null,{"$f":"IF(Dados!C555=\"\",\"\",Dados!C555)","v":""},{"$f":"IF(Dados!D555=\"\",\"\",Dados!D555)","v":""},{"$f":"IF(Dados!E555=\"\",\"\",Dados!E555)","v":""},{"$f":"IF(Dados!F555=\"\",\"\",Dados!F555)","v":""},{"$f":"IF(Dados!G555=\"\",\"\",Dados!G555)","v":""},{"$error":"#VALUE!"},"",null,{"$error":"#VALUE!"},"",null,{"$error":"#VALUE!"},"",null,{"$error":"#VALUE!"},""]
[null,null,{"$f":"IF(Dados!C556=\"\",\"\",Dados!C556)","v":""},{"$f":"IF(Dados!D556=\"\",\"\",Dados!D556)","v":""},{"$f":"IF(Dados!E556=\"\",\"\",Dados!E556)","v":""},{"$f":"IF(Dados!F556=\"\",\"\",Dados!F556)","v":""},{"$f":"IF(Dados!G556=\"\",\"\",Dados!G556)","v":""},{"$error":"#VALUE!"},"",null,{"$error":"#VALUE!"},"",null,{"$error":"#VALUE!"},"",null,{"$error":"#VALUE!"},""]
[null,null,{"$f":"IF(Dados!C557=\"\",\"\",Dados!C557)","v":""},{"$f":"IF(Dados!D557=\"\",\"\",Dados!D557)","v":""},{"$f":"IF(Dados!E557=\"\",\"\",Dados!E557)","v":""},{"$f":"IF(Dados!F557=\"\",\"\",Dados!F557)","v":""},{"$f":"IF(Dados!G557=\"\",\"\",Dados!G557)","v":""},{"$error":"#VALUE!"},"",null,{"$error":"#VALUE!"},"",null,{"$error":"#VALUE!"},"",null,{"$error":"#VALUE!"},""]
[null,null,{"$f":"IF(Dados!C558=\"\",\"\",Dados!C558)","v":""},{"$f":"IF(Dados!D558=\"\",\"\",Dados!D558)","v":""},{"$f":"IF(Dados!E558=\"\",\"\",Dados!E558)","v":""},{"$f":"IF(Dados!F558=\"\",\"\",Dados!F558)","v":""},{"$f":"IF(Dados!G558=\"\",\"\",Dados!G558)","v":""},{"$error":"#VALUE!"},"",null,{"$error":"#VALUE!"},"",null,{"$error":"#VALUE!"},"",null,{"$error":"#VALUE!"},""]
[null,null,{"$f":"IF(Dados!C559=\"\",\"\",Dados!C559)","v":""},{"$f":"IF(Dados!D559=\"\",\"\",Dados!D559)","v":""},{"$f":"IF(Dados!E559=\"\",\"\",Dados!E559)","v":""},{"$f":"IF(Dados!F559=\"\",\"\",Dados!F559)","v":""},{"$f":"IF(Dados!G559=\"\",\"\",Dados!G559)","v":""},{"$error":"#VALUE!"},"",null,{"$error":"#VALUE!"},"",null,{"$error":"#VALUE!"},"",null,{"$error":"#VALUE!"},""]
[null,null,{"$f":"IF(Dados!C560=\"\",\"\",Dados!C560)","v":""},{"$f":"IF(Dados!D560=\"\",\"\",Dados!D560)","v":""},{"$f":"IF(Dados!E560=\"\",\"\",Dados!E560)","v":""},{"$f":"IF(Dados!F560=\"\",\"\",Dados!F560)","v":""},{"$f":"IF(Dados!G560=\"\",\"\",Dados!G560)","v":""},{"$error":"#VALUE!"},"",null,{"$error":"#VALUE!"},"",null,{"$error":"#VALUE!"},"",null,{"$error":"#VALUE!"},""]
[null,{"$f":"B551+1","v":56},{"$f":"IF(Dados!C561=\"\",\"\",Dados!C561)","v":""},{"$f":"IF(Dados!D561=\"\",\"\",Dados!D561)","v":""},{"$f":"IF(Dados!E561=\"\",\"\",Dados!E561)","v":""},{"$f":"IF(Dados!F561=\"\",\"\",Dados!F561)","v":""},{"$f":"IF(Dados!G561=\"\",\"\",Dados!G561)","v":""},{"$error":"#VALUE!"},"",{"$f":"SUM(I561:I570)","v":0},{"$error":"#VALUE!"},"",{"$f":"SUM(L561:L570)","v":0},{"$error":"#VALUE!"},"",{"$f":"SUM(O561:O570)","v":0},{"$error":"#VALUE!"},"",{"$f":"SUM(R561:R570)","v":0}]
[null,null,{"$f":"IF(Dados!C562=\"\",\"\",Dados!C562)","v":""},{"$f":"IF(Dados!D562=\"\",\"\",Dados!D562)","v":""},{"$f":"IF(Dados!E562=\"\",\"\",Dados!E562)","v":""},{"$f":"IF(Dados!F562=\"\",\"\",Dados!F562)","v":""},{"$f":"IF(Dados!G562=\"\",\"\",Dados!G562)","v":""},{"$error":"#VALUE!"},"",null,{"$error":"#VALUE!"},"",null,{"$error":"#VALUE!"},"",null,{"$error":"#VALUE!"},""]
[null,null,{"$f":"IF(Dados!C563=\"\",\"\",Dados!C563)","v":""},{"$f":"IF(Dados!D563=\"\",\"\",Dados!D563)","v":""},{"$f":"IF(Dados!E563=\"\",\"\",Dados!E563)","v":""},{"$f":"IF(Dados!F563=\"\",\"\",Dados!F563)","v":""},{"$f":"IF(Dados!G563=\"\",\"\",Dados!G563)","v":""},{"$error":"#VALUE!"},"",null,{"$error":"#VALUE!"},"",null,{"$error":"#VALUE!"},"",null,{"$error":"#VALUE!"},""]
[null,null,{"$f":"IF(Dados!C564=\"\",\"\",Dados!C564)","v":""},{"$f":"IF(Dados!D564=\"\",\"\",Dados!D564)","v":""},{"$f":"IF(Dados!E564=\"\",\"\",Dados!E564)","v":""},{"$f":"IF(Dados!F564=\"\",\"\",Dados!F564)","v":""},{"$f":"IF(Dados!G564=\"\",\"\",Dados!G564)","v":""},{"$error":"#VALUE!"},"",null,{"$error":"#VALUE!"},"",null,{"$error":"#VALUE!"},"",null,{"$error":"#VALUE!"},""]
[null,null,{"$f":"IF(Dados!C565=\"\",\"\",Dados!C565)","v":""},{"$f":"IF(Dados!D565=\"\",\"\",Dados!D565)","v":""},{"$f":"IF(Dados!E565=\"\",\"\",Dados!E565)","v":""},{"$f":"IF(Dados!F565=\"\",\"\",Dados!F565)","v":""},{"$f":"IF(Dados!G565=\"\",\"\",Dados!G565)","v":""},{"$error":"#VALUE!"},"",null,{"$error":"#VALUE!"},"",null,{"$error":"#VALUE!"},"",null,{"$error":"#VALUE!"},""]
[null,null,{"$f":"IF(Dados!C566=\"\",\"\",Dados!C566)","v":""},{"$f":"IF(Dados!D566=\"\",\"\",Dados!D566)","v":""},{"$f":"IF(Dados!E566=\"\",\"\",Dados!E566)","v":""},{"$f":"IF(Dados!F566=\"\",\"\",Dados!F566)","v":""},{"$f":"IF(Dados!G566=\"\",\"\",Dados!G566)","v":""},{"$error":"#VALUE!"},"",null,{"$error":"#VALUE!"},"",null,{"$error":"#VALUE!"},"",null,{"$error":"#VALUE!"},""]
[null,null,{"$f":"IF(Dados!C567=\"\",\"\",Dados!C567)","v":""},{"$f":"IF(Dados!D567=\"\",\"\",Dados!D567)","v":""},{"$f":"IF(Dados!E567=\"\",\"\",Dados!E567)","v":""},{"$f":"IF(Dados!F567=\"\",\"\",Dados!F567)","v":""},{"$f":"IF(Dados!G567=\"\",\"\",Dados!G567)","v":""},{"$error":"#VALUE!"},"",null,{"$error":"#VALUE!"},"",null,{"$error":"#VALUE!"},"",null,{"$error":"#VALUE!"},""]
[null,null,{"$f":"IF(Dados!C568=\"\",\"\",Dados!C568)","v":""},{"$f":"IF(Dados!D568=\"\",\"\",Dados!D568)","v":""},{"$f":"IF(Dados!E568=\"\",\"\",Dados!E568)","v":""},{"$f":"IF(Dados!F568=\"\",\"\",Dados!F568)","v":""},{"$f":"IF(Dados!G568=\"\",\"\",Dados!G568)","v":""},{"$error":"#VALUE!"},"",null,{"$error":"#VALUE!"},"",null,{"$error":"#VALUE!"},"",null,{"$error":"#VALUE!"},""]
[null,null,{"$f":"IF(Dados!C569=\"\",\"\",Dados!C569)","v":""},{"$f":"IF(Dados!D569=\"\",\"\",Dados!D569)","v":""},{"$f":"IF(Dados!E569=\"\",\"\",Dados!E569)","v":""},{"$f":"IF(Dados!F569=\"\",\"\",Dados!F569)","v":""},{"$f":"IF(Dados!G569=\"\",\"\",Dados!G569)","v":""},{"$error":"#VALUE!"},"",null,{"$error":"#VALUE!"},"",null,{"$error":"#VALUE!"},"",null,{"$error":"#VALUE!"},""]
[null,null,{"$f":"IF(Dados!C570=\"\",\"\",Dados!C570)","v":""},{"$f":"IF(Dados!D570=\"\",\"\",Dados!D570)","v":""},{"$f":"IF(Dados!E570=\"\",\"\",Dados!E570)","v":""},{"$f":"IF(Dados!F570=\"\",\"\",Dados!F570)","v":""},{"$f":"IF(Dados!G570=\"\",\"\",Dados!G570)","v":""},{"$error":"#VALUE!"},"",null,{"$error":"#VALUE!"},"",null,{"$error":"#VALUE!"},"",null,{"$error":"#VALUE!"},""]
[null,{"$f":"B561+1","v":57},{"$f":"IF(Dados!C571=\"\",\"\",Dados!C571)","v":""},{"$f":"IF(Dados!D571=\"\",\"\",Dados!D571)","v":""},{"$f":"IF(Dados!E571=\"\",\"\",Dados!E571)","v":""},{"$f":"IF(Dados!F571=\"\",\"\",Dados!F571)","v":""},{"$f":"IF(Dados!G571=\"\",\"\",Dados!G571)","v":""},{"$error":"#VALUE!"},"",{"$f":"SUM(I571:I580)","v":0},{"$error":"#VALUE!"},"",{"$f":"SUM(L571:L580)","v":0},{"$error":"#VALUE!"},"",{"$f":"SUM(O571:O580)","v":0},{"$error":"#VALUE!"},"",{"$f":"SUM(R571:R580)","v":0}]
[null,null,{"$f":"IF(Dados!C572=\"\",\"\",Dados!C572)","v":""},{"$f":"IF(Dados!D572=\"\",\"\",Dados!D572)","v":""},{"$f":"IF(Dados!E572=\"\",\"\",Dados!E572)","v":""},{"$f":"IF(Dados!F572=\"\",\"\",Dados!F572)","v":""},{"$f":"IF(Dados!G572=\"\",\"\",Dados!G572)","v":""},{"$error":"#VALUE!"},"",null,{"$error":"#VALUE!"},"",null,{"$error":"#VALUE!"},"",null,{"$error":"#VALUE!"},""]
[null,null,{"$f":"IF(Dados!C573=\"\",\"\",Dados!C573)","v":""},{"$f":"IF(Dados!D573=\"\",\"\",Dados!D573)","v":""},{"$f":"IF(Dados!E573=\"\",\"\",Dados!E573)","v":""},{"$f":"IF(Dados!F573=\"\",\"\",Dados!F573)","v":""},{"$f":"IF(Dados!G573=\"\",\"\",Dados!G573)","v":""},{"$error":"#VALUE!"},"",null,{"$error":"#VALUE!"},"",null,{"$error":"#VALUE!"},"",null,{"$error":"#VALUE!"},""]
[null,null,{"$f":"IF(Dados!C574=\"\",\"\",Dados!C574)","v":""},{"$f":"IF(Dados!D574=\"\",\"\",Dados!D574)","v":""},{"$f":"IF(Dados!E574=\"\",\"\",Dados!E574)","v":""},{"$f":"IF(Dados!F574=\"\",\"\",Dados!F574)","v":""},{"$f":"IF(Dados!G574=\"\",\"\",Dados!G574)","v":""},{"$error":"#VALUE!"},"",null,{"$error":"#VALUE!"},"",null,{"$error":"#VALUE!"},"",null,{"$error":"#VALUE!"},""]
[null,null,{"$f":"IF(Dados!C575=\"\",\"\",Dados!C575)","v":""},{"$f":"IF(Dados!D575=\"\",\"\",Dados!D575)","v":""},{"$f":"IF(Dados!E575=\"\",\"\",Dados!E575)","v":""},{"$f":"IF(Dados!F575=\"\",\"\",Dados!F575)","v":""},{"$f":"IF(Dados!G575=\"\",\"\",Dados!G575)","v":""},{"$error":"#VALUE!"},"",null,{"$error":"#VALUE!"},"",null,{"$error":"#VALUE!"},"",null,{"$error":"#VALUE!"},""]
[null,null,{"$f":"IF(Dados!C576=\"\",\"\",Dados!C576)","v":""},{"$f":"IF(Dados!D576=\"\",\"\",Dados!D576)","v":""},{"$f":"IF(Dados!E576=\"\",\"\",Dados!E576)","v":""},{"$f":"IF(Dados!F576=\"\",\"\",Dados!F576)","v":""},{"$f":"IF(Dados!G576=\"\",\"\",Dados!G576)","v":""},{"$error":"#VALUE!"},"",null,{"$error":"#VALUE!"},"",null,{"$error":"#VALUE!"},"",null,{"$error":"#VALUE!"},""]
[null,null,{"$f":"IF(Dados!C577=\"\",\"\",Dados!C577)","v":""},{"$f":"IF(Dados!D577=\"\",\"\",Dados!D577)","v":""},{"$f":"IF(Dados!E577=\"\",\"\",Dados!E577)","v":""},{"$f":"IF(Dados!F577=\"\",\"\",Dados!F577)","v":""},{"$f":"IF(Dados!G577=\"\",\"\",Dados!G577)","v":""},{"$error":"#VALUE!"},"",null,{"$error":"#VALUE!"},"",null,{"$error":"#VALUE!"},"",null,{"$error":"#VALUE!"},""]
[null,null,{"$f":"IF(Dados!C578=\"\",\"\",Dados!C578)","v":""},{"$f":"IF(Dados!D578=\"\",\"\",Dados!D578)","v":""},{"$f":"IF(Dados!E578=\"\",\"\",Dados!E578)","v":""},{"$f":"IF(Dados!F578=\"\",\"\",Dados!F578)","v":""},{"$f":"IF(Dados!G578=\"\",\"\",Dados!G578)","v":""},{"$error":"#VALUE!"},"",null,{"$error":"#VALUE!"},"",null,{"$error":"#VALUE!"},"",null,{"$error":"#VALUE!"},""]
[null,null,{"$f":"IF(Dados!C579=\"\",\"\",Dados!C579)","v":""},{"$f":"IF(Dados!D579=\"\",\"\",Dados!D579)","v":""},{"$f":"IF(Dados!E579=\"\",\"\",Dados!E579)","v":""},{"$f":"IF(Dados!F579=\"\",\"\",Dados!F579)","v":""},{"$f":"IF(Dados!G579=\"\",\"\",Dados!G579)","v":""},{"$error":"#VALUE!"},"",null,{"$error":"#VALUE!"},"",null,{"$error":"#VALUE!"},"",null,{"$error":"#VALUE!"},""]
[null,null,{"$f":"IF(Dados!C580=\"\",\"\",Dados!C580)","v":""},{"$f":"IF(Dados!D580=\"\",\"\",Dados!D580)","v":""},{"$f":"IF(Dados!E580=\"\",\"\",Dados!E580)","v":""},{"$f":"IF(Dados!F580=\"\",\"\",Dados!F580)","v":""},{"$f":"IF(Dados!G580=\"\",\"\",Dados!G580)","v":""},{"$error":"#VALUE!"},"",null,{"$error":"#VALUE!"},"",null,{"$error":"#VALUE!"},"",null,{"$error":"#VALUE!"},""]
[null,{"$f":"B571+1","v":58},{"$f":"IF(Dados!C581=\"\",\"\",Dados!C581)","v":""},{"$f":"IF(Dados!D581=\"\",\"\",Dados!D581)","v":""},{"$f":"IF(Dados!E581=\"\",\"\",Dados!E581)","v":""},{"$f":"IF(Dados!F581=\"\",\"\",Dados!F581)","v":""},{"$f":"IF(Dados!G581=\"\",\"\",Dados!G581)","v":""},{"$error":"#VALUE!"},"",{"$f":"SUM(I581:I590)","v":0},{"$error":"#VALUE!"},"",{"$f":"SUM(L581:L590)","v":0},{"$error":"#VALUE!"},"",{"$f":"SUM(O581:O590)","v":0},{"$error":"#VALUE!"},"",{"$f":"SUM(R581:R590)","v":0}]
[null,null,{"$f":"IF(Dados!C582=\"\",\"\",Dados!C582)","v":""},{"$f":"IF(Dados!D582=\"\",\"\",Dados!D582)","v":""},{"$f":"IF(Dados!E582=\"\",\"\",Dados!E582)","v":""},{"$f":"IF(Dados!F582=\"\",\"\",Dados!F582)","v":""},{"$f":"IF(Dados!G582=\"\",\"\",Dados!G582)","v":""},{"$error":"#VALUE!"},"",null,{"$error":"#VALUE!"},"",null,{"$error":"#VALUE!"},"",null,{"$error":"#VALUE!"},""]
[null,null,{"$f":"IF(Dados!C583=\"\",\"\",Dados!C583)","v":""},{"$f":"IF(Dados!D583=\"\",\"\",Dados!D583)","v":""},{"$f":"IF(Dados!E583=\"\",\"\",Dados!E583)","v":""},{"$f":"IF(Dados!F583=\"\",\"\",Dados!F583)","v":""},{"$f":"IF(Dados!G583=\"\",\"\",Dados!G583)","v":""},{"$error":"#VALUE!"},"",null,{"$error":"#VALUE!"},"",null,{"$error":"#VALUE!"},"",null,{"$error":"#VALUE!"},""]
[null,null,{"$f":"IF(Dados!C584=\"\",\"\",Dados!C584)","v":""},{"$f":"IF(Dados!D584=\"\",\"\",Dados!D584)","v":""},{"$f":"IF(Dados!E584=\"\",\"\",Dados!E584)","v":""},{"$f":"IF(Dados!F584=\"\",\"\",Dados!F584)","v":""},{"$f":"IF(Dados!G584=\"\",\"\",Dados!G584)","v":""},{"$error":"#VALUE!"},"",null,{"$error":"#VALUE!"},"",null,{"$error":"#VALUE!"},"",null,{"$error":"#VALUE!"},""]
[null,null,{"$f":"IF(Dados!C585=\"\",\"\",Dados!C585)","v":""},{"$f":"IF(Dados!D585=\"\",\"\",Dados!D585)","v":""},{"$f":"IF(Dados!E585=\"\",\"\",Dados!E585)","v":""},{"$f":"IF(Dados!F585=\"\",\"\",Dados!F585)","v":""},{"$f":"IF(Dados!G585=\"\",\"\",Dados!G585)","v":""},{"$error":"#VALUE!"},"",null,{"$error":"#VALUE!"},"",null,{"$error":"#VALUE!"},"",null,{"$error":"#VALUE!"},""]
[null,null,{"$f":"IF(Dados!C586=\"\",\"\",Dados!C586)","v":""},{"$f":"IF(Dados!D586=\"\",\"\",Dados!D586)","v":""},{"$f":"IF(Dados!E586=\"\",\"\",Dados!E586)","v":""},{"$f":"IF(Dados!F586=\"\",\"\",Dados!F586)","v":""},{"$f":"IF(Dados!G586=\"\",\"\",Dados!G586)","v":""},{"$error":"#VALUE!"},"",null,{"$error":"#VALUE!"},"",null,{"$error":"#VALUE!"},"",null,{"$error":"#VALUE!"},""]
[null,null,{"$f":"IF(Dados!C587=\"\",\"\",Dados!C587)","v":""},{"$f":"IF(Dados!D587=\"\",\"\",Dados!D587)","v":""},{"$f":"IF(Dados!E587=\"\",\"\",Dados!E587)","v":""},{"$f":"IF(Dados!F587=\"\",\"\",Dados!F587)","v":""},{"$f":"IF(Dados!G587=\"\",\"\",Dados!G587)","v":""},{"$f":"($G587*ChIR*ChEF*ChED)/(ChBW*ChATnc)","v":{"$error":"#VALUE!"}},{"$f":"IFERROR((H587)/(VLOOKUP($F587,intervaloHQ,2,0)),\"\")","v":""},null,{"$f":"($G587*AdIR*AdEF*AdED)/(AdBW*AdATnc)","v":{"$error":"#VALUE!"}},{"$f":"IFERROR((K587)/(VLOOKUP($F587,intervaloHQ,2,0)),\"\")","v":""},null,{"$f":"($G587*ChIR*ChEF*ChED)/(ChBW*ChATc)","v":{"$error":"#VALUE!"}},{"$f":"IFERROR((N587)*(VLOOKUP($F587,intervaloHQ,4,0)),\"\")","v":""},null,{"$f":"($G587*AdIR*AdEF*AdED)/(AdBW*AdATc)","v":{"$error":"#VALUE!"}},{"$f":"IFERROR((Q587)*(VLOOKUP($F587,intervaloHQ,4,0)),\"\")","v":""}]
[null,null,{"$f":"IF(Dados!C588=\"\",\"\",Dados!C588)","v":""},{"$f":"IF(Dados!D588=\"\",\"\",Dados!D588)","v":""},{"$f":"IF(Dados!E588=\"\",\"\",Dados!E588)","v":""},{"$f":"IF(Dados!F588=\"\",\"\",Dados!F588)","v":""},{"$f":"IF(Dados!G588=\"\",\"\",Dados!G588)","v":""},{"$error":"#VALUE!"},"",null,{"$error":"#VALUE!"},"",null,{"$error":"#VALUE!"},"",null,{"$error":"#VALUE!"},""]
[null,null,{"$f":"IF(Dados!C589=\"\",\"\",Dados!C589)","v":""},{"$f":"IF(Dados!D589=\"\",\"\",Dados!D589)","v":""},{"$f":"IF(Dados!E589=\"\",\"\",Dados!E589)","v":""},{"$f":"IF(Dados!F589=\"\",\"\",Dados!F589)","v":""},{"$f":"IF(Dados!G589=\"\",\"\",Dados!G589)","v":""},{"$error":"#VALUE!"},"",null,{"$error":"#VALUE!"},"",null,{"$error":"#VALUE!"},"",null,{"$error":"#VALUE!"},""]
[null,null,{"$f":"IF(Dados!C590=\"\",\"\",Dados!C590)","v":""},{"$f":"IF(Dados!D590=\"\",\"\",Dados!D590)","v":""},{"$f":"IF(Dados!E590=\"\",\"\",Dados!E590)","v":""},{"$f":"IF(Dados!F590=\"\",\"\",Dados!F590)","v":""},{"$f":"IF(Dados!G590=\"\",\"\",Dados!G590)","v":""},{"$error":"#VALUE!"},"",null,{"$error":"#VALUE!"},"",null,{"$error":"#VALUE!"},"",null,{"$error":"#VALUE!"},""]
[null,{"$f":"B581+1","v":59},{"$f":"IF(Dados!C591=\"\",\"\",Dados!C591)","v":""},{"$f":"IF(Dados!D591=\"\",\"\",Dados!D591)","v":""},{"$f":"IF(Dados!E591=\"\",\"\",Dados!E591)","v":""},{"$f":"IF(Dados!F591=\"\",\"\",Dados!F591)","v":""},{"$f":"IF(Dados!G591=\"\",\"\",Dados!G591)","v":""},{"$error":"#VALUE!"},"",{"$f":"SUM(I591:I600)","v":0},{"$error":"#VALUE!"},"",{"$f":"SUM(L591:L600)","v":0},{"$error":"#VALUE!"},"",{"$f":"SUM(O591:O600)","v":0},{"$error":"#VALUE!"},"",{"$f":"SUM(R591:R600)","v":0}]
[null,null,{"$f":"IF(Dados!C592=\"\",\"\",Dados!C592)","v":""},{"$f":"IF(Dados!D592=\"\",\"\",Dados!D592)","v":""},{"$f":"IF(Dados!E592=\"\",\"\",Dados!E592)","v":""},{"$f":"IF(Dados!F592=\"\",\"\",Dados!F592)","v":""},{"$f":"IF(Dados!G592=\"\",\"\",Dados!G592)","v":""},{"$error":"#VALUE!"},"",null,{"$error":"#VALUE!"},"",null,{"$error":"#VALUE!"},"",null,{"$error":"#VALUE!"},""]
[null,null,{"$f":"IF(Dados!C593=\"\",\"\",Dados!C593)","v":""},{"$f":"IF(Dados!D593=\"\",\"\",Dados!D593)","v":""},{"$f":"IF(Dados!E593=\"\",\"\",Dados!E593)","v":""},{"$f":"IF(Dados!F593=\"\",\"\",Dados!F593)","v":""},{"$f":"IF(Dados!G593=\"\",\"\",Dados!G593)","v":""},{"$error":"#VALUE!"},"",null,{"$error":"#VALUE!"},"",null,{"$error":"#VALUE!"},"",null,{"$error":"#VALUE!"},""]
[null,null,{"$f":"IF(Dados!C594=\"\",\"\",Dados!C594)","v":""},{"$f":"IF(Dados!D594=\"\",\"\",Dados!D594)","v":""},{"$f":"IF(Dados!E594=\"\",\"\",Dados!E594)","v":""},{"$f":"IF(Dados!F594=\"\",\"\",Dados!F594)","v":""},{"$f":"IF(Dados!G594=\"\",\"\",Dados!G594)","v":""},{"$error":"#VALUE!"},"",null,{"$error":"#VALUE!"},"",null,{"$error":"#VALUE!"},"",null,{"$error":"#VALUE!"},""]
[null,null,{"$f":"IF(Dados!C595=\"\",\"\",Dados!C595)","v":""},{"$f":"IF(Dados!D595=\"\",\"\",Dados!D595)","v":""},{"$f":"IF(Dados!E595=\"\",\"\",Dados!E595)","v":""},{"$f":"IF(Dados!F595=\"\",\"\",Dados!F595)","v":""},{"$f":"IF(Dados!G595=\"\",\"\",Dados!G595)","v":""},{"$error":"#VALUE!"},"",null,{"$error":"#VALUE!"},"",null,{"$error":"#VALUE!"},"",null,{"$error":"#VALUE!"},""]
[null,null,{"$f":"IF(Dados!C596=\"\",\"\",Dados!C596)","v":""},{"$f":"IF(Dados!D596=\"\",\"\",Dados!D596)","v":""},{"$f":"IF(Dados!E596=\"\",\"\",Dados!E596)","v":""},{"$f":"IF(Dados!F596=\"\",\"\",Dados!F596)","v":""},{"$f":"IF(Dados!G596=\"\",\"\",Dados!G596)","v":""},{"$error":"#VALUE!"},"",null,{"$error":"#VALUE!"},"",null,{"$error":"#VALUE!"},"",null,{"$error":"#VALUE!"},""]
[null,null,{"$f":"IF(Dados!C597=\"\",\"\",Dados!C597)","v":""},{"$f":"IF(Dados!D597=\"\",\"\",Dados!D597)","v":""},{"$f":"IF(Dados!E597=\"\",\"\",Dados!E597)","v":""},{"$f":"IF(Dados!F597=\"\",\"\",Dados!F597)","v":""},{"$f":"IF(Dados!G597=\"\",\"\",Dados!G597)","v":""},{"$error":"#VALUE!"},"",null,{"$error":"#VALUE!"},"",null,{"$error":"#VALUE!"},"",null,{"$error":"#VALUE!"},""]
[null,null,{"$f":"IF(Dados!C598=\"\",\"\",Dados!C598)","v":""},{"$f":"IF(Dados!D598=\"\",\"\",Dados!D598)","v":""},{"$f":"IF(Dados!E598=\"\",\"\",Dados!E598)","v":""},{"$f":"IF(Dados!F598=\"\",\"\",Dados!F598)","v":""},{"$f":"IF(Dados!G598=\"\",\"\",Dados!G598)","v":""},{"$error":"#VALUE!"},"",null,{"$error":"#VALUE!"},"",null,{"$error":"#VALUE!"},"",null,{"$error":"#VALUE!"},""]
[null,null,{"$f":"IF(Dados!C599=\"\",\"\",Dados!C599)","v":""},{"$f":"IF(Dados!D599=\"\",\"\",Dados!D599)","v":""},{"$f":"IF(Dados!E599=\"\",\"\",Dados!E599)","v":""},{"$f":"IF(Dados!F599=\"\",\"\",Dados!F599)","v":""},{"$f":"IF(Dados!G599=\"\",\"\",Dados!G599)","v":""},{"$error":"#VALUE!"},"",null,{"$error":"#VALUE!"},"",null,{"$error":"#VALUE!"},"",null,{"$error":"#VALUE!"},""]
[null,null,{"$f":"IF(Dados!C600=\"\",\"\",Dados!C600)","v":""},{"$f":"IF(Dados!D600=\"\",\"\",Dados!D600)","v":""},{"$f":"IF(Dados!E600=\"\",\"\",Dados!E600)","v":""},{"$f":"IF(Dados!F600=\"\",\"\",Dados!F600)","v":""},{"$f":"IF(Dados!G600=\"\",\"\",Dados!G600)","v":""},{"$error":"#VALUE!"},"",null,{"$error":"#VALUE!"},"",null,{"$error":"#VALUE!"},"",null,{"$error":"#VALUE!"},""]
[null,{"$f":"B591+1","v":60},{"$f":"IF(Dados!C601=\"\",\"\",Dados!C601)","v":""},{"$f":"IF(Dados!D601=\"\",\"\",Dados!D601)","v":""},{"$f":"IF(Dados!E601=\"\",\"\",Dados!E601)","v":""},{"$f":"IF(Dados!F601=\"\",\"\",Dados!F601)","v":""},{"$f":"IF(Dados!G601=\"\",\"\",Dados!G601)","v":""},{"$error":"#VALUE!"},"",{"$f":"SUM(I601:I610)","v":0},{"$error":"#VALUE!"},"",{"$f":"SUM(L601:L610)","v":0},{"$error":"#VALUE!"},"",{"$f":"SUM(O601:O610)","v":0},{"$error":"#VALUE!"},"",{"$f":"SUM(R601:R610)","v":0}]
[null,null,{"$f":"IF(Dados!C602=\"\",\"\",Dados!C602)","v":""},{"$f":"IF(Dados!D602=\"\",\"\",Dados!D602)","v":""},{"$f":"IF(Dados!E602=\"\",\"\",Dados!E602)","v":""},{"$f":"IF(Dados!F602=\"\",\"\",Dados!F602)","v":""},{"$f":"IF(Dados!G602=\"\",\"\",Dados!G602)","v":""},{"$error":"#VALUE!"},"",null,{"$error":"#VALUE!"},"",null,{"$error":"#VALUE!"},"",null,{"$error":"#VALUE!"},""]
[null,null,{"$f":"IF(Dados!C603=\"\",\"\",Dados!C603)","v":""},{"$f":"IF(Dados!D603=\"\",\"\",Dados!D603)","v":""},{"$f":"IF(Dados!E603=\"\",\"\",Dados!E603)","v":""},{"$f":"IF(Dados!F603=\"\",\"\",Dados!F603)","v":""},{"$f":"IF(Dados!G603=\"\",\"\",Dados!G603)","v":""},{"$error":"#VALUE!"},"",null,{"$error":"#VALUE!"},"",null,{"$error":"#VALUE!"},"",null,{"$error":"#VALUE!"},""]
[null,null,{"$f":"IF(Dados!C604=\"\",\"\",Dados!C604)","v":""},{"$f":"IF(Dados!D604=\"\",\"\",Dados!D604)","v":""},{"$f":"IF(Dados!E604=\"\",\"\",Dados!E604)","v":""},{"$f":"IF(Dados!F604=\"\",\"\",Dados!F604)","v":""},{"$f":"IF(Dados!G604=\"\",\"\",Dados!G604)","v":""},{"$error":"#VALUE!"},"",null,{"$error":"#VALUE!"},"",null,{"$error":"#VALUE!"},"",null,{"$error":"#VALUE!"},""]
[null,null,{"$f":"IF(Dados!C605=\"\",\"\",Dados!C605)","v":""},{"$f":"IF(Dados!D605=\"\",\"\",Dados!D605)","v":""},{"$f":"IF(Dados!E605=\"\",\"\",Dados!E605)","v":""},{"$f":"IF(Dados!F605=\"\",\"\",Dados!F605)","v":""},{"$f":"IF(Dados!G605=\"\",\"\",Dados!G605)","v":""},{"$error":"#VALUE!"},"",null,{"$error":"#VALUE!"},"",null,{"$error":"#VALUE!"},"",null,{"$error":"#VALUE!"},""]
[null,null,{"$f":"IF(Dados!C606=\"\",\"\",Dados!C606)","v":""},{"$f":"IF(Dados!D606=\"\",\"\",Dados!D606)","v":""},{"$f":"IF(Dados!E606=\"\",\"\",Dados!E606)","v":""},{"$f":"IF(Dados!F606=\"\",\"\",Dados!F606)","v":""},{"$f":"IF(Dados!G606=\"\",\"\",Dados!G606)","v":""},{"$error":"#VALUE!"},"",null,{"$error":"#VALUE!"},"",null,{"$error":"#VALUE!"},"",null,{"$error":"#VALUE!"},""]
[null,null,{"$f":"IF(Dados!C607=\"\",\"\",Dados!C607)","v":""},{"$f":"IF(Dados!D607=\"\",\"\",Dados!D607)","v":""},{"$f":"IF(Dados!E607=\"\",\"\",Dados!E607)","v":""},{"$f":"IF(Dados!F607=\"\",\"\",Dados!F607)","v":""},{"$f":"IF(Dados!G607=\"\",\"\",Dados!G607)","v":""},{"$error":"#VALUE!"},"",null,{"$error":"#VALUE!"},"",null,{"$error":"#VALUE!"},"",null,{"$error":"#VALUE!"},""]
[null,null,{"$f":"IF(Dados!C608=\"\",\"\",Dados!C608)","v":""},{"$f":"IF(Dados!D608=\"\",\"\",Dados!D608)","v":""},{"$f":"IF(Dados!E608=\"\",\"\",Dados!E608)","v":""},{"$f":"IF(Dados!F608=\"\",\"\",Dados!F608)","v":""},{"$f":"IF(Dados!G608=\"\",\"\",Dados!G608)","v":""},{"$error":"#VALUE!"},"",null,{"$error":"#VALUE!"},"",null,{"$error":"#VALUE!"},"",null,{"$error":"#VALUE!"},""]
[null,null,{"$f":"IF(Dados!C609=\"\",\"\",Dados!C609)","v":""},{"$f":"IF(Dados!D609=\"\",\"\",Dados!D609)","v":""},{"$f":"IF(Dados!E609=\"\",\"\",Dados!E609)","v":""},{"$f":"IF(Dados!F609=\"\",\"\",Dados!F609)","v":""},{"$f":"IF(Dados!G609=\"\",\"\",Dados!G609)","v":""},{"$error":"#VALUE!"},"",null,{"$error":"#VALUE!"},"",null,{"$error":"#VALUE!"},"",null,{"$error":"#VALUE!"},""]
[null,null,{"$f":"IF(Dados!C610=\"\",\"\",Dados!C610)","v":""},{"$f":"IF(Dados!D610=\"\",\"\",Dados!D610)","v":""},{"$f":"IF(Dados!E610=\"\",\"\",Dados!E610)","v":""},{"$f":"IF(Dados!F610=\"\",\"\",Dados!F610)","v":""},{"$f":"IF(Dados!G610=\"\",\"\",Dados!G610)","v":""},{"$error":"#VALUE!"},"",null,{"$error":"#VALUE!"},"",null,{"$error":"#VALUE!"},"",null,{"$error":"#VALUE!"},""]
[null,{"$f":"B601+1","v":61},{"$f":"IF(Dados!C611=\"\",\"\",Dados!C611)","v":""},{"$f":"IF(Dados!D611=\"\",\"\",Dados!D611)","v":""},{"$f":"IF(Dados!E611=\"\",\"\",Dados!E611)","v":""},{"$f":"IF(Dados!F611=\"\",\"\",Dados!F611)","v":""},{"$f":"IF(Dados!G611=\"\",\"\",Dados!G611)","v":""},{"$error":"#VALUE!"},"",{"$f":"SUM(I611:I620)","v":0},{"$error":"#VALUE!"},"",{"$f":"SUM(L611:L620)","v":0},{"$error":"#VALUE!"},"",{"$f":"SUM(O611:O620)","v":0},{"$error":"#VALUE!"},"",{"$f":"SUM(R611:R620)","v":0}]
[null,null,{"$f":"IF(Dados!C612=\"\",\"\",Dados!C612)","v":""},{"$f":"IF(Dados!D612=\"\",\"\",Dados!D612)","v":""},{"$f":"IF(Dados!E612=\"\",\"\",Dados!E612)","v":""},{"$f":"IF(Dados!F612=\"\",\"\",Dados!F612)","v":""},{"$f":"IF(Dados!G612=\"\",\"\",Dados!G612)","v":""},{"$error":"#VALUE!"},"",null,{"$error":"#VALUE!"},"",null,{"$error":"#VALUE!"},"",null,{"$error":"#VALUE!"},""]
[null,null,{"$f":"IF(Dados!C613=\"\",\"\",Dados!C613)","v":""},{"$f":"IF(Dados!D613=\"\",\"\",Dados!D613)","v":""},{"$f":"IF(Dados!E613=\"\",\"\",Dados!E613)","v":""},{"$f":"IF(Dados!F613=\"\",\"\",Dados!F613)","v":""},{"$f":"IF(Dados!G613=\"\",\"\",Dados!G613)","v":""},{"$error":"#VALUE!"},"",null,{"$error":"#VALUE!"},"",null,{"$error":"#VALUE!"},"",null,{"$error":"#VALUE!"},""]
[null,null,{"$f":"IF(Dados!C614=\"\",\"\",Dados!C614)","v":""},{"$f":"IF(Dados!D614=\"\",\"\",Dados!D614)","v":""},{"$f":"IF(Dados!E614=\"\",\"\",Dados!E614)","v":""},{"$f":"IF(Dados!F614=\"\",\"\",Dados!F614)","v":""},{"$f":"IF(Dados!G614=\"\",\"\",Dados!G614)","v":""},{"$error":"#VALUE!"},"",null,{"$error":"#VALUE!"},"",null,{"$error":"#VALUE!"},"",null,{"$error":"#VALUE!"},""]
[null,null,{"$f":"IF(Dados!C615=\"\",\"\",Dados!C615)","v":""},{"$f":"IF(Dados!D615=\"\",\"\",Dados!D615)","v":""},{"$f":"IF(Dados!E615=\"\",\"\",Dados!E615)","v":""},{"$f":"IF(Dados!F615=\"\",\"\",Dados!F615)","v":""},{"$f":"IF(Dados!G615=\"\",\"\",Dados!G615)","v":""},{"$error":"#VALUE!"},"",null,{"$error":"#VALUE!"},"",null,{"$error":"#VALUE!"},"",null,{"$error":"#VALUE!"},""]
[null,null,{"$f":"IF(Dados!C616=\"\",\"\",Dados!C616)","v":""},{"$f":"IF(Dados!D616=\"\",\"\",Dados!D616)","v":""},{"$f":"IF(Dados!E616=\"\",\"\",Dados!E616)","v":""},{"$f":"IF(Dados!F616=\"\",\"\",Dados!F616)","v":""},{"$f":"IF(Dados!G616=\"\",\"\",Dados!G616)","v":""},{"$error":"#VALUE!"},"",null,{"$error":"#VALUE!"},"",null,{"$error":"#VALUE!"},"",null,{"$error":"#VALUE!"},""]
[null,null,{"$f":"IF(Dados!C617=\"\",\"\",Dados!C617)","v":""},{"$f":"IF(Dados!D617=\"\",\"\",Dados!D617)","v":""},{"$f":"IF(Dados!E617=\"\",\"\",Dados!E617)","v":""},{"$f":"IF(Dados!F617=\"\",\"\",Dados!F617)","v":""},{"$f":"IF(Dados!G617=\"\",\"\",Dados!G617)","v":""},{"$error":"#VALUE!"},"",null,{"$error":"#VALUE!"},"",null,{"$error":"#VALUE!"},"",null,{"$error":"#VALUE!"},""]
[null,null,{"$f":"IF(Dados!C618=\"\",\"\",Dados!C618)","v":""},{"$f":"IF(Dados!D618=\"\",\"\",Dados!D618)","v":""},{"$f":"IF(Dados!E618=\"\",\"\",Dados!E618)","v":""},{"$f":"IF(Dados!F618=\"\",\"\",Dados!F618)","v":""},{"$f":"IF(Dados!G618=\"\",\"\",Dados!G618)","v":""},{"$error":"#VALUE!"},"",null,{"$error":"#VALUE!"},"",null,{"$error":"#VALUE!"},"",null,{"$error":"#VALUE!"},""]
[null,null,{"$f":"IF(Dados!C619=\"\",\"\",Dados!C619)","v":""},{"$f":"IF(Dados!D619=\"\",\"\",Dados!D619)","v":""},{"$f":"IF(Dados!E619=\"\",\"\",Dados!E619)","v":""},{"$f":"IF(Dados!F619=\"\",\"\",Dados!F619)","v":""},{"$f":"IF(Dados!G619=\"\",\"\",Dados!G619)","v":""},{"$error":"#VALUE!"},"",null,{"$error":"#VALUE!"},"",null,{"$error":"#VALUE!"},"",null,{"$error":"#VALUE!"},""]
[null,null,{"$f":"IF(Dados!C620=\"\",\"\",Dados!C620)","v":""},{"$f":"IF(Dados!D620=\"\",\"\",Dados!D620)","v":""},{"$f":"IF(Dados!E620=\"\",\"\",Dados!E620)","v":""},{"$f":"IF(Dados!F620=\"\",\"\",Dados!F620)","v":""},{"$f":"IF(Dados!G620=\"\",\"\",Dados!G620)","v":""},{"$error":"#VALUE!"},"",null,{"$error":"#VALUE!"},"",null,{"$error":"#VALUE!"},"",null,{"$error":"#VALUE!"},""]
[null,{"$f":"B611+1","v":62},{"$f":"IF(Dados!C621=\"\",\"\",Dados!C621)","v":""},{"$f":"IF(Dados!D621=\"\",\"\",Dados!D621)","v":""},{"$f":"IF(Dados!E621=\"\",\"\",Dados!E621)","v":""},{"$f":"IF(Dados!F621=\"\",\"\",Dados!F621)","v":""},{"$f":"IF(Dados!G621=\"\",\"\",Dados!G621)","v":""},{"$error":"#VALUE!"},"",{"$f":"SUM(I621:I630)","v":0},{"$error":"#VALUE!"},"",{"$f":"SUM(L621:L630)","v":0},{"$error":"#VALUE!"},"",{"$f":"SUM(O621:O630)","v":0},{"$error":"#VALUE!"},"",{"$f":"SUM(R621:R630)","v":0}]
[null,null,{"$f":"IF(Dados!C622=\"\",\"\",Dados!C622)","v":""},{"$f":"IF(Dados!D622=\"\",\"\",Dados!D622)","v":""},{"$f":"IF(Dados!E622=\"\",\"\",Dados!E622)","v":""},{"$f":"IF(Dados!F622=\"\",\"\",Dados!F622)","v":""},{"$f":"IF(Dados!G622=\"\",\"\",Dados!G622)","v":""},{"$error":"#VALUE!"},"",null,{"$error":"#VALUE!"},"",null,{"$error":"#VALUE!"},"",null,{"$error":"#VALUE!"},""]
[null,null,{"$f":"IF(Dados!C623=\"\",\"\",Dados!C623)","v":""},{"$f":"IF(Dados!D623=\"\",\"\",Dados!D623)","v":""},{"$f":"IF(Dados!E623=\"\",\"\",Dados!E623)","v":""},{"$f":"IF(Dados!F623=\"\",\"\",Dados!F623)","v":""},{"$f":"IF(Dados!G623=\"\",\"\",Dados!G623)","v":""},{"$error":"#VALUE!"},"",null,{"$error":"#VALUE!"},"",null,{"$error":"#VALUE!"},"",null,{"$error":"#VALUE!"},""]
[null,null,{"$f":"IF(Dados!C624=\"\",\"\",Dados!C624)","v":""},{"$f":"IF(Dados!D624=\"\",\"\",Dados!D624)","v":""},{"$f":"IF(Dados!E624=\"\",\"\",Dados!E624)","v":""},{"$f":"IF(Dados!F624=\"\",\"\",Dados!F624)","v":""},{"$f":"IF(Dados!G624=\"\",\"\",Dados!G624)","v":""},{"$error":"#VALUE!"},"",null,{"$error":"#VALUE!"},"",null,{"$error":"#VALUE!"},"",null,{"$error":"#VALUE!"},""]
[null,null,{"$f":"IF(Dados!C625=\"\",\"\",Dados!C625)","v":""},{"$f":"IF(Dados!D625=\"\",\"\",Dados!D625)","v":""},{"$f":"IF(Dados!E625=\"\",\"\",Dados!E625)","v":""},{"$f":"IF(Dados!F625=\"\",\"\",Dados!F625)","v":""},{"$f":"IF(Dados!G625=\"\",\"\",Dados!G625)","v":""},{"$error":"#VALUE!"},"",null,{"$error":"#VALUE!"},"",null,{"$error":"#VALUE!"},"",null,{"$error":"#VALUE!"},""]
[null,null,{"$f":"IF(Dados!C626=\"\",\"\",Dados!C626)","v":""},{"$f":"IF(Dados!D626=\"\",\"\",Dados!D626)","v":""},{"$f":"IF(Dados!E626=\"\",\"\",Dados!E626)","v":""},{"$f":"IF(Dados!F626=\"\",\"\",Dados!F626)","v":""},{"$f":"IF(Dados!G626=\"\",\"\",Dados!G626)","v":""},{"$error":"#VALUE!"},"",null,{"$error":"#VALUE!"},"",null,{"$error":"#VALUE!"},"",null,{"$error":"#VALUE!"},""]
[null,null,{"$f":"IF(Dados!C627=\"\",\"\",Dados!C627)","v":""},{"$f":"IF(Dados!D627=\"\",\"\",Dados!D627)","v":""},{"$f":"IF(Dados!E627=\"\",\"\",Dados!E627)","v":""},{"$f":"IF(Dados!F627=\"\",\"\",Dados!F627)","v":""},{"$f":"IF(Dados!G627=\"\",\"\",Dados!G627)","v":""},{"$error":"#VALUE!"},"",null,{"$error":"#VALUE!"},"",null,{"$error":"#VALUE!"},"",null,{"$error":"#VALUE!"},""]
[null,null,{"$f":"IF(Dados!C628=\"\",\"\",Dados!C628)","v":""},{"$f":"IF(Dados!D628=\"\",\"\",Dados!D628)","v":""},{"$f":"IF(Dados!E628=\"\",\"\",Dados!E628)","v":""},{"$f":"IF(Dados!F628=\"\",\"\",Dados!F628)","v":""},{"$f":"IF(Dados!G628=\"\",\"\",Dados!G628)","v":""},{"$error":"#VALUE!"},"",null,{"$error":"#VALUE!"},"",null,{"$error":"#VALUE!"},"",null,{"$error":"#VALUE!"},""]
[null,null,{"$f":"IF(Dados!C629=\"\",\"\",Dados!C629)","v":""},{"$f":"IF(Dados!D629=\"\",\"\",Dados!D629)","v":""},{"$f":"IF(Dados!E629=\"\",\"\",Dados!E629)","v":""},{"$f":"IF(Dados!F629=\"\",\"\",Dados!F629)","v":""},{"$f":"IF(Dados!G629=\"\",\"\",Dados!G629)","v":""},{"$error":"#VALUE!"},"",null,{"$error":"#VALUE!"},"",null,{"$error":"#VALUE!"},"",null,{"$error":"#VALUE!"},""]
[null,null,{"$f":"IF(Dados!C630=\"\",\"\",Dados!C630)","v":""},{"$f":"IF(Dados!D630=\"\",\"\",Dados!D630)","v":""},{"$f":"IF(Dados!E630=\"\",\"\",Dados!E630)","v":""},{"$f":"IF(Dados!F630=\"\",\"\",Dados!F630)","v":""},{"$f":"IF(Dados!G630=\"\",\"\",Dados!G630)","v":""},{"$error":"#VALUE!"},"",null,{"$error":"#VALUE!"},"",null,{"$error":"#VALUE!"},"",null,{"$error":"#VALUE!"},""]
[null,{"$f":"B621+1","v":63},{"$f":"IF(Dados!C631=\"\",\"\",Dados!C631)","v":""},{"$f":"IF(Dados!D631=\"\",\"\",Dados!D631)","v":""},{"$f":"IF(Dados!E631=\"\",\"\",Dados!E631)","v":""},{"$f":"IF(Dados!F631=\"\",\"\",Dados!F631)","v":""},{"$f":"IF(Dados!G631=\"\",\"\",Dados!G631)","v":""},{"$error":"#VALUE!"},"",{"$f":"SUM(I631:I640)","v":0},{"$error":"#VALUE!"},"",{"$f":"SUM(L631:L640)","v":0},{"$error":"#VALUE!"},"",{"$f":"SUM(O631:O640)","v":0},{"$error":"#VALUE!"},"",{"$f":"SUM(R631:R640)","v":0}]
[null,null,{"$f":"IF(Dados!C632=\"\",\"\",Dados!C632)","v":""},{"$f":"IF(Dados!D632=\"\",\"\",Dados!D632)","v":""},{"$f":"IF(Dados!E632=\"\",\"\",Dados!E632)","v":""},{"$f":"IF(Dados!F632=\"\",\"\",Dados!F632)","v":""},{"$f":"IF(Dados!G632=\"\",\"\",Dados!G632)","v":""},{"$error":"#VALUE!"},"",null,{"$error":"#VALUE!"},"",null,{"$error":"#VALUE!"},"",null,{"$error":"#VALUE!"},""]
[null,null,{"$f":"IF(Dados!C633=\"\",\"\",Dados!C633)","v":""},{"$f":"IF(Dados!D633=\"\",\"\",Dados!D633)","v":""},{"$f":"IF(Dados!E633=\"\",\"\",Dados!E633)","v":""},{"$f":"IF(Dados!F633=\"\",\"\",Dados!F633)","v":""},{"$f":"IF(Dados!G633=\"\",\"\",Dados!G633)","v":""},{"$error":"#VALUE!"},"",null,{"$error":"#VALUE!"},"",null,{"$error":"#VALUE!"},"",null,{"$error":"#VALUE!"},""]
[null,null,{"$f":"IF(Dados!C634=\"\",\"\",Dados!C634)","v":""},{"$f":"IF(Dados!D634=\"\",\"\",Dados!D634)","v":""},{"$f":"IF(Dados!E634=\"\",\"\",Dados!E634)","v":""},{"$f":"IF(Dados!F634=\"\",\"\",Dados!F634)","v":""},{"$f":"IF(Dados!G634=\"\",\"\",Dados!G634)","v":""},{"$error":"#VALUE!"},"",null,{"$error":"#VALUE!"},"",null,{"$error":"#VALUE!"},"",null,{"$error":"#VALUE!"},""]
[null,null,{"$f":"IF(Dados!C635=\"\",\"\",Dados!C635)","v":""},{"$f":"IF(Dados!D635=\"\",\"\",Dados!D635)","v":""},{"$f":"IF(Dados!E635=\"\",\"\",Dados!E635)","v":""},{"$f":"IF(Dados!F635=\"\",\"\",Dados!F635)","v":""},{"$f":"IF(Dados!G635=\"\",\"\",Dados!G635)","v":""},{"$error":"#VALUE!"},"",null,{"$error":"#VALUE!"},"",null,{"$error":"#VALUE!"},"",null,{"$error":"#VALUE!"},""]
[null,null,{"$f":"IF(Dados!C636=\"\",\"\",Dados!C636)","v":""},{"$f":"IF(Dados!D636=\"\",\"\",Dados!D636)","v":""},{"$f":"IF(Dados!E636=\"\",\"\",Dados!E636)","v":""},{"$f":"IF(Dados!F636=\"\",\"\",Dados!F636)","v":""},{"$f":"IF(Dados!G636=\"\",\"\",Dados!G636)","v":""},{"$error":"#VALUE!"},"",null,{"$error":"#VALUE!"},"",null,{"$error":"#VALUE!"},"",null,{"$error":"#VALUE!"},""]
[null,null,{"$f":"IF(Dados!C637=\"\",\"\",Dados!C637)","v":""},{"$f":"IF(Dados!D637=\"\",\"\",Dados!D637)","v":""},{"$f":"IF(Dados!E637=\"\",\"\",Dados!E637)","v":""},{"$f":"IF(Dados!F637=\"\",\"\",Dados!F637)","v":""},{"$f":"IF(Dados!G637=\"\",\"\",Dados!G637)","v":""},{"$error":"#VALUE!"},"",null,{"$error":"#VALUE!"},"",null,{"$error":"#VALUE!"},"",null,{"$error":"#VALUE!"},""]
[null,null,{"$f":"IF(Dados!C638=\"\",\"\",Dados!C638)","v":""},{"$f":"IF(Dados!D638=\"\",\"\",Dados!D638)","v":""},{"$f":"IF(Dados!E638=\"\",\"\",Dados!E638)","v":""},{"$f":"IF(Dados!F638=\"\",\"\",Dados!F638)","v":""},{"$f":"IF(Dados!G638=\"\",\"\",Dados!G638)","v":""},{"$error":"#VALUE!"},"",null,{"$error":"#VALUE!"},"",null,{"$error":"#VALUE!"},"",null,{"$error":"#VALUE!"},""]
[null,null,{"$f":"IF(Dados!C639=\"\",\"\",Dados!C639)","v":""},{"$f":"IF(Dados!D639=\"\",\"\",Dados!D639)","v":""},{"$f":"IF(Dados!E639=\"\",\"\",Dados!E639)","v":""},{"$f":"IF(Dados!F639=\"\",\"\",Dados!F639)","v":""},{"$f":"IF(Dados!G639=\"\",\"\",Dados!G639)","v":""},{"$error":"#VALUE!"},"",null,{"$error":"#VALUE!"},"",null,{"$error":"#VALUE!"},"",null,{"$error":"#VALUE!"},""]
[null,null,{"$f":"IF(Dados!C640=\"\",\"\",Dados!C640)","v":""},{"$f":"IF(Dados!D640=\"\",\"\",Dados!D640)","v":""},{"$f":"IF(Dados!E640=\"\",\"\",Dados!E640)","v":""},{"$f":"IF(Dados!F640=\"\",\"\",Dados!F640)","v":""},{"$f":"IF(Dados!G640=\"\",\"\",Dados!G640)","v":""},{"$error":"#VALUE!"},"",null,{"$error":"#VALUE!"},"",null,{"$error":"#VALUE!"},"",null,{"$error":"#VALUE!"},""]
[null,{"$f":"B631+1","v":64},{"$f":"IF(Dados!C641=\"\",\"\",Dados!C641)","v":""},{"$f":"IF(Dados!D641=\"\",\"\",Dados!D641)","v":""},{"$f":"IF(Dados!E641=\"\",\"\",Dados!E641)","v":""},{"$f":"IF(Dados!F641=\"\",\"\",Dados!F641)","v":""},{"$f":"IF(Dados!G641=\"\",\"\",Dados!G641)","v":""},{"$error":"#VALUE!"},"",{"$f":"SUM(I641:I650)","v":0},{"$error":"#VALUE!"},"",{"$f":"SUM(L641:L650)","v":0},{"$error":"#VALUE!"},"",{"$f":"SUM(O641:O650)","v":0},{"$error":"#VALUE!"},"",{"$f":"SUM(R641:R650)","v":0}]
[null,null,{"$f":"IF(Dados!C642=\"\",\"\",Dados!C642)","v":""},{"$f":"IF(Dados!D642=\"\",\"\",Dados!D642)","v":""},{"$f":"IF(Dados!E642=\"\",\"\",Dados!E642)","v":""},{"$f":"IF(Dados!F642=\"\",\"\",Dados!F642)","v":""},{"$f":"IF(Dados!G642=\"\",\"\",Dados!G642)","v":""},{"$error":"#VALUE!"},"",null,{"$error":"#VALUE!"},"",null,{"$error":"#VALUE!"},"",null,{"$error":"#VALUE!"},""]
[null,null,{"$f":"IF(Dados!C643=\"\",\"\",Dados!C643)","v":""},{"$f":"IF(Dados!D643=\"\",\"\",Dados!D643)","v":""},{"$f":"IF(Dados!E643=\"\",\"\",Dados!E643)","v":""},{"$f":"IF(Dados!F643=\"\",\"\",Dados!F643)","v":""},{"$f":"IF(Dados!G643=\"\",\"\",Dados!G643)","v":""},{"$error":"#VALUE!"},"",null,{"$error":"#VALUE!"},"",null,{"$error":"#VALUE!"},"",null,{"$error":"#VALUE!"},""]
[null,null,{"$f":"IF(Dados!C644=\"\",\"\",Dados!C644)","v":""},{"$f":"IF(Dados!D644=\"\",\"\",Dados!D644)","v":""},{"$f":"IF(Dados!E644=\"\",\"\",Dados!E644)","v":""},{"$f":"IF(Dados!F644=\"\",\"\",Dados!F644)","v":""},{"$f":"IF(Dados!G644=\"\",\"\",Dados!G644)","v":""},{"$error":"#VALUE!"},"",null,{"$error":"#VALUE!"},"",null,{"$error":"#VALUE!"},"",null,{"$error":"#VALUE!"},""]
[null,null,{"$f":"IF(Dados!C645=\"\",\"\",Dados!C645)","v":""},{"$f":"IF(Dados!D645=\"\",\"\",Dados!D645)","v":""},{"$f":"IF(Dados!E645=\"\",\"\",Dados!E645)","v":""},{"$f":"IF(Dados!F645=\"\",\"\",Dados!F645)","v":""},{"$f":"IF(Dados!G645=\"\",\"\",Dados!G645)","v":""},{"$error":"#VALUE!"},"",null,{"$error":"#VALUE!"},"",null,{"$error":"#VALUE!"},"",null,{"$error":"#VALUE!"},""]
[null,null,{"$f":"IF(Dados!C646=\"\",\"\",Dados!C646)","v":""},{"$f":"IF(Dados!D646=\"\",\"\",Dados!D646)","v":""},{"$f":"IF(Dados!E646=\"\",\"\",Dados!E646)","v":""},{"$f":"IF(Dados!F646=\"\",\"\",Dados!F646)","v":""},{"$f":"IF(Dados!G646=\"\",\"\",Dados!G646)","v":""},{"$error":"#VALUE!"},"",null,{"$error":"#VALUE!"},"",null,{"$error":"#VALUE!"},"",null,{"$error":"#VALUE!"},""]
[null,null,{"$f":"IF(Dados!C647=\"\",\"\",Dados!C647)","v":""},{"$f":"IF(Dados!D647=\"\",\"\",Dados!D647)","v":""},{"$f":"IF(Dados!E647=\"\",\"\",Dados!E647)","v":""},{"$f":"IF(Dados!F647=\"\",\"\",Dados!F647)","v":""},{"$f":"IF(Dados!G647=\"\",\"\",Dados!G647)","v":""},{"$error":"#VALUE!"},"",null,{"$error":"#VALUE!"},"",null,{"$error":"#VALUE!"},"",null,{"$error":"#VALUE!"},""]
[null,null,{"$f":"IF(Dados!C648=\"\",\"\",Dados!C648)","v":""},{"$f":"IF(Dados!D648=\"\",\"\",Dados!D648)","v":""},{"$f":"IF(Dados!E648=\"\",\"\",Dados!E648)","v":""},{"$f":"IF(Dados!F648=\"\",\"\",Dados!F648)","v":""},{"$f":"IF(Dados!G648=\"\",\"\",Dados!G648)","v":""},{"$error":"#VALUE!"},"",null,{"$error":"#VALUE!"},"",null,{"$error":"#VALUE!"},"",null,{"$error":"#VALUE!"},""]
[null,null,{"$f":"IF(Dados!C649=\"\",\"\",Dados!C649)","v":""},{"$f":"IF(Dados!D649=\"\",\"\",Dados!D649)","v":""},{"$f":"IF(Dados!E649=\"\",\"\",Dados!E649)","v":""},{"$f":"IF(Dados!F649=\"\",\"\",Dados!F649)","v":""},{"$f":"IF(Dados!G649=\"\",\"\",Dados!G649)","v":""},{"$error":"#VALUE!"},"",null,{"$error":"#VALUE!"},"",null,{"$error":"#VALUE!"},"",null,{"$error":"#VALUE!"},""]
[null,null,{"$f":"IF(Dados!C650=\"\",\"\",Dados!C650)","v":""},{"$f":"IF(Dados!D650=\"\",\"\",Dados!D650)","v":""},{"$f":"IF(Dados!E650=\"\",\"\",Dados!E650)","v":""},{"$f":"IF(Dados!F650=\"\",\"\",Dados!F650)","v":""},{"$f":"IF(Dados!G650=\"\",\"\",Dados!G650)","v":""},{"$error":"#VALUE!"},"",null,{"$error":"#VALUE!"},"",null,{"$error":"#VALUE!"},"",null,{"$error":"#VALUE!"},""]
[null,{"$f":"B641+1","v":65},{"$f":"IF(Dados!C651=\"\",\"\",Dados!C651)","v":""},{"$f":"IF(Dados!D651=\"\",\"\",Dados!D651)","v":""},{"$f":"IF(Dados!E651=\"\",\"\",Dados!E651)","v":""},{"$f":"IF(Dados!F651=\"\",\"\",Dados!F651)","v":""},{"$f":"IF(Dados!G651=\"\",\"\",Dados!G651)","v":""},{"$f":"($G651*ChIR*ChEF*ChED)/(ChBW*ChATnc)","v":{"$error":"#VALUE!"}},{"$f":"IFERROR((H651)/(VLOOKUP($F651,intervaloHQ,2,0)),\"\")","v":""},{"$f":"SUM(I651:I660)","v":0},{"$f":"($G651*AdIR*AdEF*AdED)/(AdBW*AdATnc)","v":{"$error":"#VALUE!"}},{"$f":"IFERROR((K651)/(VLOOKUP($F651,intervaloHQ,2,0)),\"\")","v":""},{"$f":"SUM(L651:L660)","v":0},{"$f":"($G651*ChIR*ChEF*ChED)/(ChBW*ChATc)","v":{"$error":"#VALUE!"}},{"$f":"IFERROR((N651)*(VLOOKUP($F651,intervaloHQ,4,0)),\"\")","v":""},{"$f":"SUM(O651:O660)","v":0},{"$f":"($G651*AdIR*AdEF*AdED)/(AdBW*AdATc)","v":{"$error":"#VALUE!"}},{"$f":"IFERROR((Q651)*(VLOOKUP($F651,intervaloHQ,4,0)),\"\")","v":""},{"$f":"SUM(R651:R660)","v":0}]
[null,null,{"$f":"IF(Dados!C652=\"\",\"\",Dados!C652)","v":""},{"$f":"IF(Dados!D652=\"\",\"\",Dados!D652)","v":""},{"$f":"IF(Dados!E652=\"\",\"\",Dados!E652)","v":""},{"$f":"IF(Dados!F652=\"\",\"\",Dados!F652)","v":""},{"$f":"IF(Dados!G652=\"\",\"\",Dados!G652)","v":""},{"$error":"#VALUE!"},"",null,{"$error":"#VALUE!"},"",null,{"$error":"#VALUE!"},"",null,{"$error":"#VALUE!"},""]
[null,null,{"$f":"IF(Dados!C653=\"\",\"\",Dados!C653)","v":""},{"$f":"IF(Dados!D653=\"\",\"\",Dados!D653)","v":""},{"$f":"IF(Dados!E653=\"\",\"\",Dados!E653)","v":""},{"$f":"IF(Dados!F653=\"\",\"\",Dados!F653)","v":""},{"$f":"IF(Dados!G653=\"\",\"\",Dados!G653)","v":""},{"$error":"#VALUE!"},"",null,{"$error":"#VALUE!"},"",null,{"$error":"#VALUE!"},"",null,{"$error":"#VALUE!"},""]
[null,null,{"$f":"IF(Dados!C654=\"\",\"\",Dados!C654)","v":""},{"$f":"IF(Dados!D654=\"\",\"\",Dados!D654)","v":""},{"$f":"IF(Dados!E654=\"\",\"\",Dados!E654)","v":""},{"$f":"IF(Dados!F654=\"\",\"\",Dados!F654)","v":""},{"$f":"IF(Dados!G654=\"\",\"\",Dados!G654)","v":""},{"$error":"#VALUE!"},"",null,{"$error":"#VALUE!"},"",null,{"$error":"#VALUE!"},"",null,{"$error":"#VALUE!"},""]
[null,null,{"$f":"IF(Dados!C655=\"\",\"\",Dados!C655)","v":""},{"$f":"IF(Dados!D655=\"\",\"\",Dados!D655)","v":""},{"$f":"IF(Dados!E655=\"\",\"\",Dados!E655)","v":""},{"$f":"IF(Dados!F655=\"\",\"\",Dados!F655)","v":""},{"$f":"IF(Dados!G655=\"\",\"\",Dados!G655)","v":""},{"$error":"#VALUE!"},"",null,{"$error":"#VALUE!"},"",null,{"$error":"#VALUE!"},"",null,{"$error":"#VALUE!"},""]
[null,null,{"$f":"IF(Dados!C656=\"\",\"\",Dados!C656)","v":""},{"$f":"IF(Dados!D656=\"\",\"\",Dados!D656)","v":""},{"$f":"IF(Dados!E656=\"\",\"\",Dados!E656)","v":""},{"$f":"IF(Dados!F656=\"\",\"\",Dados!F656)","v":""},{"$f":"IF(Dados!G656=\"\",\"\",Dados!G656)","v":""},{"$error":"#VALUE!"},"",null,{"$error":"#VALUE!"},"",null,{"$error":"#VALUE!"},"",null,{"$error":"#VALUE!"},""]
[null,null,{"$f":"IF(Dados!C657=\"\",\"\",Dados!C657)","v":""},{"$f":"IF(Dados!D657=\"\",\"\",Dados!D657)","v":""},{"$f":"IF(Dados!E657=\"\",\"\",Dados!E657)","v":""},{"$f":"IF(Dados!F657=\"\",\"\",Dados!F657)","v":""},{"$f":"IF(Dados!G657=\"\",\"\",Dados!G657)","v":""},{"$error":"#VALUE!"},"",null,{"$error":"#VALUE!"},"",null,{"$error":"#VALUE!"},"",null,{"$error":"#VALUE!"},""]
[null,null,{"$f":"IF(Dados!C658=\"\",\"\",Dados!C658)","v":""},{"$f":"IF(Dados!D658=\"\",\"\",Dados!D658)","v":""},{"$f":"IF(Dados!E658=\"\",\"\",Dados!E658)","v":""},{"$f":"IF(Dados!F658=\"\",\"\",Dados!F658)","v":""},{"$f":"IF(Dados!G658=\"\",\"\",Dados!G658)","v":""},{"$error":"#VALUE!"},"",null,{"$error":"#VALUE!"},"",null,{"$error":"#VALUE!"},"",null,{"$error":"#VALUE!"},""]
[null,null,{"$f":"IF(Dados!C659=\"\",\"\",Dados!C659)","v":""},{"$f":"IF(Dados!D659=\"\",\"\",Dados!D659)","v":""},{"$f":"IF(Dados!E659=\"\",\"\",Dados!E659)","v":""},{"$f":"IF(Dados!F659=\"\",\"\",Dados!F659)","v":""},{"$f":"IF(Dados!G659=\"\",\"\",Dados!G659)","v":""},{"$error":"#VALUE!"},"",null,{"$error":"#VALUE!"},"",null,{"$error":"#VALUE!"},"",null,{"$error":"#VALUE!"},""]
[null,null,{"$f":"IF(Dados!C660=\"\",\"\",Dados!C660)","v":""},{"$f":"IF(Dados!D660=\"\",\"\",Dados!D660)","v":""},{"$f":"IF(Dados!E660=\"\",\"\",Dados!E660)","v":""},{"$f":"IF(Dados!F660=\"\",\"\",Dados!F660)","v":""},{"$f":"IF(Dados!G660=\"\",\"\",Dados!G660)","v":""},{"$error":"#VALUE!"},"",null,{"$error":"#VALUE!"},"",null,{"$error":"#VALUE!"},"",null,{"$error":"#VALUE!"},""]
[null,{"$f":"B651+1","v":66},{"$f":"IF(Dados!C661=\"\",\"\",Dados!C661)","v":""},{"$f":"IF(Dados!D661=\"\",\"\",Dados!D661)","v":""},{"$f":"IF(Dados!E661=\"\",\"\",Dados!E661)","v":""},{"$f":"IF(Dados!F661=\"\",\"\",Dados!F661)","v":""},{"$f":"IF(Dados!G661=\"\",\"\",Dados!G661)","v":""},{"$error":"#VALUE!"},"",{"$f":"SUM(I661:I670)","v":0},{"$error":"#VALUE!"},"",{"$f":"SUM(L661:L670)","v":0},{"$error":"#VALUE!"},"",{"$f":"SUM(O661:O670)","v":0},{"$error":"#VALUE!"},"",{"$f":"SUM(R661:R670)","v":0}]
[null,null,{"$f":"IF(Dados!C662=\"\",\"\",Dados!C662)","v":""},{"$f":"IF(Dados!D662=\"\",\"\",Dados!D662)","v":""},{"$f":"IF(Dados!E662=\"\",\"\",Dados!E662)","v":""},{"$f":"IF(Dados!F662=\"\",\"\",Dados!F662)","v":""},{"$f":"IF(Dados!G662=\"\",\"\",Dados!G662)","v":""},{"$error":"#VALUE!"},"",null,{"$error":"#VALUE!"},"",null,{"$error":"#VALUE!"},"",null,{"$error":"#VALUE!"},""]
[null,null,{"$f":"IF(Dados!C663=\"\",\"\",Dados!C663)","v":""},{"$f":"IF(Dados!D663=\"\",\"\",Dados!D663)","v":""},{"$f":"IF(Dados!E663=\"\",\"\",Dados!E663)","v":""},{"$f":"IF(Dados!F663=\"\",\"\",Dados!F663)","v":""},{"$f":"IF(Dados!G663=\"\",\"\",Dados!G663)","v":""},{"$error":"#VALUE!"},"",null,{"$error":"#VALUE!"},"",null,{"$error":"#VALUE!"},"",null,{"$error":"#VALUE!"},""]
[null,null,{"$f":"IF(Dados!C664=\"\",\"\",Dados!C664)","v":""},{"$f":"IF(Dados!D664=\"\",\"\",Dados!D664)","v":""},{"$f":"IF(Dados!E664=\"\",\"\",Dados!E664)","v":""},{"$f":"IF(Dados!F664=\"\",\"\",Dados!F664)","v":""},{"$f":"IF(Dados!G664=\"\",\"\",Dados!G664)","v":""},{"$error":"#VALUE!"},"",null,{"$error":"#VALUE!"},"",null,{"$error":"#VALUE!"},"",null,{"$error":"#VALUE!"},""]
[null,null,{"$f":"IF(Dados!C665=\"\",\"\",Dados!C665)","v":""},{"$f":"IF(Dados!D665=\"\",\"\",Dados!D665)","v":""},{"$f":"IF(Dados!E665=\"\",\"\",Dados!E665)","v":""},{"$f":"IF(Dados!F665=\"\",\"\",Dados!F665)","v":""},{"$f":"IF(Dados!G665=\"\",\"\",Dados!G665)","v":""},{"$error":"#VALUE!"},"",null,{"$error":"#VALUE!"},"",null,{"$error":"#VALUE!"},"",null,{"$error":"#VALUE!"},""]
[null,null,{"$f":"IF(Dados!C666=\"\",\"\",Dados!C666)","v":""},{"$f":"IF(Dados!D666=\"\",\"\",Dados!D666)","v":""},{"$f":"IF(Dados!E666=\"\",\"\",Dados!E666)","v":""},{"$f":"IF(Dados!F666=\"\",\"\",Dados!F666)","v":""},{"$f":"IF(Dados!G666=\"\",\"\",Dados!G666)","v":""},{"$error":"#VALUE!"},"",null,{"$error":"#VALUE!"},"",null,{"$error":"#VALUE!"},"",null,{"$error":"#VALUE!"},""]
[null,null,{"$f":"IF(Dados!C667=\"\",\"\",Dados!C667)","v":""},{"$f":"IF(Dados!D667=\"\",\"\",Dados!D667)","v":""},{"$f":"IF(Dados!E667=\"\",\"\",Dados!E667)","v":""},{"$f":"IF(Dados!F667=\"\",\"\",Dados!F667)","v":""},{"$f":"IF(Dados!G667=\"\",\"\",Dados!G667)","v":""},{"$error":"#VALUE!"},"",null,{"$error":"#VALUE!"},"",null,{"$error":"#VALUE!"},"",null,{"$error":"#VALUE!"},""]
[null,null,{"$f":"IF(Dados!C668=\"\",\"\",Dados!C668)","v":""},{"$f":"IF(Dados!D668=\"\",\"\",Dados!D668)","v":""},{"$f":"IF(Dados!E668=\"\",\"\",Dados!E668)","v":""},{"$f":"IF(Dados!F668=\"\",\"\",Dados!F668)","v":""},{"$f":"IF(Dados!G668=\"\",\"\",Dados!G668)","v":""},{"$error":"#VALUE!"},"",null,{"$error":"#VALUE!"},"",null,{"$error":"#VALUE!"},"",null,{"$error":"#VALUE!"},""]
[null,null,{"$f":"IF(Dados!C669=\"\",\"\",Dados!C669)","v":""},{"$f":"IF(Dados!D669=\"\",\"\",Dados!D669)","v":""},{"$f":"IF(Dados!E669=\"\",\"\",Dados!E669)","v":""},{"$f":"IF(Dados!F669=\"\",\"\",Dados!F669)","v":""},{"$f":"IF(Dados!G669=\"\",\"\",Dados!G669)","v":""},{"$error":"#VALUE!"},"",null,{"$error":"#VALUE!"},"",null,{"$error":"#VALUE!"},"",null,{"$error":"#VALUE!"},""]
[null,null,{"$f":"IF(Dados!C670=\"\",\"\",Dados!C670)","v":""},{"$f":"IF(Dados!D670=\"\",\"\",Dados!D670)","v":""},{"$f":"IF(Dados!E670=\"\",\"\",Dados!E670)","v":""},{"$f":"IF(Dados!F670=\"\",\"\",Dados!F670)","v":""},{"$f":"IF(Dados!G670=\"\",\"\",Dados!G670)","v":""},{"$error":"#VALUE!"},"",null,{"$error":"#VALUE!"},"",null,{"$error":"#VALUE!"},"",null,{"$error":"#VALUE!"},""]
[null,{"$f":"B661+1","v":67},{"$f":"IF(Dados!C671=\"\",\"\",Dados!C671)","v":""},{"$f":"IF(Dados!D671=\"\",\"\",Dados!D671)","v":""},{"$f":"IF(Dados!E671=\"\",\"\",Dados!E671)","v":""},{"$f":"IF(Dados!F671=\"\",\"\",Dados!F671)","v":""},{"$f":"IF(Dados!G671=\"\",\"\",Dados!G671)","v":""},{"$error":"#VALUE!"},"",{"$f":"SUM(I671:I680)","v":0},{"$error":"#VALUE!"},"",{"$f":"SUM(L671:L680)","v":0},{"$error":"#VALUE!"},"",{"$f":"SUM(O671:O680)","v":0},{"$error":"#VALUE!"},"",{"$f":"SUM(R671:R680)","v":0}]
[null,null,{"$f":"IF(Dados!C672=\"\",\"\",Dados!C672)","v":""},{"$f":"IF(Dados!D672=\"\",\"\",Dados!D672)","v":""},{"$f":"IF(Dados!E672=\"\",\"\",Dados!E672)","v":""},{"$f":"IF(Dados!F672=\"\",\"\",Dados!F672)","v":""},{"$f":"IF(Dados!G672=\"\",\"\",Dados!G672)","v":""},{"$error":"#VALUE!"},"",null,{"$error":"#VALUE!"},"",null,{"$error":"#VALUE!"},"",null,{"$error":"#VALUE!"},""]
[null,null,{"$f":"IF(Dados!C673=\"\",\"\",Dados!C673)","v":""},{"$f":"IF(Dados!D673=\"\",\"\",Dados!D673)","v":""},{"$f":"IF(Dados!E673=\"\",\"\",Dados!E673)","v":""},{"$f":"IF(Dados!F673=\"\",\"\",Dados!F673)","v":""},{"$f":"IF(Dados!G673=\"\",\"\",Dados!G673)","v":""},{"$error":"#VALUE!"},"",null,{"$error":"#VALUE!"},"",null,{"$error":"#VALUE!"},"",null,{"$error":"#VALUE!"},""]
[null,null,{"$f":"IF(Dados!C674=\"\",\"\",Dados!C674)","v":""},{"$f":"IF(Dados!D674=\"\",\"\",Dados!D674)","v":""},{"$f":"IF(Dados!E674=\"\",\"\",Dados!E674)","v":""},{"$f":"IF(Dados!F674=\"\",\"\",Dados!F674)","v":""},{"$f":"IF(Dados!G674=\"\",\"\",Dados!G674)","v":""},{"$error":"#VALUE!"},"",null,{"$error":"#VALUE!"},"",null,{"$error":"#VALUE!"},"",null,{"$error":"#VALUE!"},""]
[null,null,{"$f":"IF(Dados!C675=\"\",\"\",Dados!C675)","v":""},{"$f":"IF(Dados!D675=\"\",\"\",Dados!D675)","v":""},{"$f":"IF(Dados!E675=\"\",\"\",Dados!E675)","v":""},{"$f":"IF(Dados!F675=\"\",\"\",Dados!F675)","v":""},{"$f":"IF(Dados!G675=\"\",\"\",Dados!G675)","v":""},{"$error":"#VALUE!"},"",null,{"$error":"#VALUE!"},"",null,{"$error":"#VALUE!"},"",null,{"$error":"#VALUE!"},""]
[null,null,{"$f":"IF(Dados!C676=\"\",\"\",Dados!C676)","v":""},{"$f":"IF(Dados!D676=\"\",\"\",Dados!D676)","v":""},{"$f":"IF(Dados!E676=\"\",\"\",Dados!E676)","v":""},{"$f":"IF(Dados!F676=\"\",\"\",Dados!F676)","v":""},{"$f":"IF(Dados!G676=\"\",\"\",Dados!G676)","v":""},{"$error":"#VALUE!"},"",null,{"$error":"#VALUE!"},"",null,{"$error":"#VALUE!"},"",null,{"$error":"#VALUE!"},""]
[null,null,{"$f":"IF(Dados!C677=\"\",\"\",Dados!C677)","v":""},{"$f":"IF(Dados!D677=\"\",\"\",Dados!D677)","v":""},{"$f":"IF(Dados!E677=\"\",\"\",Dados!E677)","v":""},{"$f":"IF(Dados!F677=\"\",\"\",Dados!F677)","v":""},{"$f":"IF(Dados!G677=\"\",\"\",Dados!G677)","v":""},{"$error":"#VALUE!"},"",null,{"$error":"#VALUE!"},"",null,{"$error":"#VALUE!"},"",null,{"$error":"#VALUE!"},""]
[null,null,{"$f":"IF(Dados!C678=\"\",\"\",Dados!C678)","v":""},{"$f":"IF(Dados!D678=\"\",\"\",Dados!D678)","v":""},{"$f":"IF(Dados!E678=\"\",\"\",Dados!E678)","v":""},{"$f":"IF(Dados!F678=\"\",\"\",Dados!F678)","v":""},{"$f":"IF(Dados!G678=\"\",\"\",Dados!G678)","v":""},{"$error":"#VALUE!"},"",null,{"$error":"#VALUE!"},"",null,{"$error":"#VALUE!"},"",null,{"$error":"#VALUE!"},""]
[null,null,{"$f":"IF(Dados!C679=\"\",\"\",Dados!C679)","v":""},{"$f":"IF(Dados!D679=\"\",\"\",Dados!D679)","v":""},{"$f":"IF(Dados!E679=\"\",\"\",Dados!E679)","v":""},{"$f":"IF(Dados!F679=\"\",\"\",Dados!F679)","v":""},{"$f":"IF(Dados!G679=\"\",\"\",Dados!G679)","v":""},{"$error":"#VALUE!"},"",null,{"$error":"#VALUE!"},"",null,{"$error":"#VALUE!"},"",null,{"$error":"#VALUE!"},""]
[null,null,{"$f":"IF(Dados!C680=\"\",\"\",Dados!C680)","v":""},{"$f":"IF(Dados!D680=\"\",\"\",Dados!D680)","v":""},{"$f":"IF(Dados!E680=\"\",\"\",Dados!E680)","v":""},{"$f":"IF(Dados!F680=\"\",\"\",Dados!F680)","v":""},{"$f":"IF(Dados!G680=\"\",\"\",Dados!G680)","v":""},{"$error":"#VALUE!"},"",null,{"$error":"#VALUE!"},"",null,{"$error":"#VALUE!"},"",null,{"$error":"#VALUE!"},""]
[null,{"$f":"B671+1","v":68},{"$f":"IF(Dados!C681=\"\",\"\",Dados!C681)","v":""},{"$f":"IF(Dados!D681=\"\",\"\",Dados!D681)","v":""},{"$f":"IF(Dados!E681=\"\",\"\",Dados!E681)","v":""},{"$f":"IF(Dados!F681=\"\",\"\",Dados!F681)","v":""},{"$f":"IF(Dados!G681=\"\",\"\",Dados!G681)","v":""},{"$error":"#VALUE!"},"",{"$f":"SUM(I681:I690)","v":0},{"$error":"#VALUE!"},"",{"$f":"SUM(L681:L690)","v":0},{"$error":"#VALUE!"},"",{"$f":"SUM(O681:O690)","v":0},{"$error":"#VALUE!"},"",{"$f":"SUM(R681:R690)","v":0}]
[null,null,{"$f":"IF(Dados!C682=\"\",\"\",Dados!C682)","v":""},{"$f":"IF(Dados!D682=\"\",\"\",Dados!D682)","v":""},{"$f":"IF(Dados!E682=\"\",\"\",Dados!E682)","v":""},{"$f":"IF(Dados!F682=\"\",\"\",Dados!F682)","v":""},{"$f":"IF(Dados!G682=\"\",\"\",Dados!G682)","v":""},{"$error":"#VALUE!"},"",null,{"$error":"#VALUE!"},"",null,{"$error":"#VALUE!"},"",null,{"$error":"#VALUE!"},""]
[null,null,{"$f":"IF(Dados!C683=\"\",\"\",Dados!C683)","v":""},{"$f":"IF(Dados!D683=\"\",\"\",Dados!D683)","v":""},{"$f":"IF(Dados!E683=\"\",\"\",Dados!E683)","v":""},{"$f":"IF(Dados!F683=\"\",\"\",Dados!F683)","v":""},{"$f":"IF(Dados!G683=\"\",\"\",Dados!G683)","v":""},{"$error":"#VALUE!"},"",null,{"$error":"#VALUE!"},"",null,{"$error":"#VALUE!"},"",null,{"$error":"#VALUE!"},""]
[null,null,{"$f":"IF(Dados!C684=\"\",\"\",Dados!C684)","v":""},{"$f":"IF(Dados!D684=\"\",\"\",Dados!D684)","v":""},{"$f":"IF(Dados!E684=\"\",\"\",Dados!E684)","v":""},{"$f":"IF(Dados!F684=\"\",\"\",Dados!F684)","v":""},{"$f":"IF(Dados!G684=\"\",\"\",Dados!G684)","v":""},{"$error":"#VALUE!"},"",null,{"$error":"#VALUE!"},"",null,{"$error":"#VALUE!"},"",null,{"$error":"#VALUE!"},""]
[null,null,{"$f":"IF(Dados!C685=\"\",\"\",Dados!C685)","v":""},{"$f":"IF(Dados!D685=\"\",\"\",Dados!D685)","v":""},{"$f":"IF(Dados!E685=\"\",\"\",Dados!E685)","v":""},{"$f":"IF(Dados!F685=\"\",\"\",Dados!F685)","v":""},{"$f":"IF(Dados!G685=\"\",\"\",Dados!G685)","v":""},{"$error":"#VALUE!"},"",null,{"$error":"#VALUE!"},"",null,{"$error":"#VALUE!"},"",null,{"$error":"#VALUE!"},""]
[null,null,{"$f":"IF(Dados!C686=\"\",\"\",Dados!C686)","v":""},{"$f":"IF(Dados!D686=\"\",\"\",Dados!D686)","v":""},{"$f":"IF(Dados!E686=\"\",\"\",Dados!E686)","v":""},{"$f":"IF(Dados!F686=\"\",\"\",Dados!F686)","v":""},{"$f":"IF(Dados!G686=\"\",\"\",Dados!G686)","v":""},{"$error":"#VALUE!"},"",null,{"$error":"#VALUE!"},"",null,{"$error":"#VALUE!"},"",null,{"$error":"#VALUE!"},""]
[null,null,{"$f":"IF(Dados!C687=\"\",\"\",Dados!C687)","v":""},{"$f":"IF(Dados!D687=\"\",\"\",Dados!D687)","v":""},{"$f":"IF(Dados!E687=\"\",\"\",Dados!E687)","v":""},{"$f":"IF(Dados!F687=\"\",\"\",Dados!F687)","v":""},{"$f":"IF(Dados!G687=\"\",\"\",Dados!G687)","v":""},{"$error":"#VALUE!"},"",null,{"$error":"#VALUE!"},"",null,{"$error":"#VALUE!"},"",null,{"$error":"#VALUE!"},""]
[null,null,{"$f":"IF(Dados!C688=\"\",\"\",Dados!C688)","v":""},{"$f":"IF(Dados!D688=\"\",\"\",Dados!D688)","v":""},{"$f":"IF(Dados!E688=\"\",\"\",Dados!E688)","v":""},{"$f":"IF(Dados!F688=\"\",\"\",Dados!F688)","v":""},{"$f":"IF(Dados!G688=\"\",\"\",Dados!G688)","v":""},{"$error":"#VALUE!"},"",null,{"$error":"#VALUE!"},"",null,{"$error":"#VALUE!"},"",null,{"$error":"#VALUE!"},""]
[null,null,{"$f":"IF(Dados!C689=\"\",\"\",Dados!C689)","v":""},{"$f":"IF(Dados!D689=\"\",\"\",Dados!D689)","v":""},{"$f":"IF(Dados!E689=\"\",\"\",Dados!E689)","v":""},{"$f":"IF(Dados!F689=\"\",\"\",Dados!F689)","v":""},{"$f":"IF(Dados!G689=\"\",\"\",Dados!G689)","v":""},{"$error":"#VALUE!"},"",null,{"$error":"#VALUE!"},"",null,{"$error":"#VALUE!"},"",null,{"$error":"#VALUE!"},""]
[null,null,{"$f":"IF(Dados!C690=\"\",\"\",Dados!C690)","v":""},{"$f":"IF(Dados!D690=\"\",\"\",Dados!D690)","v":""},{"$f":"IF(Dados!E690=\"\",\"\",Dados!E690)","v":""},{"$f":"IF(Dados!F690=\"\",\"\",Dados!F690)","v":""},{"$f":"IF(Dados!G690=\"\",\"\",Dados!G690)","v":""},{"$error":"#VALUE!"},"",null,{"$error":"#VALUE!"},"",null,{"$error":"#VALUE!"},"",null,{"$error":"#VALUE!"},""]
[null,{"$f":"B681+1","v":69},{"$f":"IF(Dados!C691=\"\",\"\",Dados!C691)","v":""},{"$f":"IF(Dados!D691=\"\",\"\",Dados!D691)","v":""},{"$f":"IF(Dados!E691=\"\",\"\",Dados!E691)","v":""},{"$f":"IF(Dados!F691=\"\",\"\",Dados!F691)","v":""},{"$f":"IF(Dados!G691=\"\",\"\",Dados!G691)","v":""},{"$error":"#VALUE!"},"",{"$f":"SUM(I691:I700)","v":0},{"$error":"#VALUE!"},"",{"$f":"SUM(L691:L700)","v":0},{"$error":"#VALUE!"},"",{"$f":"SUM(O691:O700)","v":0},{"$error":"#VALUE!"},"",{"$f":"SUM(R691:R700)","v":0}]
[null,null,{"$f":"IF(Dados!C692=\"\",\"\",Dados!C692)","v":""},{"$f":"IF(Dados!D692=\"\",\"\",Dados!D692)","v":""},{"$f":"IF(Dados!E692=\"\",\"\",Dados!E692)","v":""},{"$f":"IF(Dados!F692=\"\",\"\",Dados!F692)","v":""},{"$f":"IF(Dados!G692=\"\",\"\",Dados!G692)","v":""},{"$error":"#VALUE!"},"",null,{"$error":"#VALUE!"},"",null,{"$error":"#VALUE!"},"",null,{"$error":"#VALUE!"},""]
[null,null,{"$f":"IF(Dados!C693=\"\",\"\",Dados!C693)","v":""},{"$f":"IF(Dados!D693=\"\",\"\",Dados!D693)","v":""},{"$f":"IF(Dados!E693=\"\",\"\",Dados!E693)","v":""},{"$f":"IF(Dados!F693=\"\",\"\",Dados!F693)","v":""},{"$f":"IF(Dados!G693=\"\",\"\",Dados!G693)","v":""},{"$error":"#VALUE!"},"",null,{"$error":"#VALUE!"},"",null,{"$error":"#VALUE!"},"",null,{"$error":"#VALUE!"},""]
[null,null,{"$f":"IF(Dados!C694=\"\",\"\",Dados!C694)","v":""},{"$f":"IF(Dados!D694=\"\",\"\",Dados!D694)","v":""},{"$f":"IF(Dados!E694=\"\",\"\",Dados!E694)","v":""},{"$f":"IF(Dados!F694=\"\",\"\",Dados!F694)","v":""},{"$f":"IF(Dados!G694=\"\",\"\",Dados!G694)","v":""},{"$error":"#VALUE!"},"",null,{"$error":"#VALUE!"},"",null,{"$error":"#VALUE!"},"",null,{"$error":"#VALUE!"},""]
[null,null,{"$f":"IF(Dados!C695=\"\",\"\",Dados!C695)","v":""},{"$f":"IF(Dados!D695=\"\",\"\",Dados!D695)","v":""},{"$f":"IF(Dados!E695=\"\",\"\",Dados!E695)","v":""},{"$f":"IF(Dados!F695=\"\",\"\",Dados!F695)","v":""},{"$f":"IF(Dados!G695=\"\",\"\",Dados!G695)","v":""},{"$error":"#VALUE!"},"",null,{"$error":"#VALUE!"},"",null,{"$error":"#VALUE!"},"",null,{"$error":"#VALUE!"},""]
[null,null,{"$f":"IF(Dados!C696=\"\",\"\",Dados!C696)","v":""},{"$f":"IF(Dados!D696=\"\",\"\",Dados!D696)","v":""},{"$f":"IF(Dados!E696=\"\",\"\",Dados!E696)","v":""},{"$f":"IF(Dados!F696=\"\",\"\",Dados!F696)","v":""},{"$f":"IF(Dados!G696=\"\",\"\",Dados!G696)","v":""},{"$error":"#VALUE!"},"",null,{"$error":"#VALUE!"},"",null,{"$error":"#VALUE!"},"",null,{"$error":"#VALUE!"},""]
[null,null,{"$f":"IF(Dados!C697=\"\",\"\",Dados!C697)","v":""},{"$f":"IF(Dados!D697=\"\",\"\",Dados!D697)","v":""},{"$f":"IF(Dados!E697=\"\",\"\",Dados!E697)","v":""},{"$f":"IF(Dados!F697=\"\",\"\",Dados!F697)","v":""},{"$f":"IF(Dados!G697=\"\",\"\",Dados!G697)","v":""},{"$error":"#VALUE!"},"",null,{"$error":"#VALUE!"},"",null,{"$error":"#VALUE!"},"",null,{"$error":"#VALUE!"},""]
[null,null,{"$f":"IF(Dados!C698=\"\",\"\",Dados!C698)","v":""},{"$f":"IF(Dados!D698=\"\",\"\",Dados!D698)","v":""},{"$f":"IF(Dados!E698=\"\",\"\",Dados!E698)","v":""},{"$f":"IF(Dados!F698=\"\",\"\",Dados!F698)","v":""},{"$f":"IF(Dados!G698=\"\",\"\",Dados!G698)","v":""},{"$error":"#VALUE!"},"",null,{"$error":"#VALUE!"},"",null,{"$error":"#VALUE!"},"",null,{"$error":"#VALUE!"},""]
[null,null,{"$f":"IF(Dados!C699=\"\",\"\",Dados!C699)","v":""},{"$f":"IF(Dados!D699=\"\",\"\",Dados!D699)","v":""},{"$f":"IF(Dados!E699=\"\",\"\",Dados!E699)","v":""},{"$f":"IF(Dados!F699=\"\",\"\",Dados!F699)","v":""},{"$f":"IF(Dados!G699=\"\",\"\",Dados!G699)","v":""},{"$error":"#VALUE!"},"",null,{"$error":"#VALUE!"},"",null,{"$error":"#VALUE!"},"",null,{"$error":"#VALUE!"},""]
[null,null,{"$f":"IF(Dados!C700=\"\",\"\",Dados!C700)","v":""},{"$f":"IF(Dados!D700=\"\",\"\",Dados!D700)","v":""},{"$f":"IF(Dados!E700=\"\",\"\",Dados!E700)","v":""},{"$f":"IF(Dados!F700=\"\",\"\",Dados!F700)","v":""},{"$f":"IF(Dados!G700=\"\",\"\",Dados!G700)","v":""},{"$error":"#VALUE!"},"",null,{"$error":"#VALUE!"},"",null,{"$error":"#VALUE!"},"",null,{"$error":"#VALUE!"},""]
[null,{"$f":"B691+1","v":70},{"$f":"IF(Dados!C701=\"\",\"\",Dados!C701)","v":""},{"$f":"IF(Dados!D701=\"\",\"\",Dados!D701)","v":""},{"$f":"IF(Dados!E701=\"\",\"\",Dados!E701)","v":""},{"$f":"IF(Dados!F701=\"\",\"\",Dados!F701)","v":""},{"$f":"IF(Dados!G701=\"\",\"\",Dados!G701)","v":""},{"$error":"#VALUE!"},"",{"$f":"SUM(I701:I710)","v":0},{"$error":"#VALUE!"},"",{"$f":"SUM(L701:L710)","v":0},{"$error":"#VALUE!"},"",{"$f":"SUM(O701:O710)","v":0},{"$error":"#VALUE!"},"",{"$f":"SUM(R701:R710)","v":0}]
[null,null,{"$f":"IF(Dados!C702=\"\",\"\",Dados!C702)","v":""},{"$f":"IF(Dados!D702=\"\",\"\",Dados!D702)","v":""},{"$f":"IF(Dados!E702=\"\",\"\",Dados!E702)","v":""},{"$f":"IF(Dados!F702=\"\",\"\",Dados!F702)","v":""},{"$f":"IF(Dados!G702=\"\",\"\",Dados!G702)","v":""},{"$error":"#VALUE!"},"",null,{"$error":"#VALUE!"},"",null,{"$error":"#VALUE!"},"",null,{"$error":"#VALUE!"},""]
[null,null,{"$f":"IF(Dados!C703=\"\",\"\",Dados!C703)","v":""},{"$f":"IF(Dados!D703=\"\",\"\",Dados!D703)","v":""},{"$f":"IF(Dados!E703=\"\",\"\",Dados!E703)","v":""},{"$f":"IF(Dados!F703=\"\",\"\",Dados!F703)","v":""},{"$f":"IF(Dados!G703=\"\",\"\",Dados!G703)","v":""},{"$error":"#VALUE!"},"",null,{"$error":"#VALUE!"},"",null,{"$error":"#VALUE!"},"",null,{"$error":"#VALUE!"},""]
[null,null,{"$f":"IF(Dados!C704=\"\",\"\",Dados!C704)","v":""},{"$f":"IF(Dados!D704=\"\",\"\",Dados!D704)","v":""},{"$f":"IF(Dados!E704=\"\",\"\",Dados!E704)","v":""},{"$f":"IF(Dados!F704=\"\",\"\",Dados!F704)","v":""},{"$f":"IF(Dados!G704=\"\",\"\",Dados!G704)","v":""},{"$error":"#VALUE!"},"",null,{"$error":"#VALUE!"},"",null,{"$error":"#VALUE!"},"",null,{"$error":"#VALUE!"},""]
[null,null,{"$f":"IF(Dados!C705=\"\",\"\",Dados!C705)","v":""},{"$f":"IF(Dados!D705=\"\",\"\",Dados!D705)","v":""},{"$f":"IF(Dados!E705=\"\",\"\",Dados!E705)","v":""},{"$f":"IF(Dados!F705=\"\",\"\",Dados!F705)","v":""},{"$f":"IF(Dados!G705=\"\",\"\",Dados!G705)","v":""},{"$error":"#VALUE!"},"",null,{"$error":"#VALUE!"},"",null,{"$error":"#VALUE!"},"",null,{"$error":"#VALUE!"},""]
[null,null,{"$f":"IF(Dados!C706=\"\",\"\",Dados!C706)","v":""},{"$f":"IF(Dados!D706=\"\",\"\",Dados!D706)","v":""},{"$f":"IF(Dados!E706=\"\",\"\",Dados!E706)","v":""},{"$f":"IF(Dados!F706=\"\",\"\",Dados!F706)","v":""},{"$f":"IF(Dados!G706=\"\",\"\",Dados!G706)","v":""},{"$error":"#VALUE!"},"",null,{"$error":"#VALUE!"},"",null,{"$error":"#VALUE!"},"",null,{"$error":"#VALUE!"},""]
[null,null,{"$f":"IF(Dados!C707=\"\",\"\",Dados!C707)","v":""},{"$f":"IF(Dados!D707=\"\",\"\",Dados!D707)","v":""},{"$f":"IF(Dados!E707=\"\",\"\",Dados!E707)","v":""},{"$f":"IF(Dados!F707=\"\",\"\",Dados!F707)","v":""},{"$f":"IF(Dados!G707=\"\",\"\",Dados!G707)","v":""},{"$error":"#VALUE!"},"",null,{"$error":"#VALUE!"},"",null,{"$error":"#VALUE!"},"",null,{"$error":"#VALUE!"},""]
[null,null,{"$f":"IF(Dados!C708=\"\",\"\",Dados!C708)","v":""},{"$f":"IF(Dados!D708=\"\",\"\",Dados!D708)","v":""},{"$f":"IF(Dados!E708=\"\",\"\",Dados!E708)","v":""},{"$f":"IF(Dados!F708=\"\",\"\",Dados!F708)","v":""},{"$f":"IF(Dados!G708=\"\",\"\",Dados!G708)","v":""},{"$error":"#VALUE!"},"",null,{"$error":"#VALUE!"},"",null,{"$error":"#VALUE!"},"",null,{"$error":"#VALUE!"},""]
[null,null,{"$f":"IF(Dados!C709=\"\",\"\",Dados!C709)","v":""},{"$f":"IF(Dados!D709=\"\",\"\",Dados!D709)","v":""},{"$f":"IF(Dados!E709=\"\",\"\",Dados!E709)","v":""},{"$f":"IF(Dados!F709=\"\",\"\",Dados!F709)","v":""},{"$f":"IF(Dados!G709=\"\",\"\",Dados!G709)","v":""},{"$error":"#VALUE!"},"",null,{"$error":"#VALUE!"},"",null,{"$error":"#VALUE!"},"",null,{"$error":"#VALUE!"},""]
[null,null,{"$f":"IF(Dados!C710=\"\",\"\",Dados!C710)","v":""},{"$f":"IF(Dados!D710=\"\",\"\",Dados!D710)","v":""},{"$f":"IF(Dados!E710=\"\",\"\",Dados!E710)","v":""},{"$f":"IF(Dados!F710=\"\",\"\",Dados!F710)","v":""},{"$f":"IF(Dados!G710=\"\",\"\",Dados!G710)","v":""},{"$error":"#VALUE!"},"",null,{"$error":"#VALUE!"},"",null,{"$error":"#VALUE!"},"",null,{"$error":"#VALUE!"},""]
[null,{"$f":"B701+1","v":71},{"$f":"IF(Dados!C711=\"\",\"\",Dados!C711)","v":""},{"$f":"IF(Dados!D711=\"\",\"\",Dados!D711)","v":""},{"$f":"IF(Dados!E711=\"\",\"\",Dados!E711)","v":""},{"$f":"IF(Dados!F711=\"\",\"\",Dados!F711)","v":""},{"$f":"IF(Dados!G711=\"\",\"\",Dados!G711)","v":""},{"$error":"#VALUE!"},"",{"$f":"SUM(I711:I720)","v":0},{"$error":"#VALUE!"},"",{"$f":"SUM(L711:L720)","v":0},{"$error":"#VALUE!"},"",{"$f":"SUM(O711:O720)","v":0},{"$error":"#VALUE!"},"",{"$f":"SUM(R711:R720)","v":0}]
[null,null,{"$f":"IF(Dados!C712=\"\",\"\",Dados!C712)","v":""},{"$f":"IF(Dados!D712=\"\",\"\",Dados!D712)","v":""},{"$f":"IF(Dados!E712=\"\",\"\",Dados!E712)","v":""},{"$f":"IF(Dados!F712=\"\",\"\",Dados!F712)","v":""},{"$f":"IF(Dados!G712=\"\",\"\",Dados!G712)","v":""},{"$error":"#VALUE!"},"",null,{"$error":"#VALUE!"},"",null,{"$error":"#VALUE!"},"",null,{"$error":"#VALUE!"},""]
[null,null,{"$f":"IF(Dados!C713=\"\",\"\",Dados!C713)","v":""},{"$f":"IF(Dados!D713=\"\",\"\",Dados!D713)","v":""},{"$f":"IF(Dados!E713=\"\",\"\",Dados!E713)","v":""},{"$f":"IF(Dados!F713=\"\",\"\",Dados!F713)","v":""},{"$f":"IF(Dados!G713=\"\",\"\",Dados!G713)","v":""},{"$error":"#VALUE!"},"",null,{"$error":"#VALUE!"},"",null,{"$error":"#VALUE!"},"",null,{"$error":"#VALUE!"},""]
[null,null,{"$f":"IF(Dados!C714=\"\",\"\",Dados!C714)","v":""},{"$f":"IF(Dados!D714=\"\",\"\",Dados!D714)","v":""},{"$f":"IF(Dados!E714=\"\",\"\",Dados!E714)","v":""},{"$f":"IF(Dados!F714=\"\",\"\",Dados!F714)","v":""},{"$f":"IF(Dados!G714=\"\",\"\",Dados!G714)","v":""},{"$error":"#VALUE!"},"",null,{"$error":"#VALUE!"},"",null,{"$error":"#VALUE!"},"",null,{"$error":"#VALUE!"},""]
[null,null,{"$f":"IF(Dados!C715=\"\",\"\",Dados!C715)","v":""},{"$f":"IF(Dados!D715=\"\",\"\",Dados!D715)","v":""},{"$f":"IF(Dados!E715=\"\",\"\",Dados!E715)","v":""},{"$f":"IF(Dados!F715=\"\",\"\",Dados!F715)","v":""},{"$f":"IF(Dados!G715=\"\",\"\",Dados!G715)","v":""},{"$f":"($G715*ChIR*ChEF*ChED)/(ChBW*ChATnc)","v":{"$error":"#VALUE!"}},{"$f":"IFERROR((H715)/(VLOOKUP($F715,intervaloHQ,2,0)),\"\")","v":""},null,{"$f":"($G715*AdIR*AdEF*AdED)/(AdBW*AdATnc)","v":{"$error":"#VALUE!"}},{"$f":"IFERROR((K715)/(VLOOKUP($F715,intervaloHQ,2,0)),\"\")","v":""},null,{"$f":"($G715*ChIR*ChEF*ChED)/(ChBW*ChATc)","v":{"$error":"#VALUE!"}},{"$f":"IFERROR((N715)*(VLOOKUP($F715,intervaloHQ,4,0)),\"\")","v":""},null,{"$f":"($G715*AdIR*AdEF*AdED)/(AdBW*AdATc)","v":{"$error":"#VALUE!"}},{"$f":"IFERROR((Q715)*(VLOOKUP($F715,intervaloHQ,4,0)),\"\")","v":""}]
[null,null,{"$f":"IF(Dados!C716=\"\",\"\",Dados!C716)","v":""},{"$f":"IF(Dados!D716=\"\",\"\",Dados!D716)","v":""},{"$f":"IF(Dados!E716=\"\",\"\",Dados!E716)","v":""},{"$f":"IF(Dados!F716=\"\",\"\",Dados!F716)","v":""},{"$f":"IF(Dados!G716=\"\",\"\",Dados!G716)","v":""},{"$error":"#VALUE!"},"",null,{"$error":"#VALUE!"},"",null,{"$error":"#VALUE!"},"",null,{"$error":"#VALUE!"},""]
[null,null,{"$f":"IF(Dados!C717=\"\",\"\",Dados!C717)","v":""},{"$f":"IF(Dados!D717=\"\",\"\",Dados!D717)","v":""},{"$f":"IF(Dados!E717=\"\",\"\",Dados!E717)","v":""},{"$f":"IF(Dados!F717=\"\",\"\",Dados!F717)","v":""},{"$f":"IF(Dados!G717=\"\",\"\",Dados!G717)","v":""},{"$error":"#VALUE!"},"",null,{"$error":"#VALUE!"},"",null,{"$error":"#VALUE!"},"",null,{"$error":"#VALUE!"},""]
[null,null,{"$f":"IF(Dados!C718=\"\",\"\",Dados!C718)","v":""},{"$f":"IF(Dados!D718=\"\",\"\",Dados!D718)","v":""},{"$f":"IF(Dados!E718=\"\",\"\",Dados!E718)","v":""},{"$f":"IF(Dados!F718=\"\",\"\",Dados!F718)","v":""},{"$f":"IF(Dados!G718=\"\",\"\",Dados!G718)","v":""},{"$error":"#VALUE!"},"",null,{"$error":"#VALUE!"},"",null,{"$error":"#VALUE!"},"",null,{"$error":"#VALUE!"},""]
[null,null,{"$f":"IF(Dados!C719=\"\",\"\",Dados!C719)","v":""},{"$f":"IF(Dados!D719=\"\",\"\",Dados!D719)","v":""},{"$f":"IF(Dados!E719=\"\",\"\",Dados!E719)","v":""},{"$f":"IF(Dados!F719=\"\",\"\",Dados!F719)","v":""},{"$f":"IF(Dados!G719=\"\",\"\",Dados!G719)","v":""},{"$error":"#VALUE!"},"",null,{"$error":"#VALUE!"},"",null,{"$error":"#VALUE!"},"",null,{"$error":"#VALUE!"},""]
[null,null,{"$f":"IF(Dados!C720=\"\",\"\",Dados!C720)","v":""},{"$f":"IF(Dados!D720=\"\",\"\",Dados!D720)","v":""},{"$f":"IF(Dados!E720=\"\",\"\",Dados!E720)","v":""},{"$f":"IF(Dados!F720=\"\",\"\",Dados!F720)","v":""},{"$f":"IF(Dados!G720=\"\",\"\",Dados!G720)","v":""},{"$error":"#VALUE!"},"",null,{"$error":"#VALUE!"},"",null,{"$error":"#VALUE!"},"",null,{"$error":"#VALUE!"},""]
[null,{"$f":"B711+1","v":72},{"$f":"IF(Dados!C721=\"\",\"\",Dados!C721)","v":""},{"$f":"IF(Dados!D721=\"\",\"\",Dados!D721)","v":""},{"$f":"IF(Dados!E721=\"\",\"\",Dados!E721)","v":""},{"$f":"IF(Dados!F721=\"\",\"\",Dados!F721)","v":""},{"$f":"IF(Dados!G721=\"\",\"\",Dados!G721)","v":""},{"$error":"#VALUE!"},"",{"$f":"SUM(I721:I730)","v":0},{"$error":"#VALUE!"},"",{"$f":"SUM(L721:L730)","v":0},{"$error":"#VALUE!"},"",{"$f":"SUM(O721:O730)","v":0},{"$error":"#VALUE!"},"",{"$f":"SUM(R721:R730)","v":0}]
[null,null,{"$f":"IF(Dados!C722=\"\",\"\",Dados!C722)","v":""},{"$f":"IF(Dados!D722=\"\",\"\",Dados!D722)","v":""},{"$f":"IF(Dados!E722=\"\",\"\",Dados!E722)","v":""},{"$f":"IF(Dados!F722=\"\",\"\",Dados!F722)","v":""},{"$f":"IF(Dados!G722=\"\",\"\",Dados!G722)","v":""},{"$error":"#VALUE!"},"",null,{"$error":"#VALUE!"},"",null,{"$error":"#VALUE!"},"",null,{"$error":"#VALUE!"},""]
[null,null,{"$f":"IF(Dados!C723=\"\",\"\",Dados!C723)","v":""},{"$f":"IF(Dados!D723=\"\",\"\",Dados!D723)","v":""},{"$f":"IF(Dados!E723=\"\",\"\",Dados!E723)","v":""},{"$f":"IF(Dados!F723=\"\",\"\",Dados!F723)","v":""},{"$f":"IF(Dados!G723=\"\",\"\",Dados!G723)","v":""},{"$error":"#VALUE!"},"",null,{"$error":"#VALUE!"},"",null,{"$error":"#VALUE!"},"",null,{"$error":"#VALUE!"},""]
[null,null,{"$f":"IF(Dados!C724=\"\",\"\",Dados!C724)","v":""},{"$f":"IF(Dados!D724=\"\",\"\",Dados!D724)","v":""},{"$f":"IF(Dados!E724=\"\",\"\",Dados!E724)","v":""},{"$f":"IF(Dados!F724=\"\",\"\",Dados!F724)","v":""},{"$f":"IF(Dados!G724=\"\",\"\",Dados!G724)","v":""},{"$error":"#VALUE!"},"",null,{"$error":"#VALUE!"},"",null,{"$error":"#VALUE!"},"",null,{"$error":"#VALUE!"},""]
[null,null,{"$f":"IF(Dados!C725=\"\",\"\",Dados!C725)","v":""},{"$f":"IF(Dados!D725=\"\",\"\",Dados!D725)","v":""},{"$f":"IF(Dados!E725=\"\",\"\",Dados!E725)","v":""},{"$f":"IF(Dados!F725=\"\",\"\",Dados!F725)","v":""},{"$f":"IF(Dados!G725=\"\",\"\",Dados!G725)","v":""},{"$error":"#VALUE!"},"",null,{"$error":"#VALUE!"},"",null,{"$error":"#VALUE!"},"",null,{"$error":"#VALUE!"},""]
[null,null,{"$f":"IF(Dados!C726=\"\",\"\",Dados!C726)","v":""},{"$f":"IF(Dados!D726=\"\",\"\",Dados!D726)","v":""},{"$f":"IF(Dados!E726=\"\",\"\",Dados!E726)","v":""},{"$f":"IF(Dados!F726=\"\",\"\",Dados!F726)","v":""},{"$f":"IF(Dados!G726=\"\",\"\",Dados!G726)","v":""},{"$error":"#VALUE!"},"",null,{"$error":"#VALUE!"},"",null,{"$error":"#VALUE!"},"",null,{"$error":"#VALUE!"},""]
[null,null,{"$f":"IF(Dados!C727=\"\",\"\",Dados!C727)","v":""},{"$f":"IF(Dados!D727=\"\",\"\",Dados!D727)","v":""},{"$f":"IF(Dados!E727=\"\",\"\",Dados!E727)","v":""},{"$f":"IF(Dados!F727=\"\",\"\",Dados!F727)","v":""},{"$f":"IF(Dados!G727=\"\",\"\",Dados!G727)","v":""},{"$error":"#VALUE!"},"",null,{"$error":"#VALUE!"},"",null,{"$error":"#VALUE!"},"",null,{"$error":"#VALUE!"},""]
[null,null,{"$f":"IF(Dados!C728=\"\",\"\",Dados!C728)","v":""},{"$f":"IF(Dados!D728=\"\",\"\",Dados!D728)","v":""},{"$f":"IF(Dados!E728=\"\",\"\",Dados!E728)","v":""},{"$f":"IF(Dados!F728=\"\",\"\",Dados!F728)","v":""},{"$f":"IF(Dados!G728=\"\",\"\",Dados!G728)","v":""},{"$error":"#VALUE!"},"",null,{"$error":"#VALUE!"},"",null,{"$error":"#VALUE!"},"",null,{"$error":"#VALUE!"},""]
[null,null,{"$f":"IF(Dados!C729=\"\",\"\",Dados!C729)","v":""},{"$f":"IF(Dados!D729=\"\",\"\",Dados!D729)","v":""},{"$f":"IF(Dados!E729=\"\",\"\",Dados!E729)","v":""},{"$f":"IF(Dados!F729=\"\",\"\",Dados!F729)","v":""},{"$f":"IF(Dados!G729=\"\",\"\",Dados!G729)","v":""},{"$error":"#VALUE!"},"",null,{"$error":"#VALUE!"},"",null,{"$error":"#VALUE!"},"",null,{"$error":"#VALUE!"},""]
[null,null,{"$f":"IF(Dados!C730=\"\",\"\",Dados!C730)","v":""},{"$f":"IF(Dados!D730=\"\",\"\",Dados!D730)","v":""},{"$f":"IF(Dados!E730=\"\",\"\",Dados!E730)","v":""},{"$f":"IF(Dados!F730=\"\",\"\",Dados!F730)","v":""},{"$f":"IF(Dados!G730=\"\",\"\",Dados!G730)","v":""},{"$error":"#VALUE!"},"",null,{"$error":"#VALUE!"},"",null,{"$error":"#VALUE!"},"",null,{"$error":"#VALUE!"},""]
[null,{"$f":"B721+1","v":73},{"$f":"IF(Dados!C731=\"\",\"\",Dados!C731)","v":""},{"$f":"IF(Dados!D731=\"\",\"\",Dados!D731)","v":""},{"$f":"IF(Dados!E731=\"\",\"\",Dados!E731)","v":""},{"$f":"IF(Dados!F731=\"\",\"\",Dados!F731)","v":""},{"$f":"IF(Dados!G731=\"\",\"\",Dados!G731)","v":""},{"$error":"#VALUE!"},"",{"$f":"SUM(I731:I740)","v":0},{"$error":"#VALUE!"},"",{"$f":"SUM(L731:L740)","v":0},{"$error":"#VALUE!"},"",{"$f":"SUM(O731:O740)","v":0},{"$error":"#VALUE!"},"",{"$f":"SUM(R731:R740)","v":0}]
[null,null,{"$f":"IF(Dados!C732=\"\",\"\",Dados!C732)","v":""},{"$f":"IF(Dados!D732=\"\",\"\",Dados!D732)","v":""},{"$f":"IF(Dados!E732=\"\",\"\",Dados!E732)","v":""},{"$f":"IF(Dados!F732=\"\",\"\",Dados!F732)","v":""},{"$f":"IF(Dados!G732=\"\",\"\",Dados!G732)","v":""},{"$error":"#VALUE!"},"",null,{"$error":"#VALUE!"},"",null,{"$error":"#VALUE!"},"",null,{"$error":"#VALUE!"},""]
[null,null,{"$f":"IF(Dados!C733=\"\",\"\",Dados!C733)","v":""},{"$f":"IF(Dados!D733=\"\",\"\",Dados!D733)","v":""},{"$f":"IF(Dados!E733=\"\",\"\",Dados!E733)","v":""},{"$f":"IF(Dados!F733=\"\",\"\",Dados!F733)","v":""},{"$f":"IF(Dados!G733=\"\",\"\",Dados!G733)","v":""},{"$error":"#VALUE!"},"",null,{"$error":"#VALUE!"},"",null,{"$error":"#VALUE!"},"",null,{"$error":"#VALUE!"},""]
[null,null,{"$f":"IF(Dados!C734=\"\",\"\",Dados!C734)","v":""},{"$f":"IF(Dados!D734=\"\",\"\",Dados!D734)","v":""},{"$f":"IF(Dados!E734=\"\",\"\",Dados!E734)","v":""},{"$f":"IF(Dados!F734=\"\",\"\",Dados!F734)","v":""},{"$f":"IF(Dados!G734=\"\",\"\",Dados!G734)","v":""},{"$error":"#VALUE!"},"",null,{"$error":"#VALUE!"},"",null,{"$error":"#VALUE!"},"",null,{"$error":"#VALUE!"},""]
[null,null,{"$f":"IF(Dados!C735=\"\",\"\",Dados!C735)","v":""},{"$f":"IF(Dados!D735=\"\",\"\",Dados!D735)","v":""},{"$f":"IF(Dados!E735=\"\",\"\",Dados!E735)","v":""},{"$f":"IF(Dados!F735=\"\",\"\",Dados!F735)","v":""},{"$f":"IF(Dados!G735=\"\",\"\",Dados!G735)","v":""},{"$error":"#VALUE!"},"",null,{"$error":"#VALUE!"},"",null,{"$error":"#VALUE!"},"",null,{"$error":"#VALUE!"},""]
[null,null,{"$f":"IF(Dados!C736=\"\",\"\",Dados!C736)","v":""},{"$f":"IF(Dados!D736=\"\",\"\",Dados!D736)","v":""},{"$f":"IF(Dados!E736=\"\",\"\",Dados!E736)","v":""},{"$f":"IF(Dados!F736=\"\",\"\",Dados!F736)","v":""},{"$f":"IF(Dados!G736=\"\",\"\",Dados!G736)","v":""},{"$error":"#VALUE!"},"",null,{"$error":"#VALUE!"},"",null,{"$error":"#VALUE!"},"",null,{"$error":"#VALUE!"},""]
[null,null,{"$f":"IF(Dados!C737=\"\",\"\",Dados!C737)","v":""},{"$f":"IF(Dados!D737=\"\",\"\",Dados!D737)","v":""},{"$f":"IF(Dados!E737=\"\",\"\",Dados!E737)","v":""},{"$f":"IF(Dados!F737=\"\",\"\",Dados!F737)","v":""},{"$f":"IF(Dados!G737=\"\",\"\",Dados!G737)","v":""},{"$error":"#VALUE!"},"",null,{"$error":"#VALUE!"},"",null,{"$error":"#VALUE!"},"",null,{"$error":"#VALUE!"},""]
[null,null,{"$f":"IF(Dados!C738=\"\",\"\",Dados!C738)","v":""},{"$f":"IF(Dados!D738=\"\",\"\",Dados!D738)","v":""},{"$f":"IF(Dados!E738=\"\",\"\",Dados!E738)","v":""},{"$f":"IF(Dados!F738=\"\",\"\",Dados!F738)","v":""},{"$f":"IF(Dados!G738=\"\",\"\",Dados!G738)","v":""},{"$error":"#VALUE!"},"",null,{"$error":"#VALUE!"},"",null,{"$error":"#VALUE!"},"",null,{"$error":"#VALUE!"},""]
[null,null,{"$f":"IF(Dados!C739=\"\",\"\",Dados!C739)","v":""},{"$f":"IF(Dados!D739=\"\",\"\",Dados!D739)","v":""},{"$f":"IF(Dados!E739=\"\",\"\",Dados!E739)","v":""},{"$f":"IF(Dados!F739=\"\",\"\",Dados!F739)","v":""},{"$f":"IF(Dados!G739=\"\",\"\",Dados!G739)","v":""},{"$error":"#VALUE!"},"",null,{"$error":"#VALUE!"},"",null,{"$error":"#VALUE!"},"",null,{"$error":"#VALUE!"},""]
[null,null,{"$f":"IF(Dados!C740=\"\",\"\",Dados!C740)","v":""},{"$f":"IF(Dados!D740=\"\",\"\",Dados!D740)","v":""},{"$f":"IF(Dados!E740=\"\",\"\",Dados!E740)","v":""},{"$f":"IF(Dados!F740=\"\",\"\",Dados!F740)","v":""},{"$f":"IF(Dados!G740=\"\",\"\",Dados!G740)","v":""},{"$error":"#VALUE!"},"",null,{"$error":"#VALUE!"},"",null,{"$error":"#VALUE!"},"",null,{"$error":"#VALUE!"},""]
[null,{"$f":"B731+1","v":74},{"$f":"IF(Dados!C741=\"\",\"\",Dados!C741)","v":""},{"$f":"IF(Dados!D741=\"\",\"\",Dados!D741)","v":""},{"$f":"IF(Dados!E741=\"\",\"\",Dados!E741)","v":""},{"$f":"IF(Dados!F741=\"\",\"\",Dados!F741)","v":""},{"$f":"IF(Dados!G741=\"\",\"\",Dados!G741)","v":""},{"$error":"#VALUE!"},"",{"$f":"SUM(I741:I750)","v":0},{"$error":"#VALUE!"},"",{"$f":"SUM(L741:L750)","v":0},{"$error":"#VALUE!"},"",{"$f":"SUM(O741:O750)","v":0},{"$error":"#VALUE!"},"",{"$f":"SUM(R741:R750)","v":0}]
[null,null,{"$f":"IF(Dados!C742=\"\",\"\",Dados!C742)","v":""},{"$f":"IF(Dados!D742=\"\",\"\",Dados!D742)","v":""},{"$f":"IF(Dados!E742=\"\",\"\",Dados!E742)","v":""},{"$f":"IF(Dados!F742=\"\",\"\",Dados!F742)","v":""},{"$f":"IF(Dados!G742=\"\",\"\",Dados!G742)","v":""},{"$error":"#VALUE!"},"",null,{"$error":"#VALUE!"},"",null,{"$error":"#VALUE!"},"",null,{"$error":"#VALUE!"},""]
[null,null,{"$f":"IF(Dados!C743=\"\",\"\",Dados!C743)","v":""},{"$f":"IF(Dados!D743=\"\",\"\",Dados!D743)","v":""},{"$f":"IF(Dados!E743=\"\",\"\",Dados!E743)","v":""},{"$f":"IF(Dados!F743=\"\",\"\",Dados!F743)","v":""},{"$f":"IF(Dados!G743=\"\",\"\",Dados!G743)","v":""},{"$error":"#VALUE!"},"",null,{"$error":"#VALUE!"},"",null,{"$error":"#VALUE!"},"",null,{"$error":"#VALUE!"},""]
[null,null,{"$f":"IF(Dados!C744=\"\",\"\",Dados!C744)","v":""},{"$f":"IF(Dados!D744=\"\",\"\",Dados!D744)","v":""},{"$f":"IF(Dados!E744=\"\",\"\",Dados!E744)","v":""},{"$f":"IF(Dados!F744=\"\",\"\",Dados!F744)","v":""},{"$f":"IF(Dados!G744=\"\",\"\",Dados!G744)","v":""},{"$error":"#VALUE!"},"",null,{"$error":"#VALUE!"},"",null,{"$error":"#VALUE!"},"",null,{"$error":"#VALUE!"},""]
[null,null,{"$f":"IF(Dados!C745=\"\",\"\",Dados!C745)","v":""},{"$f":"IF(Dados!D745=\"\",\"\",Dados!D745)","v":""},{"$f":"IF(Dados!E745=\"\",\"\",Dados!E745)","v":""},{"$f":"IF(Dados!F745=\"\",\"\",Dados!F745)","v":""},{"$f":"IF(Dados!G745=\"\",\"\",Dados!G745)","v":""},{"$error":"#VALUE!"},"",null,{"$error":"#VALUE!"},"",null,{"$error":"#VALUE!"},"",null,{"$error":"#VALUE!"},""]
[null,null,{"$f":"IF(Dados!C746=\"\",\"\",Dados!C746)","v":""},{"$f":"IF(Dados!D746=\"\",\"\",Dados!D746)","v":""},{"$f":"IF(Dados!E746=\"\",\"\",Dados!E746)","v":""},{"$f":"IF(Dados!F746=\"\",\"\",Dados!F746)","v":""},{"$f":"IF(Dados!G746=\"\",\"\",Dados!G746)","v":""},{"$error":"#VALUE!"},"",null,{"$error":"#VALUE!"},"",null,{"$error":"#VALUE!"},"",null,{"$error":"#VALUE!"},""]
[null,null,{"$f":"IF(Dados!C747=\"\",\"\",Dados!C747)","v":""},{"$f":"IF(Dados!D747=\"\",\"\",Dados!D747)","v":""},{"$f":"IF(Dados!E747=\"\",\"\",Dados!E747)","v":""},{"$f":"IF(Dados!F747=\"\",\"\",Dados!F747)","v":""},{"$f":"IF(Dados!G747=\"\",\"\",Dados!G747)","v":""},{"$error":"#VALUE!"},"",null,{"$error":"#VALUE!"},"",null,{"$error":"#VALUE!"},"",null,{"$error":"#VALUE!"},""]
[null,null,{"$f":"IF(Dados!C748=\"\",\"\",Dados!C748)","v":""},{"$f":"IF(Dados!D748=\"\",\"\",Dados!D748)","v":""},{"$f":"IF(Dados!E748=\"\",\"\",Dados!E748)","v":""},{"$f":"IF(Dados!F748=\"\",\"\",Dados!F748)","v":""},{"$f":"IF(Dados!G748=\"\",\"\",Dados!G748)","v":""},{"$error":"#VALUE!"},"",null,{"$error":"#VALUE!"},"",null,{"$error":"#VALUE!"},"",null,{"$error":"#VALUE!"},""]
[null,null,{"$f":"IF(Dados!C749=\"\",\"\",Dados!C749)","v":""},{"$f":"IF(Dados!D749=\"\",\"\",Dados!D749)","v":""},{"$f":"IF(Dados!E749=\"\",\"\",Dados!E749)","v":""},{"$f":"IF(Dados!F749=\"\",\"\",Dados!F749)","v":""},{"$f":"IF(Dados!G749=\"\",\"\",Dados!G749)","v":""},{"$error":"#VALUE!"},"",null,{"$error":"#VALUE!"},"",null,{"$error":"#VALUE!"},"",null,{"$error":"#VALUE!"},""]
[null,null,{"$f":"IF(Dados!C750=\"\",\"\",Dados!C750)","v":""},{"$f":"IF(Dados!D750=\"\",\"\",Dados!D750)","v":""},{"$f":"IF(Dados!E750=\"\",\"\",Dados!E750)","v":""},{"$f":"IF(Dados!F750=\"\",\"\",Dados!F750)","v":""},{"$f":"IF(Dados!G750=\"\",\"\",Dados!G750)","v":""},{"$error":"#VALUE!"},"",null,{"$error":"#VALUE!"},"",null,{"$error":"#VALUE!"},"",null,{"$error":"#VALUE!"},""]
[null,{"$f":"B741+1","v":75},{"$f":"IF(Dados!C751=\"\",\"\",Dados!C751)","v":""},{"$f":"IF(Dados!D751=\"\",\"\",Dados!D751)","v":""},{"$f":"IF(Dados!E751=\"\",\"\",Dados!E751)","v":""},{"$f":"IF(Dados!F751=\"\",\"\",Dados!F751)","v":""},{"$f":"IF(Dados!G751=\"\",\"\",Dados!G751)","v":""},{"$error":"#VALUE!"},"",{"$f":"SUM(I751:I760)","v":0},{"$error":"#VALUE!"},"",{"$f":"SUM(L751:L760)","v":0},{"$error":"#VALUE!"},"",{"$f":"SUM(O751:O760)","v":0},{"$error":"#VALUE!"},"",{"$f":"SUM(R751:R760)","v":0}]
[null,null,{"$f":"IF(Dados!C752=\"\",\"\",Dados!C752)","v":""},{"$f":"IF(Dados!D752=\"\",\"\",Dados!D752)","v":""},{"$f":"IF(Dados!E752=\"\",\"\",Dados!E752)","v":""},{"$f":"IF(Dados!F752=\"\",\"\",Dados!F752)","v":""},{"$f":"IF(Dados!G752=\"\",\"\",Dados!G752)","v":""},{"$error":"#VALUE!"},"",null,{"$error":"#VALUE!"},"",null,{"$error":"#VALUE!"},"",null,{"$error":"#VALUE!"},""]
[null,null,{"$f":"IF(Dados!C753=\"\",\"\",Dados!C753)","v":""},{"$f":"IF(Dados!D753=\"\",\"\",Dados!D753)","v":""},{"$f":"IF(Dados!E753=\"\",\"\",Dados!E753)","v":""},{"$f":"IF(Dados!F753=\"\",\"\",Dados!F753)","v":""},{"$f":"IF(Dados!G753=\"\",\"\",Dados!G753)","v":""},{"$error":"#VALUE!"},"",null,{"$error":"#VALUE!"},"",null,{"$error":"#VALUE!"},"",null,{"$error":"#VALUE!"},""]
[null,null,{"$f":"IF(Dados!C754=\"\",\"\",Dados!C754)","v":""},{"$f":"IF(Dados!D754=\"\",\"\",Dados!D754)","v":""},{"$f":"IF(Dados!E754=\"\",\"\",Dados!E754)","v":""},{"$f":"IF(Dados!F754=\"\",\"\",Dados!F754)","v":""},{"$f":"IF(Dados!G754=\"\",\"\",Dados!G754)","v":""},{"$error":"#VALUE!"},"",null,{"$error":"#VALUE!"},"",null,{"$error":"#VALUE!"},"",null,{"$error":"#VALUE!"},""]
[null,null,{"$f":"IF(Dados!C755=\"\",\"\",Dados!C755)","v":""},{"$f":"IF(Dados!D755=\"\",\"\",Dados!D755)","v":""},{"$f":"IF(Dados!E755=\"\",\"\",Dados!E755)","v":""},{"$f":"IF(Dados!F755=\"\",\"\",Dados!F755)","v":""},{"$f":"IF(Dados!G755=\"\",\"\",Dados!G755)","v":""},{"$error":"#VALUE!"},"",null,{"$error":"#VALUE!"},"",null,{"$error":"#VALUE!"},"",null,{"$error":"#VALUE!"},""]
[null,null,{"$f":"IF(Dados!C756=\"\",\"\",Dados!C756)","v":""},{"$f":"IF(Dados!D756=\"\",\"\",Dados!D756)","v":""},{"$f":"IF(Dados!E756=\"\",\"\",Dados!E756)","v":""},{"$f":"IF(Dados!F756=\"\",\"\",Dados!F756)","v":""},{"$f":"IF(Dados!G756=\"\",\"\",Dados!G756)","v":""},{"$error":"#VALUE!"},"",null,{"$error":"#VALUE!"},"",null,{"$error":"#VALUE!"},"",null,{"$error":"#VALUE!"},""]
[null,null,{"$f":"IF(Dados!C757=\"\",\"\",Dados!C757)","v":""},{"$f":"IF(Dados!D757=\"\",\"\",Dados!D757)","v":""},{"$f":"IF(Dados!E757=\"\",\"\",Dados!E757)","v":""},{"$f":"IF(Dados!F757=\"\",\"\",Dados!F757)","v":""},{"$f":"IF(Dados!G757=\"\",\"\",Dados!G757)","v":""},{"$error":"#VALUE!"},"",null,{"$error":"#VALUE!"},"",null,{"$error":"#VALUE!"},"",null,{"$error":"#VALUE!"},""]
[null,null,{"$f":"IF(Dados!C758=\"\",\"\",Dados!C758)","v":""},{"$f":"IF(Dados!D758=\"\",\"\",Dados!D758)","v":""},{"$f":"IF(Dados!E758=\"\",\"\",Dados!E758)","v":""},{"$f":"IF(Dados!F758=\"\",\"\",Dados!F758)","v":""},{"$f":"IF(Dados!G758=\"\",\"\",Dados!G758)","v":""},{"$error":"#VALUE!"},"",null,{"$error":"#VALUE!"},"",null,{"$error":"#VALUE!"},"",null,{"$error":"#VALUE!"},""]
[null,null,{"$f":"IF(Dados!C759=\"\",\"\",Dados!C759)","v":""},{"$f":"IF(Dados!D759=\"\",\"\",Dados!D759)","v":""},{"$f":"IF(Dados!E759=\"\",\"\",Dados!E759)","v":""},{"$f":"IF(Dados!F759=\"\",\"\",Dados!F759)","v":""},{"$f":"IF(Dados!G759=\"\",\"\",Dados!G759)","v":""},{"$error":"#VALUE!"},"",null,{"$error":"#VALUE!"},"",null,{"$error":"#VALUE!"},"",null,{"$error":"#VALUE!"},""]
[null,null,{"$f":"IF(Dados!C760=\"\",\"\",Dados!C760)","v":""},{"$f":"IF(Dados!D760=\"\",\"\",Dados!D760)","v":""},{"$f":"IF(Dados!E760=\"\",\"\",Dados!E760)","v":""},{"$f":"IF(Dados!F760=\"\",\"\",Dados!F760)","v":""},{"$f":"IF(Dados!G760=\"\",\"\",Dados!G760)","v":""},{"$error":"#VALUE!"},"",null,{"$error":"#VALUE!"},"",null,{"$error":"#VALUE!"},"",null,{"$error":"#VALUE!"},""]
[null,{"$f":"B751+1","v":76},{"$f":"IF(Dados!C761=\"\",\"\",Dados!C761)","v":""},{"$f":"IF(Dados!D761=\"\",\"\",Dados!D761)","v":""},{"$f":"IF(Dados!E761=\"\",\"\",Dados!E761)","v":""},{"$f":"IF(Dados!F761=\"\",\"\",Dados!F761)","v":""},{"$f":"IF(Dados!G761=\"\",\"\",Dados!G761)","v":""},{"$error":"#VALUE!"},"",{"$f":"SUM(I761:I770)","v":0},{"$error":"#VALUE!"},"",{"$f":"SUM(L761:L770)","v":0},{"$error":"#VALUE!"},"",{"$f":"SUM(O761:O770)","v":0},{"$error":"#VALUE!"},"",{"$f":"SUM(R761:R770)","v":0}]
[null,null,{"$f":"IF(Dados!C762=\"\",\"\",Dados!C762)","v":""},{"$f":"IF(Dados!D762=\"\",\"\",Dados!D762)","v":""},{"$f":"IF(Dados!E762=\"\",\"\",Dados!E762)","v":""},{"$f":"IF(Dados!F762=\"\",\"\",Dados!F762)","v":""},{"$f":"IF(Dados!G762=\"\",\"\",Dados!G762)","v":""},{"$error":"#VALUE!"},"",null,{"$error":"#VALUE!"},"",null,{"$error":"#VALUE!"},"",null,{"$error":"#VALUE!"},""]
[null,null,{"$f":"IF(Dados!C763=\"\",\"\",Dados!C763)","v":""},{"$f":"IF(Dados!D763=\"\",\"\",Dados!D763)","v":""},{"$f":"IF(Dados!E763=\"\",\"\",Dados!E763)","v":""},{"$f":"IF(Dados!F763=\"\",\"\",Dados!F763)","v":""},{"$f":"IF(Dados!G763=\"\",\"\",Dados!G763)","v":""},{"$error":"#VALUE!"},"",null,{"$error":"#VALUE!"},"",null,{"$error":"#VALUE!"},"",null,{"$error":"#VALUE!"},""]
[null,null,{"$f":"IF(Dados!C764=\"\",\"\",Dados!C764)","v":""},{"$f":"IF(Dados!D764=\"\",\"\",Dados!D764)","v":""},{"$f":"IF(Dados!E764=\"\",\"\",Dados!E764)","v":""},{"$f":"IF(Dados!F764=\"\",\"\",Dados!F764)","v":""},{"$f":"IF(Dados!G764=\"\",\"\",Dados!G764)","v":""},{"$error":"#VALUE!"},"",null,{"$error":"#VALUE!"},"",null,{"$error":"#VALUE!"},"",null,{"$error":"#VALUE!"},""]
[null,null,{"$f":"IF(Dados!C765=\"\",\"\",Dados!C765)","v":""},{"$f":"IF(Dados!D765=\"\",\"\",Dados!D765)","v":""},{"$f":"IF(Dados!E765=\"\",\"\",Dados!E765)","v":""},{"$f":"IF(Dados!F765=\"\",\"\",Dados!F765)","v":""},{"$f":"IF(Dados!G765=\"\",\"\",Dados!G765)","v":""},{"$error":"#VALUE!"},"",null,{"$error":"#VALUE!"},"",null,{"$error":"#VALUE!"},"",null,{"$error":"#VALUE!"},""]
[null,null,{"$f":"IF(Dados!C766=\"\",\"\",Dados!C766)","v":""},{"$f":"IF(Dados!D766=\"\",\"\",Dados!D766)","v":""},{"$f":"IF(Dados!E766=\"\",\"\",Dados!E766)","v":""},{"$f":"IF(Dados!F766=\"\",\"\",Dados!F766)","v":""},{"$f":"IF(Dados!G766=\"\",\"\",Dados!G766)","v":""},{"$error":"#VALUE!"},"",null,{"$error":"#VALUE!"},"",null,{"$error":"#VALUE!"},"",null,{"$error":"#VALUE!"},""]
[null,null,{"$f":"IF(Dados!C767=\"\",\"\",Dados!C767)","v":""},{"$f":"IF(Dados!D767=\"\",\"\",Dados!D767)","v":""},{"$f":"IF(Dados!E767=\"\",\"\",Dados!E767)","v":""},{"$f":"IF(Dados!F767=\"\",\"\",Dados!F767)","v":""},{"$f":"IF(Dados!G767=\"\",\"\",Dados!G767)","v":""},{"$error":"#VALUE!"},"",null,{"$error":"#VALUE!"},"",null,{"$error":"#VALUE!"},"",null,{"$error":"#VALUE!"},""]
[null,null,{"$f":"IF(Dados!C768=\"\",\"\",Dados!C768)","v":""},{"$f":"IF(Dados!D768=\"\",\"\",Dados!D768)","v":""},{"$f":"IF(Dados!E768=\"\",\"\",Dados!E768)","v":""},{"$f":"IF(Dados!F768=\"\",\"\",Dados!F768)","v":""},{"$f":"IF(Dados!G768=\"\",\"\",Dados!G768)","v":""},{"$error":"#VALUE!"},"",null,{"$error":"#VALUE!"},"",null,{"$error":"#VALUE!"},"",null,{"$error":"#VALUE!"},""]
[null,null,{"$f":"IF(Dados!C769=\"\",\"\",Dados!C769)","v":""},{"$f":"IF(Dados!D769=\"\",\"\",Dados!D769)","v":""},{"$f":"IF(Dados!E769=\"\",\"\",Dados!E769)","v":""},{"$f":"IF(Dados!F769=\"\",\"\",Dados!F769)","v":""},{"$f":"IF(Dados!G769=\"\",\"\",Dados!G769)","v":""},{"$error":"#VALUE!"},"",null,{"$error":"#VALUE!"},"",null,{"$error":"#VALUE!"},"",null,{"$error":"#VALUE!"},""]
[null,null,{"$f":"IF(Dados!C770=\"\",\"\",Dados!C770)","v":""},{"$f":"IF(Dados!D770=\"\",\"\",Dados!D770)","v":""},{"$f":"IF(Dados!E770=\"\",\"\",Dados!E770)","v":""},{"$f":"IF(Dados!F770=\"\",\"\",Dados!F770)","v":""},{"$f":"IF(Dados!G770=\"\",\"\",Dados!G770)","v":""},{"$error":"#VALUE!"},"",null,{"$error":"#VALUE!"},"",null,{"$error":"#VALUE!"},"",null,{"$error":"#VALUE!"},""]
[null,{"$f":"B761+1","v":77},{"$f":"IF(Dados!C771=\"\",\"\",Dados!C771)","v":""},{"$f":"IF(Dados!D771=\"\",\"\",Dados!D771)","v":""},{"$f":"IF(Dados!E771=\"\",\"\",Dados!E771)","v":""},{"$f":"IF(Dados!F771=\"\",\"\",Dados!F771)","v":""},{"$f":"IF(Dados!G771=\"\",\"\",Dados!G771)","v":""},{"$error":"#VALUE!"},"",{"$f":"SUM(I771:I780)","v":0},{"$error":"#VALUE!"},"",{"$f":"SUM(L771:L780)","v":0},{"$error":"#VALUE!"},"",{"$f":"SUM(O771:O780)","v":0},{"$error":"#VALUE!"},"",{"$f":"SUM(R771:R780)","v":0}]
[null,null,{"$f":"IF(Dados!C772=\"\",\"\",Dados!C772)","v":""},{"$f":"IF(Dados!D772=\"\",\"\",Dados!D772)","v":""},{"$f":"IF(Dados!E772=\"\",\"\",Dados!E772)","v":""},{"$f":"IF(Dados!F772=\"\",\"\",Dados!F772)","v":""},{"$f":"IF(Dados!G772=\"\",\"\",Dados!G772)","v":""},{"$error":"#VALUE!"},"",null,{"$error":"#VALUE!"},"",null,{"$error":"#VALUE!"},"",null,{"$error":"#VALUE!"},""]
[null,null,{"$f":"IF(Dados!C773=\"\",\"\",Dados!C773)","v":""},{"$f":"IF(Dados!D773=\"\",\"\",Dados!D773)","v":""},{"$f":"IF(Dados!E773=\"\",\"\",Dados!E773)","v":""},{"$f":"IF(Dados!F773=\"\",\"\",Dados!F773)","v":""},{"$f":"IF(Dados!G773=\"\",\"\",Dados!G773)","v":""},{"$error":"#VALUE!"},"",null,{"$error":"#VALUE!"},"",null,{"$error":"#VALUE!"},"",null,{"$error":"#VALUE!"},""]
[null,null,{"$f":"IF(Dados!C774=\"\",\"\",Dados!C774)","v":""},{"$f":"IF(Dados!D774=\"\",\"\",Dados!D774)","v":""},{"$f":"IF(Dados!E774=\"\",\"\",Dados!E774)","v":""},{"$f":"IF(Dados!F774=\"\",\"\",Dados!F774)","v":""},{"$f":"IF(Dados!G774=\"\",\"\",Dados!G774)","v":""},{"$error":"#VALUE!"},"",null,{"$error":"#VALUE!"},"",null,{"$error":"#VALUE!"},"",null,{"$error":"#VALUE!"},""]
[null,null,{"$f":"IF(Dados!C775=\"\",\"\",Dados!C775)","v":""},{"$f":"IF(Dados!D775=\"\",\"\",Dados!D775)","v":""},{"$f":"IF(Dados!E775=\"\",\"\",Dados!E775)","v":""},{"$f":"IF(Dados!F775=\"\",\"\",Dados!F775)","v":""},{"$f":"IF(Dados!G775=\"\",\"\",Dados!G775)","v":""},{"$error":"#VALUE!"},"",null,{"$error":"#VALUE!"},"",null,{"$error":"#VALUE!"},"",null,{"$error":"#VALUE!"},""]
[null,null,{"$f":"IF(Dados!C776=\"\",\"\",Dados!C776)","v":""},{"$f":"IF(Dados!D776=\"\",\"\",Dados!D776)","v":""},{"$f":"IF(Dados!E776=\"\",\"\",Dados!E776)","v":""},{"$f":"IF(Dados!F776=\"\",\"\",Dados!F776)","v":""},{"$f":"IF(Dados!G776=\"\",\"\",Dados!G776)","v":""},{"$error":"#VALUE!"},"",null,{"$error":"#VALUE!"},"",null,{"$error":"#VALUE!"},"",null,{"$error":"#VALUE!"},""]
[null,null,{"$f":"IF(Dados!C777=\"\",\"\",Dados!C777)","v":""},{"$f":"IF(Dados!D777=\"\",\"\",Dados!D777)","v":""},{"$f":"IF(Dados!E777=\"\",\"\",Dados!E777)","v":""},{"$f":"IF(Dados!F777=\"\",\"\",Dados!F777)","v":""},{"$f":"IF(Dados!G777=\"\",\"\",Dados!G777)","v":""},{"$error":"#VALUE!"},"",null,{"$error":"#VALUE!"},"",null,{"$error":"#VALUE!"},"",null,{"$error":"#VALUE!"},""]
[null,null,{"$f":"IF(Dados!C778=\"\",\"\",Dados!C778)","v":""},{"$f":"IF(Dados!D778=\"\",\"\",Dados!D778)","v":""},{"$f":"IF(Dados!E778=\"\",\"\",Dados!E778)","v":""},{"$f":"IF(Dados!F778=\"\",\"\",Dados!F778)","v":""},{"$f":"IF(Dados!G778=\"\",\"\",Dados!G778)","v":""},{"$error":"#VALUE!"},"",null,{"$error":"#VALUE!"},"",null,{"$error":"#VALUE!"},"",null,{"$error":"#VALUE!"},""]
[null,null,{"$f":"IF(Dados!C779=\"\",\"\",Dados!C779)","v":""},{"$f":"IF(Dados!D779=\"\",\"\",Dados!D779)","v":""},{"$f":"IF(Dados!E779=\"\",\"\",Dados!E779)","v":""},{"$f":"IF(Dados!F779=\"\",\"\",Dados!F779)","v":""},{"$f":"IF(Dados!G779=\"\",\"\",Dados!G779)","v":""},{"$f":"($G779*ChIR*ChEF*ChED)/(ChBW*ChATnc)","v":{"$error":"#VALUE!"}},{"$f":"IFERROR((H779)/(VLOOKUP($F779,intervaloHQ,2,0)),\"\")","v":""},null,{"$f":"($G779*AdIR*AdEF*AdED)/(AdBW*AdATnc)","v":{"$error":"#VALUE!"}},{"$f":"IFERROR((K779)/(VLOOKUP($F779,intervaloHQ,2,0)),\"\")","v":""},null,{"$f":"($G779*ChIR*ChEF*ChED)/(ChBW*ChATc)","v":{"$error":"#VALUE!"}},{"$f":"IFERROR((N779)*(VLOOKUP($F779,intervaloHQ,4,0)),\"\")","v":""},null,{"$f":"($G779*AdIR*AdEF*AdED)/(AdBW*AdATc)","v":{"$error":"#VALUE!"}},{"$f":"IFERROR((Q779)*(VLOOKUP($F779,intervaloHQ,4,0)),\"\")","v":""}]
[null,null,{"$f":"IF(Dados!C780=\"\",\"\",Dados!C780)","v":""},{"$f":"IF(Dados!D780=\"\",\"\",Dados!D780)","v":""},{"$f":"IF(Dados!E780=\"\",\"\",Dados!E780)","v":""},{"$f":"IF(Dados!F780=\"\",\"\",Dados!F780)","v":""},{"$f":"IF(Dados!G780=\"\",\"\",Dados!G780)","v":""},{"$error":"#VALUE!"},"",null,{"$error":"#VALUE!"},"",null,{"$error":"#VALUE!"},"",null,{"$error":"#VALUE!"},""]
[null,{"$f":"B771+1","v":78},{"$f":"IF(Dados!C781=\"\",\"\",Dados!C781)","v":""},{"$f":"IF(Dados!D781=\"\",\"\",Dados!D781)","v":""},{"$f":"IF(Dados!E781=\"\",\"\",Dados!E781)","v":""},{"$f":"IF(Dados!F781=\"\",\"\",Dados!F781)","v":""},{"$f":"IF(Dados!G781=\"\",\"\",Dados!G781)","v":""},{"$error":"#VALUE!"},"",{"$f":"SUM(I781:I790)","v":0},{"$error":"#VALUE!"},"",{"$f":"SUM(L781:L790)","v":0},{"$error":"#VALUE!"},"",{"$f":"SUM(O781:O790)","v":0},{"$error":"#VALUE!"},"",{"$f":"SUM(R781:R790)","v":0}]
[null,null,{"$f":"IF(Dados!C782=\"\",\"\",Dados!C782)","v":""},{"$f":"IF(Dados!D782=\"\",\"\",Dados!D782)","v":""},{"$f":"IF(Dados!E782=\"\",\"\",Dados!E782)","v":""},{"$f":"IF(Dados!F782=\"\",\"\",Dados!F782)","v":""},{"$f":"IF(Dados!G782=\"\",\"\",Dados!G782)","v":""},{"$error":"#VALUE!"},"",null,{"$error":"#VALUE!"},"",null,{"$error":"#VALUE!"},"",null,{"$error":"#VALUE!"},""]
[null,null,{"$f":"IF(Dados!C783=\"\",\"\",Dados!C783)","v":""},{"$f":"IF(Dados!D783=\"\",\"\",Dados!D783)","v":""},{"$f":"IF(Dados!E783=\"\",\"\",Dados!E783)","v":""},{"$f":"IF(Dados!F783=\"\",\"\",Dados!F783)","v":""},{"$f":"IF(Dados!G783=\"\",\"\",Dados!G783)","v":""},{"$error":"#VALUE!"},"",null,{"$error":"#VALUE!"},"",null,{"$error":"#VALUE!"},"",null,{"$error":"#VALUE!"},""]
[null,null,{"$f":"IF(Dados!C784=\"\",\"\",Dados!C784)","v":""},{"$f":"IF(Dados!D784=\"\",\"\",Dados!D784)","v":""},{"$f":"IF(Dados!E784=\"\",\"\",Dados!E784)","v":""},{"$f":"IF(Dados!F784=\"\",\"\",Dados!F784)","v":""},{"$f":"IF(Dados!G784=\"\",\"\",Dados!G784)","v":""},{"$error":"#VALUE!"},"",null,{"$error":"#VALUE!"},"",null,{"$error":"#VALUE!"},"",null,{"$error":"#VALUE!"},""]
[null,null,{"$f":"IF(Dados!C785=\"\",\"\",Dados!C785)","v":""},{"$f":"IF(Dados!D785=\"\",\"\",Dados!D785)","v":""},{"$f":"IF(Dados!E785=\"\",\"\",Dados!E785)","v":""},{"$f":"IF(Dados!F785=\"\",\"\",Dados!F785)","v":""},{"$f":"IF(Dados!G785=\"\",\"\",Dados!G785)","v":""},{"$error":"#VALUE!"},"",null,{"$error":"#VALUE!"},"",null,{"$error":"#VALUE!"},"",null,{"$error":"#VALUE!"},""]
[null,null,{"$f":"IF(Dados!C786=\"\",\"\",Dados!C786)","v":""},{"$f":"IF(Dados!D786=\"\",\"\",Dados!D786)","v":""},{"$f":"IF(Dados!E786=\"\",\"\",Dados!E786)","v":""},{"$f":"IF(Dados!F786=\"\",\"\",Dados!F786)","v":""},{"$f":"IF(Dados!G786=\"\",\"\",Dados!G786)","v":""},{"$error":"#VALUE!"},"",null,{"$error":"#VALUE!"},"",null,{"$error":"#VALUE!"},"",null,{"$error":"#VALUE!"},""]
[null,null,{"$f":"IF(Dados!C787=\"\",\"\",Dados!C787)","v":""},{"$f":"IF(Dados!D787=\"\",\"\",Dados!D787)","v":""},{"$f":"IF(Dados!E787=\"\",\"\",Dados!E787)","v":""},{"$f":"IF(Dados!F787=\"\",\"\",Dados!F787)","v":""},{"$f":"IF(Dados!G787=\"\",\"\",Dados!G787)","v":""},{"$error":"#VALUE!"},"",null,{"$error":"#VALUE!"},"",null,{"$error":"#VALUE!"},"",null,{"$error":"#VALUE!"},""]
[null,null,{"$f":"IF(Dados!C788=\"\",\"\",Dados!C788)","v":""},{"$f":"IF(Dados!D788=\"\",\"\",Dados!D788)","v":""},{"$f":"IF(Dados!E788=\"\",\"\",Dados!E788)","v":""},{"$f":"IF(Dados!F788=\"\",\"\",Dados!F788)","v":""},{"$f":"IF(Dados!G788=\"\",\"\",Dados!G788)","v":""},{"$error":"#VALUE!"},"",null,{"$error":"#VALUE!"},"",null,{"$error":"#VALUE!"},"",null,{"$error":"#VALUE!"},""]
[null,null,{"$f":"IF(Dados!C789=\"\",\"\",Dados!C789)","v":""},{"$f":"IF(Dados!D789=\"\",\"\",Dados!D789)","v":""},{"$f":"IF(Dados!E789=\"\",\"\",Dados!E789)","v":""},{"$f":"IF(Dados!F789=\"\",\"\",Dados!F789)","v":""},{"$f":"IF(Dados!G789=\"\",\"\",Dados!G789)","v":""},{"$error":"#VALUE!"},"",null,{"$error":"#VALUE!"},"",null,{"$error":"#VALUE!"},"",null,{"$error":"#VALUE!"},""]
[null,null,{"$f":"IF(Dados!C790=\"\",\"\",Dados!C790)","v":""},{"$f":"IF(Dados!D790=\"\",\"\",Dados!D790)","v":""},{"$f":"IF(Dados!E790=\"\",\"\",Dados!E790)","v":""},{"$f":"IF(Dados!F790=\"\",\"\",Dados!F790)","v":""},{"$f":"IF(Dados!G790=\"\",\"\",Dados!G790)","v":""},{"$error":"#VALUE!"},"",null,{"$error":"#VALUE!"},"",null,{"$error":"#VALUE!"},"",null,{"$error":"#VALUE!"},""]
[null,{"$f":"B781+1","v":79},{"$f":"IF(Dados!C791=\"\",\"\",Dados!C791)","v":""},{"$f":"IF(Dados!D791=\"\",\"\",Dados!D791)","v":""},{"$f":"IF(Dados!E791=\"\",\"\",Dados!E791)","v":""},{"$f":"IF(Dados!F791=\"\",\"\",Dados!F791)","v":""},{"$f":"IF(Dados!G791=\"\",\"\",Dados!G791)","v":""},{"$error":"#VALUE!"},"",{"$f":"SUM(I791:I800)","v":0},{"$error":"#VALUE!"},"",{"$f":"SUM(L791:L800)","v":0},{"$error":"#VALUE!"},"",{"$f":"SUM(O791:O800)","v":0},{"$error":"#VALUE!"},"",{"$f":"SUM(R791:R800)","v":0}]
[null,null,{"$f":"IF(Dados!C792=\"\",\"\",Dados!C792)","v":""},{"$f":"IF(Dados!D792=\"\",\"\",Dados!D792)","v":""},{"$f":"IF(Dados!E792=\"\",\"\",Dados!E792)","v":""},{"$f":"IF(Dados!F792=\"\",\"\",Dados!F792)","v":""},{"$f":"IF(Dados!G792=\"\",\"\",Dados!G792)","v":""},{"$error":"#VALUE!"},"",null,{"$error":"#VALUE!"},"",null,{"$error":"#VALUE!"},"",null,{"$error":"#VALUE!"},""]
[null,null,{"$f":"IF(Dados!C793=\"\",\"\",Dados!C793)","v":""},{"$f":"IF(Dados!D793=\"\",\"\",Dados!D793)","v":""},{"$f":"IF(Dados!E793=\"\",\"\",Dados!E793)","v":""},{"$f":"IF(Dados!F793=\"\",\"\",Dados!F793)","v":""},{"$f":"IF(Dados!G793=\"\",\"\",Dados!G793)","v":""},{"$error":"#VALUE!"},"",null,{"$error":"#VALUE!"},"",null,{"$error":"#VALUE!"},"",null,{"$error":"#VALUE!"},""]
[null,null,{"$f":"IF(Dados!C794=\"\",\"\",Dados!C794)","v":""},{"$f":"IF(Dados!D794=\"\",\"\",Dados!D794)","v":""},{"$f":"IF(Dados!E794=\"\",\"\",Dados!E794)","v":""},{"$f":"IF(Dados!F794=\"\",\"\",Dados!F794)","v":""},{"$f":"IF(Dados!G794=\"\",\"\",Dados!G794)","v":""},{"$error":"#VALUE!"},"",null,{"$error":"#VALUE!"},"",null,{"$error":"#VALUE!"},"",null,{"$error":"#VALUE!"},""]
[null,null,{"$f":"IF(Dados!C795=\"\",\"\",Dados!C795)","v":""},{"$f":"IF(Dados!D795=\"\",\"\",Dados!D795)","v":""},{"$f":"IF(Dados!E795=\"\",\"\",Dados!E795)","v":""},{"$f":"IF(Dados!F795=\"\",\"\",Dados!F795)","v":""},{"$f":"IF(Dados!G795=\"\",\"\",Dados!G795)","v":""},{"$error":"#VALUE!"},"",null,{"$error":"#VALUE!"},"",null,{"$error":"#VALUE!"},"",null,{"$error":"#VALUE!"},""]
[null,null,{"$f":"IF(Dados!C796=\"\",\"\",Dados!C796)","v":""},{"$f":"IF(Dados!D796=\"\",\"\",Dados!D796)","v":""},{"$f":"IF(Dados!E796=\"\",\"\",Dados!E796)","v":""},{"$f":"IF(Dados!F796=\"\",\"\",Dados!F796)","v":""},{"$f":"IF(Dados!G796=\"\",\"\",Dados!G796)","v":""},{"$error":"#VALUE!"},"",null,{"$error":"#VALUE!"},"",null,{"$error":"#VALUE!"},"",null,{"$error":"#VALUE!"},""]
[null,null,{"$f":"IF(Dados!C797=\"\",\"\",Dados!C797)","v":""},{"$f":"IF(Dados!D797=\"\",\"\",Dados!D797)","v":""},{"$f":"IF(Dados!E797=\"\",\"\",Dados!E797)","v":""},{"$f":"IF(Dados!F797=\"\",\"\",Dados!F797)","v":""},{"$f":"IF(Dados!G797=\"\",\"\",Dados!G797)","v":""},{"$error":"#VALUE!"},"",null,{"$error":"#VALUE!"},"",null,{"$error":"#VALUE!"},"",null,{"$error":"#VALUE!"},""]
[null,null,{"$f":"IF(Dados!C798=\"\",\"\",Dados!C798)","v":""},{"$f":"IF(Dados!D798=\"\",\"\",Dados!D798)","v":""},{"$f":"IF(Dados!E798=\"\",\"\",Dados!E798)","v":""},{"$f":"IF(Dados!F798=\"\",\"\",Dados!F798)","v":""},{"$f":"IF(Dados!G798=\"\",\"\",Dados!G798)","v":""},{"$error":"#VALUE!"},"",null,{"$error":"#VALUE!"},"",null,{"$error":"#VALUE!"},"",null,{"$error":"#VALUE!"},""]
[null,null,{"$f":"IF(Dados!C799=\"\",\"\",Dados!C799)","v":""},{"$f":"IF(Dados!D799=\"\",\"\",Dados!D799)","v":""},{"$f":"IF(Dados!E799=\"\",\"\",Dados!E799)","v":""},{"$f":"IF(Dados!F799=\"\",\"\",Dados!F799)","v":""},{"$f":"IF(Dados!G799=\"\",\"\",Dados!G799)","v":""},{"$error":"#VALUE!"},"",null,{"$error":"#VALUE!"},"",null,{"$error":"#VALUE!"},"",null,{"$error":"#VALUE!"},""]
[null,null,{"$f":"IF(Dados!C800=\"\",\"\",Dados!C800)","v":""},{"$f":"IF(Dados!D800=\"\",\"\",Dados!D800)","v":""},{"$f":"IF(Dados!E800=\"\",\"\",Dados!E800)","v":""},{"$f":"IF(Dados!F800=\"\",\"\",Dados!F800)","v":""},{"$f":"IF(Dados!G800=\"\",\"\",Dados!G800)","v":""},{"$error":"#VALUE!"},"",null,{"$error":"#VALUE!"},"",null,{"$error":"#VALUE!"},"",null,{"$error":"#VALUE!"},""]
[null,{"$f":"B791+1","v":80},{"$f":"IF(Dados!C801=\"\",\"\",Dados!C801)","v":""},{"$f":"IF(Dados!D801=\"\",\"\",Dados!D801)","v":""},{"$f":"IF(Dados!E801=\"\",\"\",Dados!E801)","v":""},{"$f":"IF(Dados!F801=\"\",\"\",Dados!F801)","v":""},{"$f":"IF(Dados!G801=\"\",\"\",Dados!G801)","v":""},{"$error":"#VALUE!"},"",{"$f":"SUM(I801:I810)","v":0},{"$error":"#VALUE!"},"",{"$f":"SUM(L801:L810)","v":0},{"$error":"#VALUE!"},"",{"$f":"SUM(O801:O810)","v":0},{"$error":"#VALUE!"},"",{"$f":"SUM(R801:R810)","v":0}]
[null,null,{"$f":"IF(Dados!C802=\"\",\"\",Dados!C802)","v":""},{"$f":"IF(Dados!D802=\"\",\"\",Dados!D802)","v":""},{"$f":"IF(Dados!E802=\"\",\"\",Dados!E802)","v":""},{"$f":"IF(Dados!F802=\"\",\"\",Dados!F802)","v":""},{"$f":"IF(Dados!G802=\"\",\"\",Dados!G802)","v":""},{"$error":"#VALUE!"},"",null,{"$error":"#VALUE!"},"",null,{"$error":"#VALUE!"},"",null,{"$error":"#VALUE!"},""]
[null,null,{"$f":"IF(Dados!C803=\"\",\"\",Dados!C803)","v":""},{"$f":"IF(Dados!D803=\"\",\"\",Dados!D803)","v":""},{"$f":"IF(Dados!E803=\"\",\"\",Dados!E803)","v":""},{"$f":"IF(Dados!F803=\"\",\"\",Dados!F803)","v":""},{"$f":"IF(Dados!G803=\"\",\"\",Dados!G803)","v":""},{"$error":"#VALUE!"},"",null,{"$error":"#VALUE!"},"",null,{"$error":"#VALUE!"},"",null,{"$error":"#VALUE!"},""]
[null,null,{"$f":"IF(Dados!C804=\"\",\"\",Dados!C804)","v":""},{"$f":"IF(Dados!D804=\"\",\"\",Dados!D804)","v":""},{"$f":"IF(Dados!E804=\"\",\"\",Dados!E804)","v":""},{"$f":"IF(Dados!F804=\"\",\"\",Dados!F804)","v":""},{"$f":"IF(Dados!G804=\"\",\"\",Dados!G804)","v":""},{"$error":"#VALUE!"},"",null,{"$error":"#VALUE!"},"",null,{"$error":"#VALUE!"},"",null,{"$error":"#VALUE!"},""]
[null,null,{"$f":"IF(Dados!C805=\"\",\"\",Dados!C805)","v":""},{"$f":"IF(Dados!D805=\"\",\"\",Dados!D805)","v":""},{"$f":"IF(Dados!E805=\"\",\"\",Dados!E805)","v":""},{"$f":"IF(Dados!F805=\"\",\"\",Dados!F805)","v":""},{"$f":"IF(Dados!G805=\"\",\"\",Dados!G805)","v":""},{"$error":"#VALUE!"},"",null,{"$error":"#VALUE!"},"",null,{"$error":"#VALUE!"},"",null,{"$error":"#VALUE!"},""]
[null,null,{"$f":"IF(Dados!C806=\"\",\"\",Dados!C806)","v":""},{"$f":"IF(Dados!D806=\"\",\"\",Dados!D806)","v":""},{"$f":"IF(Dados!E806=\"\",\"\",Dados!E806)","v":""},{"$f":"IF(Dados!F806=\"\",\"\",Dados!F806)","v":""},{"$f":"IF(Dados!G806=\"\",\"\",Dados!G806)","v":""},{"$error":"#VALUE!"},"",null,{"$error":"#VALUE!"},"",null,{"$error":"#VALUE!"},"",null,{"$error":"#VALUE!"},""]
[null,null,{"$f":"IF(Dados!C807=\"\",\"\",Dados!C807)","v":""},{"$f":"IF(Dados!D807=\"\",\"\",Dados!D807)","v":""},{"$f":"IF(Dados!E807=\"\",\"\",Dados!E807)","v":""},{"$f":"IF(Dados!F807=\"\",\"\",Dados!F807)","v":""},{"$f":"IF(Dados!G807=\"\",\"\",Dados!G807)","v":""},{"$error":"#VALUE!"},"",null,{"$error":"#VALUE!"},"",null,{"$error":"#VALUE!"},"",null,{"$error":"#VALUE!"},""]
[null,null,{"$f":"IF(Dados!C808=\"\",\"\",Dados!C808)","v":""},{"$f":"IF(Dados!D808=\"\",\"\",Dados!D808)","v":""},{"$f":"IF(Dados!E808=\"\",\"\",Dados!E808)","v":""},{"$f":"IF(Dados!F808=\"\",\"\",Dados!F808)","v":""},{"$f":"IF(Dados!G808=\"\",\"\",Dados!G808)","v":""},{"$error":"#VALUE!"},"",null,{"$error":"#VALUE!"},"",null,{"$error":"#VALUE!"},"",null,{"$error":"#VALUE!"},""]
[null,null,{"$f":"IF(Dados!C809=\"\",\"\",Dados!C809)","v":""},{"$f":"IF(Dados!D809=\"\",\"\",Dados!D809)","v":""},{"$f":"IF(Dados!E809=\"\",\"\",Dados!E809)","v":""},{"$f":"IF(Dados!F809=\"\",\"\",Dados!F809)","v":""},{"$f":"IF(Dados!G809=\"\",\"\",Dados!G809)","v":""},{"$error":"#VALUE!"},"",null,{"$error":"#VALUE!"},"",null,{"$error":"#VALUE!"},"",null,{"$error":"#VALUE!"},""]
[null,null,{"$f":"IF(Dados!C810=\"\",\"\",Dados!C810)","v":""},{"$f":"IF(Dados!D810=\"\",\"\",Dados!D810)","v":""},{"$f":"IF(Dados!E810=\"\",\"\",Dados!E810)","v":""},{"$f":"IF(Dados!F810=\"\",\"\",Dados!F810)","v":""},{"$f":"IF(Dados!G810=\"\",\"\",Dados!G810)","v":""},{"$error":"#VALUE!"},"",null,{"$error":"#VALUE!"},"",null,{"$error":"#VALUE!"},"",null,{"$error":"#VALUE!"},""]
[null,{"$f":"B801+1","v":81},{"$f":"IF(Dados!C811=\"\",\"\",Dados!C811)","v":""},{"$f":"IF(Dados!D811=\"\",\"\",Dados!D811)","v":""},{"$f":"IF(Dados!E811=\"\",\"\",Dados!E811)","v":""},{"$f":"IF(Dados!F811=\"\",\"\",Dados!F811)","v":""},{"$f":"IF(Dados!G811=\"\",\"\",Dados!G811)","v":""},{"$error":"#VALUE!"},"",{"$f":"SUM(I811:I820)","v":0},{"$error":"#VALUE!"},"",{"$f":"SUM(L811:L820)","v":0},{"$error":"#VALUE!"},"",{"$f":"SUM(O811:O820)","v":0},{"$error":"#VALUE!"},"",{"$f":"SUM(R811:R820)","v":0}]
[null,null,{"$f":"IF(Dados!C812=\"\",\"\",Dados!C812)","v":""},{"$f":"IF(Dados!D812=\"\",\"\",Dados!D812)","v":""},{"$f":"IF(Dados!E812=\"\",\"\",Dados!E812)","v":""},{"$f":"IF(Dados!F812=\"\",\"\",Dados!F812)","v":""},{"$f":"IF(Dados!G812=\"\",\"\",Dados!G812)","v":""},{"$error":"#VALUE!"},"",null,{"$error":"#VALUE!"},"",null,{"$error":"#VALUE!"},"",null,{"$error":"#VALUE!"},""]
[null,null,{"$f":"IF(Dados!C813=\"\",\"\",Dados!C813)","v":""},{"$f":"IF(Dados!D813=\"\",\"\",Dados!D813)","v":""},{"$f":"IF(Dados!E813=\"\",\"\",Dados!E813)","v":""},{"$f":"IF(Dados!F813=\"\",\"\",Dados!F813)","v":""},{"$f":"IF(Dados!G813=\"\",\"\",Dados!G813)","v":""},{"$error":"#VALUE!"},"",null,{"$error":"#VALUE!"},"",null,{"$error":"#VALUE!"},"",null,{"$error":"#VALUE!"},""]
[null,null,{"$f":"IF(Dados!C814=\"\",\"\",Dados!C814)","v":""},{"$f":"IF(Dados!D814=\"\",\"\",Dados!D814)","v":""},{"$f":"IF(Dados!E814=\"\",\"\",Dados!E814)","v":""},{"$f":"IF(Dados!F814=\"\",\"\",Dados!F814)","v":""},{"$f":"IF(Dados!G814=\"\",\"\",Dados!G814)","v":""},{"$error":"#VALUE!"},"",null,{"$error":"#VALUE!"},"",null,{"$error":"#VALUE!"},"",null,{"$error":"#VALUE!"},""]
[null,null,{"$f":"IF(Dados!C815=\"\",\"\",Dados!C815)","v":""},{"$f":"IF(Dados!D815=\"\",\"\",Dados!D815)","v":""},{"$f":"IF(Dados!E815=\"\",\"\",Dados!E815)","v":""},{"$f":"IF(Dados!F815=\"\",\"\",Dados!F815)","v":""},{"$f":"IF(Dados!G815=\"\",\"\",Dados!G815)","v":""},{"$error":"#VALUE!"},"",null,{"$error":"#VALUE!"},"",null,{"$error":"#VALUE!"},"",null,{"$error":"#VALUE!"},""]
[null,null,{"$f":"IF(Dados!C816=\"\",\"\",Dados!C816)","v":""},{"$f":"IF(Dados!D816=\"\",\"\",Dados!D816)","v":""},{"$f":"IF(Dados!E816=\"\",\"\",Dados!E816)","v":""},{"$f":"IF(Dados!F816=\"\",\"\",Dados!F816)","v":""},{"$f":"IF(Dados!G816=\"\",\"\",Dados!G816)","v":""},{"$error":"#VALUE!"},"",null,{"$error":"#VALUE!"},"",null,{"$error":"#VALUE!"},"",null,{"$error":"#VALUE!"},""]
[null,null,{"$f":"IF(Dados!C817=\"\",\"\",Dados!C817)","v":""},{"$f":"IF(Dados!D817=\"\",\"\",Dados!D817)","v":""},{"$f":"IF(Dados!E817=\"\",\"\",Dados!E817)","v":""},{"$f":"IF(Dados!F817=\"\",\"\",Dados!F817)","v":""},{"$f":"IF(Dados!G817=\"\",\"\",Dados!G817)","v":""},{"$error":"#VALUE!"},"",null,{"$error":"#VALUE!"},"",null,{"$error":"#VALUE!"},"",null,{"$error":"#VALUE!"},""]
[null,null,{"$f":"IF(Dados!C818=\"\",\"\",Dados!C818)","v":""},{"$f":"IF(Dados!D818=\"\",\"\",Dados!D818)","v":""},{"$f":"IF(Dados!E818=\"\",\"\",Dados!E818)","v":""},{"$f":"IF(Dados!F818=\"\",\"\",Dados!F818)","v":""},{"$f":"IF(Dados!G818=\"\",\"\",Dados!G818)","v":""},{"$error":"#VALUE!"},"",null,{"$error":"#VALUE!"},"",null,{"$error":"#VALUE!"},"",null,{"$error":"#VALUE!"},""]
[null,null,{"$f":"IF(Dados!C819=\"\",\"\",Dados!C819)","v":""},{"$f":"IF(Dados!D819=\"\",\"\",Dados!D819)","v":""},{"$f":"IF(Dados!E819=\"\",\"\",Dados!E819)","v":""},{"$f":"IF(Dados!F819=\"\",\"\",Dados!F819)","v":""},{"$f":"IF(Dados!G819=\"\",\"\",Dados!G819)","v":""},{"$error":"#VALUE!"},"",null,{"$error":"#VALUE!"},"",null,{"$error":"#VALUE!"},"",null,{"$error":"#VALUE!"},""]
[null,null,{"$f":"IF(Dados!C820=\"\",\"\",Dados!C820)","v":""},{"$f":"IF(Dados!D820=\"\",\"\",Dados!D820)","v":""},{"$f":"IF(Dados!E820=\"\",\"\",Dados!E820)","v":""},{"$f":"IF(Dados!F820=\"\",\"\",Dados!F820)","v":""},{"$f":"IF(Dados!G820=\"\",\"\",Dados!G820)","v":""},{"$error":"#VALUE!"},"",null,{"$error":"#VALUE!"},"",null,{"$error":"#VALUE!"},"",null,{"$error":"#VALUE!"},""]
[null,{"$f":"B811+1","v":82},{"$f":"IF(Dados!C821=\"\",\"\",Dados!C821)","v":""},{"$f":"IF(Dados!D821=\"\",\"\",Dados!D821)","v":""},{"$f":"IF(Dados!E821=\"\",\"\",Dados!E821)","v":""},{"$f":"IF(Dados!F821=\"\",\"\",Dados!F821)","v":""},{"$f":"IF(Dados!G821=\"\",\"\",Dados!G821)","v":""},{"$error":"#VALUE!"},"",{"$f":"SUM(I821:I830)","v":0},{"$error":"#VALUE!"},"",{"$f":"SUM(L821:L830)","v":0},{"$error":"#VALUE!"},"",{"$f":"SUM(O821:O830)","v":0},{"$error":"#VALUE!"},"",{"$f":"SUM(R821:R830)","v":0}]
[null,null,{"$f":"IF(Dados!C822=\"\",\"\",Dados!C822)","v":""},{"$f":"IF(Dados!D822=\"\",\"\",Dados!D822)","v":""},{"$f":"IF(Dados!E822=\"\",\"\",Dados!E822)","v":""},{"$f":"IF(Dados!F822=\"\",\"\",Dados!F822)","v":""},{"$f":"IF(Dados!G822=\"\",\"\",Dados!G822)","v":""},{"$error":"#VALUE!"},"",null,{"$error":"#VALUE!"},"",null,{"$error":"#VALUE!"},"",null,{"$error":"#VALUE!"},""]
[null,null,{"$f":"IF(Dados!C823=\"\",\"\",Dados!C823)","v":""},{"$f":"IF(Dados!D823=\"\",\"\",Dados!D823)","v":""},{"$f":"IF(Dados!E823=\"\",\"\",Dados!E823)","v":""},{"$f":"IF(Dados!F823=\"\",\"\",Dados!F823)","v":""},{"$f":"IF(Dados!G823=\"\",\"\",Dados!G823)","v":""},{"$error":"#VALUE!"},"",null,{"$error":"#VALUE!"},"",null,{"$error":"#VALUE!"},"",null,{"$error":"#VALUE!"},""]
[null,null,{"$f":"IF(Dados!C824=\"\",\"\",Dados!C824)","v":""},{"$f":"IF(Dados!D824=\"\",\"\",Dados!D824)","v":""},{"$f":"IF(Dados!E824=\"\",\"\",Dados!E824)","v":""},{"$f":"IF(Dados!F824=\"\",\"\",Dados!F824)","v":""},{"$f":"IF(Dados!G824=\"\",\"\",Dados!G824)","v":""},{"$error":"#VALUE!"},"",null,{"$error":"#VALUE!"},"",null,{"$error":"#VALUE!"},"",null,{"$error":"#VALUE!"},""]
[null,null,{"$f":"IF(Dados!C825=\"\",\"\",Dados!C825)","v":""},{"$f":"IF(Dados!D825=\"\",\"\",Dados!D825)","v":""},{"$f":"IF(Dados!E825=\"\",\"\",Dados!E825)","v":""},{"$f":"IF(Dados!F825=\"\",\"\",Dados!F825)","v":""},{"$f":"IF(Dados!G825=\"\",\"\",Dados!G825)","v":""},{"$error":"#VALUE!"},"",null,{"$error":"#VALUE!"},"",null,{"$error":"#VALUE!"},"",null,{"$error":"#VALUE!"},""]
[null,null,{"$f":"IF(Dados!C826=\"\",\"\",Dados!C826)","v":""},{"$f":"IF(Dados!D826=\"\",\"\",Dados!D826)","v":""},{"$f":"IF(Dados!E826=\"\",\"\",Dados!E826)","v":""},{"$f":"IF(Dados!F826=\"\",\"\",Dados!F826)","v":""},{"$f":"IF(Dados!G826=\"\",\"\",Dados!G826)","v":""},{"$error":"#VALUE!"},"",null,{"$error":"#VALUE!"},"",null,{"$error":"#VALUE!"},"",null,{"$error":"#VALUE!"},""]
[null,null,{"$f":"IF(Dados!C827=\"\",\"\",Dados!C827)","v":""},{"$f":"IF(Dados!D827=\"\",\"\",Dados!D827)","v":""},{"$f":"IF(Dados!E827=\"\",\"\",Dados!E827)","v":""},{"$f":"IF(Dados!F827=\"\",\"\",Dados!F827)","v":""},{"$f":"IF(Dados!G827=\"\",\"\",Dados!G827)","v":""},{"$error":"#VALUE!"},"",null,{"$error":"#VALUE!"},"",null,{"$error":"#VALUE!"},"",null,{"$error":"#VALUE!"},""]
[null,null,{"$f":"IF(Dados!C828=\"\",\"\",Dados!C828)","v":""},{"$f":"IF(Dados!D828=\"\",\"\",Dados!D828)","v":""},{"$f":"IF(Dados!E828=\"\",\"\",Dados!E828)","v":""},{"$f":"IF(Dados!F828=\"\",\"\",Dados!F828)","v":""},{"$f":"IF(Dados!G828=\"\",\"\",Dados!G828)","v":""},{"$error":"#VALUE!"},"",null,{"$error":"#VALUE!"},"",null,{"$error":"#VALUE!"},"",null,{"$error":"#VALUE!"},""]
[null,null,{"$f":"IF(Dados!C829=\"\",\"\",Dados!C829)","v":""},{"$f":"IF(Dados!D829=\"\",\"\",Dados!D829)","v":""},{"$f":"IF(Dados!E829=\"\",\"\",Dados!E829)","v":""},{"$f":"IF(Dados!F829=\"\",\"\",Dados!F829)","v":""},{"$f":"IF(Dados!G829=\"\",\"\",Dados!G829)","v":""},{"$error":"#VALUE!"},"",null,{"$error":"#VALUE!"},"",null,{"$error":"#VALUE!"},"",null,{"$error":"#VALUE!"},""]
[null,null,{"$f":"IF(Dados!C830=\"\",\"\",Dados!C830)","v":""},{"$f":"IF(Dados!D830=\"\",\"\",Dados!D830)","v":""},{"$f":"IF(Dados!E830=\"\",\"\",Dados!E830)","v":""},{"$f":"IF(Dados!F830=\"\",\"\",Dados!F830)","v":""},{"$f":"IF(Dados!G830=\"\",\"\",Dados!G830)","v":""},{"$error":"#VALUE!"},"",null,{"$error":"#VALUE!"},"",null,{"$error":"#VALUE!"},"",null,{"$error":"#VALUE!"},""]
[null,{"$f":"B821+1","v":83},{"$f":"IF(Dados!C831=\"\",\"\",Dados!C831)","v":""},{"$f":"IF(Dados!D831=\"\",\"\",Dados!D831)","v":""},{"$f":"IF(Dados!E831=\"\",\"\",Dados!E831)","v":""},{"$f":"IF(Dados!F831=\"\",\"\",Dados!F831)","v":""},{"$f":"IF(Dados!G831=\"\",\"\",Dados!G831)","v":""},{"$error":"#VALUE!"},"",{"$f":"SUM(I831:I840)","v":0},{"$error":"#VALUE!"},"",{"$f":"SUM(L831:L840)","v":0},{"$error":"#VALUE!"},"",{"$f":"SUM(O831:O840)","v":0},{"$error":"#VALUE!"},"",{"$f":"SUM(R831:R840)","v":0}]
[null,null,{"$f":"IF(Dados!C832=\"\",\"\",Dados!C832)","v":""},{"$f":"IF(Dados!D832=\"\",\"\",Dados!D832)","v":""},{"$f":"IF(Dados!E832=\"\",\"\",Dados!E832)","v":""},{"$f":"IF(Dados!F832=\"\",\"\",Dados!F832)","v":""},{"$f":"IF(Dados!G832=\"\",\"\",Dados!G832)","v":""},{"$error":"#VALUE!"},"",null,{"$error":"#VALUE!"},"",null,{"$error":"#VALUE!"},"",null,{"$error":"#VALUE!"},""]
[null,null,{"$f":"IF(Dados!C833=\"\",\"\",Dados!C833)","v":""},{"$f":"IF(Dados!D833=\"\",\"\",Dados!D833)","v":""},{"$f":"IF(Dados!E833=\"\",\"\",Dados!E833)","v":""},{"$f":"IF(Dados!F833=\"\",\"\",Dados!F833)","v":""},{"$f":"IF(Dados!G833=\"\",\"\",Dados!G833)","v":""},{"$error":"#VALUE!"},"",null,{"$error":"#VALUE!"},"",null,{"$error":"#VALUE!"},"",null,{"$error":"#VALUE!"},""]
[null,null,{"$f":"IF(Dados!C834=\"\",\"\",Dados!C834)","v":""},{"$f":"IF(Dados!D834=\"\",\"\",Dados!D834)","v":""},{"$f":"IF(Dados!E834=\"\",\"\",Dados!E834)","v":""},{"$f":"IF(Dados!F834=\"\",\"\",Dados!F834)","v":""},{"$f":"IF(Dados!G834=\"\",\"\",Dados!G834)","v":""},{"$error":"#VALUE!"},"",null,{"$error":"#VALUE!"},"",null,{"$error":"#VALUE!"},"",null,{"$error":"#VALUE!"},""]
[null,null,{"$f":"IF(Dados!C835=\"\",\"\",Dados!C835)","v":""},{"$f":"IF(Dados!D835=\"\",\"\",Dados!D835)","v":""},{"$f":"IF(Dados!E835=\"\",\"\",Dados!E835)","v":""},{"$f":"IF(Dados!F835=\"\",\"\",Dados!F835)","v":""},{"$f":"IF(Dados!G835=\"\",\"\",Dados!G835)","v":""},{"$error":"#VALUE!"},"",null,{"$error":"#VALUE!"},"",null,{"$error":"#VALUE!"},"",null,{"$error":"#VALUE!"},""]
[null,null,{"$f":"IF(Dados!C836=\"\",\"\",Dados!C836)","v":""},{"$f":"IF(Dados!D836=\"\",\"\",Dados!D836)","v":""},{"$f":"IF(Dados!E836=\"\",\"\",Dados!E836)","v":""},{"$f":"IF(Dados!F836=\"\",\"\",Dados!F836)","v":""},{"$f":"IF(Dados!G836=\"\",\"\",Dados!G836)","v":""},{"$error":"#VALUE!"},"",null,{"$error":"#VALUE!"},"",null,{"$error":"#VALUE!"},"",null,{"$error":"#VALUE!"},""]
[null,null,{"$f":"IF(Dados!C837=\"\",\"\",Dados!C837)","v":""},{"$f":"IF(Dados!D837=\"\",\"\",Dados!D837)","v":""},{"$f":"IF(Dados!E837=\"\",\"\",Dados!E837)","v":""},{"$f":"IF(Dados!F837=\"\",\"\",Dados!F837)","v":""},{"$f":"IF(Dados!G837=\"\",\"\",Dados!G837)","v":""},{"$error":"#VALUE!"},"",null,{"$error":"#VALUE!"},"",null,{"$error":"#VALUE!"},"",null,{"$error":"#VALUE!"},""]
[null,null,{"$f":"IF(Dados!C838=\"\",\"\",Dados!C838)","v":""},{"$f":"IF(Dados!D838=\"\",\"\",Dados!D838)","v":""},{"$f":"IF(Dados!E838=\"\",\"\",Dados!E838)","v":""},{"$f":"IF(Dados!F838=\"\",\"\",Dados!F838)","v":""},{"$f":"IF(Dados!G838=\"\",\"\",Dados!G838)","v":""},{"$error":"#VALUE!"},"",null,{"$error":"#VALUE!"},"",null,{"$error":"#VALUE!"},"",null,{"$error":"#VALUE!"},""]
[null,null,{"$f":"IF(Dados!C839=\"\",\"\",Dados!C839)","v":""},{"$f":"IF(Dados!D839=\"\",\"\",Dados!D839)","v":""},{"$f":"IF(Dados!E839=\"\",\"\",Dados!E839)","v":""},{"$f":"IF(Dados!F839=\"\",\"\",Dados!F839)","v":""},{"$f":"IF(Dados!G839=\"\",\"\",Dados!G839)","v":""},{"$error":"#VALUE!"},"",null,{"$error":"#VALUE!"},"",null,{"$error":"#VALUE!"},"",null,{"$error":"#VALUE!"},""]
[null,null,{"$f":"IF(Dados!C840=\"\",\"\",Dados!C840)","v":""},{"$f":"IF(Dados!D840=\"\",\"\",Dados!D840)","v":""},{"$f":"IF(Dados!E840=\"\",\"\",Dados!E840)","v":""},{"$f":"IF(Dados!F840=\"\",\"\",Dados!F840)","v":""},{"$f":"IF(Dados!G840=\"\",\"\",Dados!G840)","v":""},{"$error":"#VALUE!"},"",null,{"$error":"#VALUE!"},"",null,{"$error":"#VALUE!"},"",null,{"$error":"#VALUE!"},""]
[null,{"$f":"B831+1","v":84},{"$f":"IF(Dados!C841=\"\",\"\",Dados!C841)","v":""},{"$f":"IF(Dados!D841=\"\",\"\",Dados!D841)","v":""},{"$f":"IF(Dados!E841=\"\",\"\",Dados!E841)","v":""},{"$f":"IF(Dados!F841=\"\",\"\",Dados!F841)","v":""},{"$f":"IF(Dados!G841=\"\",\"\",Dados!G841)","v":""},{"$error":"#VALUE!"},"",{"$f":"SUM(I841:I850)","v":0},{"$error":"#VALUE!"},"",{"$f":"SUM(L841:L850)","v":0},{"$error":"#VALUE!"},"",{"$f":"SUM(O841:O850)","v":0},{"$error":"#VALUE!"},"",{"$f":"SUM(R841:R850)","v":0}]
[null,null,{"$f":"IF(Dados!C842=\"\",\"\",Dados!C842)","v":""},{"$f":"IF(Dados!D842=\"\",\"\",Dados!D842)","v":""},{"$f":"IF(Dados!E842=\"\",\"\",Dados!E842)","v":""},{"$f":"IF(Dados!F842=\"\",\"\",Dados!F842)","v":""},{"$f":"IF(Dados!G842=\"\",\"\",Dados!G842)","v":""},{"$error":"#VALUE!"},"",null,{"$error":"#VALUE!"},"",null,{"$error":"#VALUE!"},"",null,{"$error":"#VALUE!"},""]
[null,null,{"$f":"IF(Dados!C843=\"\",\"\",Dados!C843)","v":""},{"$f":"IF(Dados!D843=\"\",\"\",Dados!D843)","v":""},{"$f":"IF(Dados!E843=\"\",\"\",Dados!E843)","v":""},{"$f":"IF(Dados!F843=\"\",\"\",Dados!F843)","v":""},{"$f":"IF(Dados!G843=\"\",\"\",Dados!G843)","v":""},{"$f":"($G843*ChIR*ChEF*ChED)/(ChBW*ChATnc)","v":{"$error":"#VALUE!"}},{"$f":"IFERROR((H843)/(VLOOKUP($F843,intervaloHQ,2,0)),\"\")","v":""},null,{"$f":"($G843*AdIR*AdEF*AdED)/(AdBW*AdATnc)","v":{"$error":"#VALUE!"}},{"$f":"IFERROR((K843)/(VLOOKUP($F843,intervaloHQ,2,0)),\"\")","v":""},null,{"$f":"($G843*ChIR*ChEF*ChED)/(ChBW*ChATc)","v":{"$error":"#VALUE!"}},{"$f":"IFERROR((N843)*(VLOOKUP($F843,intervaloHQ,4,0)),\"\")","v":""},null,{"$f":"($G843*AdIR*AdEF*AdED)/(AdBW*AdATc)","v":{"$error":"#VALUE!"}},{"$f":"IFERROR((Q843)*(VLOOKUP($F843,intervaloHQ,4,0)),\"\")","v":""}]
[null,null,{"$f":"IF(Dados!C844=\"\",\"\",Dados!C844)","v":""},{"$f":"IF(Dados!D844=\"\",\"\",Dados!D844)","v":""},{"$f":"IF(Dados!E844=\"\",\"\",Dados!E844)","v":""},{"$f":"IF(Dados!F844=\"\",\"\",Dados!F844)","v":""},{"$f":"IF(Dados!G844=\"\",\"\",Dados!G844)","v":""},{"$error":"#VALUE!"},"",null,{"$error":"#VALUE!"},"",null,{"$error":"#VALUE!"},"",null,{"$error":"#VALUE!"},""]
[null,null,{"$f":"IF(Dados!C845=\"\",\"\",Dados!C845)","v":""},{"$f":"IF(Dados!D845=\"\",\"\",Dados!D845)","v":""},{"$f":"IF(Dados!E845=\"\",\"\",Dados!E845)","v":""},{"$f":"IF(Dados!F845=\"\",\"\",Dados!F845)","v":""},{"$f":"IF(Dados!G845=\"\",\"\",Dados!G845)","v":""},{"$error":"#VALUE!"},"",null,{"$error":"#VALUE!"},"",null,{"$error":"#VALUE!"},"",null,{"$error":"#VALUE!"},""]
[null,null,{"$f":"IF(Dados!C846=\"\",\"\",Dados!C846)","v":""},{"$f":"IF(Dados!D846=\"\",\"\",Dados!D846)","v":""},{"$f":"IF(Dados!E846=\"\",\"\",Dados!E846)","v":""},{"$f":"IF(Dados!F846=\"\",\"\",Dados!F846)","v":""},{"$f":"IF(Dados!G846=\"\",\"\",Dados!G846)","v":""},{"$error":"#VALUE!"},"",null,{"$error":"#VALUE!"},"",null,{"$error":"#VALUE!"},"",null,{"$error":"#VALUE!"},""]
[null,null,{"$f":"IF(Dados!C847=\"\",\"\",Dados!C847)","v":""},{"$f":"IF(Dados!D847=\"\",\"\",Dados!D847)","v":""},{"$f":"IF(Dados!E847=\"\",\"\",Dados!E847)","v":""},{"$f":"IF(Dados!F847=\"\",\"\",Dados!F847)","v":""},{"$f":"IF(Dados!G847=\"\",\"\",Dados!G847)","v":""},{"$error":"#VALUE!"},"",null,{"$error":"#VALUE!"},"",null,{"$error":"#VALUE!"},"",null,{"$error":"#VALUE!"},""]
[null,null,{"$f":"IF(Dados!C848=\"\",\"\",Dados!C848)","v":""},{"$f":"IF(Dados!D848=\"\",\"\",Dados!D848)","v":""},{"$f":"IF(Dados!E848=\"\",\"\",Dados!E848)","v":""},{"$f":"IF(Dados!F848=\"\",\"\",Dados!F848)","v":""},{"$f":"IF(Dados!G848=\"\",\"\",Dados!G848)","v":""},{"$error":"#VALUE!"},"",null,{"$error":"#VALUE!"},"",null,{"$error":"#VALUE!"},"",null,{"$error":"#VALUE!"},""]
[null,null,{"$f":"IF(Dados!C849=\"\",\"\",Dados!C849)","v":""},{"$f":"IF(Dados!D849=\"\",\"\",Dados!D849)","v":""},{"$f":"IF(Dados!E849=\"\",\"\",Dados!E849)","v":""},{"$f":"IF(Dados!F849=\"\",\"\",Dados!F849)","v":""},{"$f":"IF(Dados!G849=\"\",\"\",Dados!G849)","v":""},{"$error":"#VALUE!"},"",null,{"$error":"#VALUE!"},"",null,{"$error":"#VALUE!"},"",null,{"$error":"#VALUE!"},""]
[null,null,{"$f":"IF(Dados!C850=\"\",\"\",Dados!C850)","v":""},{"$f":"IF(Dados!D850=\"\",\"\",Dados!D850)","v":""},{"$f":"IF(Dados!E850=\"\",\"\",Dados!E850)","v":""},{"$f":"IF(Dados!F850=\"\",\"\",Dados!F850)","v":""},{"$f":"IF(Dados!G850=\"\",\"\",Dados!G850)","v":""},{"$error":"#VALUE!"},"",null,{"$error":"#VALUE!"},"",null,{"$error":"#VALUE!"},"",null,{"$error":"#VALUE!"},""]
[null,{"$f":"B841+1","v":85},{"$f":"IF(Dados!C851=\"\",\"\",Dados!C851)","v":""},{"$f":"IF(Dados!D851=\"\",\"\",Dados!D851)","v":""},{"$f":"IF(Dados!E851=\"\",\"\",Dados!E851)","v":""},{"$f":"IF(Dados!F851=\"\",\"\",Dados!F851)","v":""},{"$f":"IF(Dados!G851=\"\",\"\",Dados!G851)","v":""},{"$error":"#VALUE!"},"",{"$f":"SUM(I851:I860)","v":0},{"$error":"#VALUE!"},"",{"$f":"SUM(L851:L860)","v":0},{"$error":"#VALUE!"},"",{"$f":"SUM(O851:O860)","v":0},{"$error":"#VALUE!"},"",{"$f":"SUM(R851:R860)","v":0}]
[null,null,{"$f":"IF(Dados!C852=\"\",\"\",Dados!C852)","v":""},{"$f":"IF(Dados!D852=\"\",\"\",Dados!D852)","v":""},{"$f":"IF(Dados!E852=\"\",\"\",Dados!E852)","v":""},{"$f":"IF(Dados!F852=\"\",\"\",Dados!F852)","v":""},{"$f":"IF(Dados!G852=\"\",\"\",Dados!G852)","v":""},{"$error":"#VALUE!"},"",null,{"$error":"#VALUE!"},"",null,{"$error":"#VALUE!"},"",null,{"$error":"#VALUE!"},""]
[null,null,{"$f":"IF(Dados!C853=\"\",\"\",Dados!C853)","v":""},{"$f":"IF(Dados!D853=\"\",\"\",Dados!D853)","v":""},{"$f":"IF(Dados!E853=\"\",\"\",Dados!E853)","v":""},{"$f":"IF(Dados!F853=\"\",\"\",Dados!F853)","v":""},{"$f":"IF(Dados!G853=\"\",\"\",Dados!G853)","v":""},{"$error":"#VALUE!"},"",null,{"$error":"#VALUE!"},"",null,{"$error":"#VALUE!"},"",null,{"$error":"#VALUE!"},""]
[null,null,{"$f":"IF(Dados!C854=\"\",\"\",Dados!C854)","v":""},{"$f":"IF(Dados!D854=\"\",\"\",Dados!D854)","v":""},{"$f":"IF(Dados!E854=\"\",\"\",Dados!E854)","v":""},{"$f":"IF(Dados!F854=\"\",\"\",Dados!F854)","v":""},{"$f":"IF(Dados!G854=\"\",\"\",Dados!G854)","v":""},{"$error":"#VALUE!"},"",null,{"$error":"#VALUE!"},"",null,{"$error":"#VALUE!"},"",null,{"$error":"#VALUE!"},""]
[null,null,{"$f":"IF(Dados!C855=\"\",\"\",Dados!C855)","v":""},{"$f":"IF(Dados!D855=\"\",\"\",Dados!D855)","v":""},{"$f":"IF(Dados!E855=\"\",\"\",Dados!E855)","v":""},{"$f":"IF(Dados!F855=\"\",\"\",Dados!F855)","v":""},{"$f":"IF(Dados!G855=\"\",\"\",Dados!G855)","v":""},{"$error":"#VALUE!"},"",null,{"$error":"#VALUE!"},"",null,{"$error":"#VALUE!"},"",null,{"$error":"#VALUE!"},""]
[null,null,{"$f":"IF(Dados!C856=\"\",\"\",Dados!C856)","v":""},{"$f":"IF(Dados!D856=\"\",\"\",Dados!D856)","v":""},{"$f":"IF(Dados!E856=\"\",\"\",Dados!E856)","v":""},{"$f":"IF(Dados!F856=\"\",\"\",Dados!F856)","v":""},{"$f":"IF(Dados!G856=\"\",\"\",Dados!G856)","v":""},{"$error":"#VALUE!"},"",null,{"$error":"#VALUE!"},"",null,{"$error":"#VALUE!"},"",null,{"$error":"#VALUE!"},""]
[null,null,{"$f":"IF(Dados!C857=\"\",\"\",Dados!C857)","v":""},{"$f":"IF(Dados!D857=\"\",\"\",Dados!D857)","v":""},{"$f":"IF(Dados!E857=\"\",\"\",Dados!E857)","v":""},{"$f":"IF(Dados!F857=\"\",\"\",Dados!F857)","v":""},{"$f":"IF(Dados!G857=\"\",\"\",Dados!G857)","v":""},{"$error":"#VALUE!"},"",null,{"$error":"#VALUE!"},"",null,{"$error":"#VALUE!"},"",null,{"$error":"#VALUE!"},""]
[null,null,{"$f":"IF(Dados!C858=\"\",\"\",Dados!C858)","v":""},{"$f":"IF(Dados!D858=\"\",\"\",Dados!D858)","v":""},{"$f":"IF(Dados!E858=\"\",\"\",Dados!E858)","v":""},{"$f":"IF(Dados!F858=\"\",\"\",Dados!F858)","v":""},{"$f":"IF(Dados!G858=\"\",\"\",Dados!G858)","v":""},{"$error":"#VALUE!"},"",null,{"$error":"#VALUE!"},"",null,{"$error":"#VALUE!"},"",null,{"$error":"#VALUE!"},""]
[null,null,{"$f":"IF(Dados!C859=\"\",\"\",Dados!C859)","v":""},{"$f":"IF(Dados!D859=\"\",\"\",Dados!D859)","v":""},{"$f":"IF(Dados!E859=\"\",\"\",Dados!E859)","v":""},{"$f":"IF(Dados!F859=\"\",\"\",Dados!F859)","v":""},{"$f":"IF(Dados!G859=\"\",\"\",Dados!G859)","v":""},{"$error":"#VALUE!"},"",null,{"$error":"#VALUE!"},"",null,{"$error":"#VALUE!"},"",null,{"$error":"#VALUE!"},""]
[null,null,{"$f":"IF(Dados!C860=\"\",\"\",Dados!C860)","v":""},{"$f":"IF(Dados!D860=\"\",\"\",Dados!D860)","v":""},{"$f":"IF(Dados!E860=\"\",\"\",Dados!E860)","v":""},{"$f":"IF(Dados!F860=\"\",\"\",Dados!F860)","v":""},{"$f":"IF(Dados!G860=\"\",\"\",Dados!G860)","v":""},{"$error":"#VALUE!"},"",null,{"$error":"#VALUE!"},"",null,{"$error":"#VALUE!"},"",null,{"$error":"#VALUE!"},""]
[null,{"$f":"B851+1","v":86},{"$f":"IF(Dados!C861=\"\",\"\",Dados!C861)","v":""},{"$f":"IF(Dados!D861=\"\",\"\",Dados!D861)","v":""},{"$f":"IF(Dados!E861=\"\",\"\",Dados!E861)","v":""},{"$f":"IF(Dados!F861=\"\",\"\",Dados!F861)","v":""},{"$f":"IF(Dados!G861=\"\",\"\",Dados!G861)","v":""},{"$error":"#VALUE!"},"",{"$f":"SUM(I861:I870)","v":0},{"$error":"#VALUE!"},"",{"$f":"SUM(L861:L870)","v":0},{"$error":"#VALUE!"},"",{"$f":"SUM(O861:O870)","v":0},{"$error":"#VALUE!"},"",{"$f":"SUM(R861:R870)","v":0}]
[null,null,{"$f":"IF(Dados!C862=\"\",\"\",Dados!C862)","v":""},{"$f":"IF(Dados!D862=\"\",\"\",Dados!D862)","v":""},{"$f":"IF(Dados!E862=\"\",\"\",Dados!E862)","v":""},{"$f":"IF(Dados!F862=\"\",\"\",Dados!F862)","v":""},{"$f":"IF(Dados!G862=\"\",\"\",Dados!G862)","v":""},{"$error":"#VALUE!"},"",null,{"$error":"#VALUE!"},"",null,{"$error":"#VALUE!"},"",null,{"$error":"#VALUE!"},""]
[null,null,{"$f":"IF(Dados!C863=\"\",\"\",Dados!C863)","v":""},{"$f":"IF(Dados!D863=\"\",\"\",Dados!D863)","v":""},{"$f":"IF(Dados!E863=\"\",\"\",Dados!E863)","v":""},{"$f":"IF(Dados!F863=\"\",\"\",Dados!F863)","v":""},{"$f":"IF(Dados!G863=\"\",\"\",Dados!G863)","v":""},{"$error":"#VALUE!"},"",null,{"$error":"#VALUE!"},"",null,{"$error":"#VALUE!"},"",null,{"$error":"#VALUE!"},""]
[null,null,{"$f":"IF(Dados!C864=\"\",\"\",Dados!C864)","v":""},{"$f":"IF(Dados!D864=\"\",\"\",Dados!D864)","v":""},{"$f":"IF(Dados!E864=\"\",\"\",Dados!E864)","v":""},{"$f":"IF(Dados!F864=\"\",\"\",Dados!F864)","v":""},{"$f":"IF(Dados!G864=\"\",\"\",Dados!G864)","v":""},{"$error":"#VALUE!"},"",null,{"$error":"#VALUE!"},"",null,{"$error":"#VALUE!"},"",null,{"$error":"#VALUE!"},""]
[null,null,{"$f":"IF(Dados!C865=\"\",\"\",Dados!C865)","v":""},{"$f":"IF(Dados!D865=\"\",\"\",Dados!D865)","v":""},{"$f":"IF(Dados!E865=\"\",\"\",Dados!E865)","v":""},{"$f":"IF(Dados!F865=\"\",\"\",Dados!F865)","v":""},{"$f":"IF(Dados!G865=\"\",\"\",Dados!G865)","v":""},{"$error":"#VALUE!"},"",null,{"$error":"#VALUE!"},"",null,{"$error":"#VALUE!"},"",null,{"$error":"#VALUE!"},""]
[null,null,{"$f":"IF(Dados!C866=\"\",\"\",Dados!C866)","v":""},{"$f":"IF(Dados!D866=\"\",\"\",Dados!D866)","v":""},{"$f":"IF(Dados!E866=\"\",\"\",Dados!E866)","v":""},{"$f":"IF(Dados!F866=\"\",\"\",Dados!F866)","v":""},{"$f":"IF(Dados!G866=\"\",\"\",Dados!G866)","v":""},{"$error":"#VALUE!"},"",null,{"$error":"#VALUE!"},"",null,{"$error":"#VALUE!"},"",null,{"$error":"#VALUE!"},""]
[null,null,{"$f":"IF(Dados!C867=\"\",\"\",Dados!C867)","v":""},{"$f":"IF(Dados!D867=\"\",\"\",Dados!D867)","v":""},{"$f":"IF(Dados!E867=\"\",\"\",Dados!E867)","v":""},{"$f":"IF(Dados!F867=\"\",\"\",Dados!F867)","v":""},{"$f":"IF(Dados!G867=\"\",\"\",Dados!G867)","v":""},{"$error":"#VALUE!"},"",null,{"$error":"#VALUE!"},"",null,{"$error":"#VALUE!"},"",null,{"$error":"#VALUE!"},""]
[null,null,{"$f":"IF(Dados!C868=\"\",\"\",Dados!C868)","v":""},{"$f":"IF(Dados!D868=\"\",\"\",Dados!D868)","v":""},{"$f":"IF(Dados!E868=\"\",\"\",Dados!E868)","v":""},{"$f":"IF(Dados!F868=\"\",\"\",Dados!F868)","v":""},{"$f":"IF(Dados!G868=\"\",\"\",Dados!G868)","v":""},{"$error":"#VALUE!"},"",null,{"$error":"#VALUE!"},"",null,{"$error":"#VALUE!"},"",null,{"$error":"#VALUE!"},""]
[null,null,{"$f":"IF(Dados!C869=\"\",\"\",Dados!C869)","v":""},{"$f":"IF(Dados!D869=\"\",\"\",Dados!D869)","v":""},{"$f":"IF(Dados!E869=\"\",\"\",Dados!E869)","v":""},{"$f":"IF(Dados!F869=\"\",\"\",Dados!F869)","v":""},{"$f":"IF(Dados!G869=\"\",\"\",Dados!G869)","v":""},{"$error":"#VALUE!"},"",null,{"$error":"#VALUE!"},"",null,{"$error":"#VALUE!"},"",null,{"$error":"#VALUE!"},""]
[null,null,{"$f":"IF(Dados!C870=\"\",\"\",Dados!C870)","v":""},{"$f":"IF(Dados!D870=\"\",\"\",Dados!D870)","v":""},{"$f":"IF(Dados!E870=\"\",\"\",Dados!E870)","v":""},{"$f":"IF(Dados!F870=\"\",\"\",Dados!F870)","v":""},{"$f":"IF(Dados!G870=\"\",\"\",Dados!G870)","v":""},{"$error":"#VALUE!"},"",null,{"$error":"#VALUE!"},"",null,{"$error":"#VALUE!"},"",null,{"$error":"#VALUE!"},""]
[null,{"$f":"B861+1","v":87},{"$f":"IF(Dados!C871=\"\",\"\",Dados!C871)","v":""},{"$f":"IF(Dados!D871=\"\",\"\",Dados!D871)","v":""},{"$f":"IF(Dados!E871=\"\",\"\",Dados!E871)","v":""},{"$f":"IF(Dados!F871=\"\",\"\",Dados!F871)","v":""},{"$f":"IF(Dados!G871=\"\",\"\",Dados!G871)","v":""},{"$error":"#VALUE!"},"",{"$f":"SUM(I871:I880)","v":0},{"$error":"#VALUE!"},"",{"$f":"SUM(L871:L880)","v":0},{"$error":"#VALUE!"},"",{"$f":"SUM(O871:O880)","v":0},{"$error":"#VALUE!"},"",{"$f":"SUM(R871:R880)","v":0}]
[null,null,{"$f":"IF(Dados!C872=\"\",\"\",Dados!C872)","v":""},{"$f":"IF(Dados!D872=\"\",\"\",Dados!D872)","v":""},{"$f":"IF(Dados!E872=\"\",\"\",Dados!E872)","v":""},{"$f":"IF(Dados!F872=\"\",\"\",Dados!F872)","v":""},{"$f":"IF(Dados!G872=\"\",\"\",Dados!G872)","v":""},{"$error":"#VALUE!"},"",null,{"$error":"#VALUE!"},"",null,{"$error":"#VALUE!"},"",null,{"$error":"#VALUE!"},""]
[null,null,{"$f":"IF(Dados!C873=\"\",\"\",Dados!C873)","v":""},{"$f":"IF(Dados!D873=\"\",\"\",Dados!D873)","v":""},{"$f":"IF(Dados!E873=\"\",\"\",Dados!E873)","v":""},{"$f":"IF(Dados!F873=\"\",\"\",Dados!F873)","v":""},{"$f":"IF(Dados!G873=\"\",\"\",Dados!G873)","v":""},{"$error":"#VALUE!"},"",null,{"$error":"#VALUE!"},"",null,{"$error":"#VALUE!"},"",null,{"$error":"#VALUE!"},""]
[null,null,{"$f":"IF(Dados!C874=\"\",\"\",Dados!C874)","v":""},{"$f":"IF(Dados!D874=\"\",\"\",Dados!D874)","v":""},{"$f":"IF(Dados!E874=\"\",\"\",Dados!E874)","v":""},{"$f":"IF(Dados!F874=\"\",\"\",Dados!F874)","v":""},{"$f":"IF(Dados!G874=\"\",\"\",Dados!G874)","v":""},{"$error":"#VALUE!"},"",null,{"$error":"#VALUE!"},"",null,{"$error":"#VALUE!"},"",null,{"$error":"#VALUE!"},""]
[null,null,{"$f":"IF(Dados!C875=\"\",\"\",Dados!C875)","v":""},{"$f":"IF(Dados!D875=\"\",\"\",Dados!D875)","v":""},{"$f":"IF(Dados!E875=\"\",\"\",Dados!E875)","v":""},{"$f":"IF(Dados!F875=\"\",\"\",Dados!F875)","v":""},{"$f":"IF(Dados!G875=\"\",\"\",Dados!G875)","v":""},{"$error":"#VALUE!"},"",null,{"$error":"#VALUE!"},"",null,{"$error":"#VALUE!"},"",null,{"$error":"#VALUE!"},""]
[null,null,{"$f":"IF(Dados!C876=\"\",\"\",Dados!C876)","v":""},{"$f":"IF(Dados!D876=\"\",\"\",Dados!D876)","v":""},{"$f":"IF(Dados!E876=\"\",\"\",Dados!E876)","v":""},{"$f":"IF(Dados!F876=\"\",\"\",Dados!F876)","v":""},{"$f":"IF(Dados!G876=\"\",\"\",Dados!G876)","v":""},{"$error":"#VALUE!"},"",null,{"$error":"#VALUE!"},"",null,{"$error":"#VALUE!"},"",null,{"$error":"#VALUE!"},""]
[null,null,{"$f":"IF(Dados!C877=\"\",\"\",Dados!C877)","v":""},{"$f":"IF(Dados!D877=\"\",\"\",Dados!D877)","v":""},{"$f":"IF(Dados!E877=\"\",\"\",Dados!E877)","v":""},{"$f":"IF(Dados!F877=\"\",\"\",Dados!F877)","v":""},{"$f":"IF(Dados!G877=\"\",\"\",Dados!G877)","v":""},{"$error":"#VALUE!"},"",null,{"$error":"#VALUE!"},"",null,{"$error":"#VALUE!"},"",null,{"$error":"#VALUE!"},""]
[null,null,{"$f":"IF(Dados!C878=\"\",\"\",Dados!C878)","v":""},{"$f":"IF(Dados!D878=\"\",\"\",Dados!D878)","v":""},{"$f":"IF(Dados!E878=\"\",\"\",Dados!E878)","v":""},{"$f":"IF(Dados!F878=\"\",\"\",Dados!F878)","v":""},{"$f":"IF(Dados!G878=\"\",\"\",Dados!G878)","v":""},{"$error":"#VALUE!"},"",null,{"$error":"#VALUE!"},"",null,{"$error":"#VALUE!"},"",null,{"$error":"#VALUE!"},""]
[null,null,{"$f":"IF(Dados!C879=\"\",\"\",Dados!C879)","v":""},{"$f":"IF(Dados!D879=\"\",\"\",Dados!D879)","v":""},{"$f":"IF(Dados!E879=\"\",\"\",Dados!E879)","v":""},{"$f":"IF(Dados!F879=\"\",\"\",Dados!F879)","v":""},{"$f":"IF(Dados!G879=\"\",\"\",Dados!G879)","v":""},{"$error":"#VALUE!"},"",null,{"$error":"#VALUE!"},"",null,{"$error":"#VALUE!"},"",null,{"$error":"#VALUE!"},""]
[null,null,{"$f":"IF(Dados!C880=\"\",\"\",Dados!C880)","v":""},{"$f":"IF(Dados!D880=\"\",\"\",Dados!D880)","v":""},{"$f":"IF(Dados!E880=\"\",\"\",Dados!E880)","v":""},{"$f":"IF(Dados!F880=\"\",\"\",Dados!F880)","v":""},{"$f":"IF(Dados!G880=\"\",\"\",Dados!G880)","v":""},{"$error":"#VALUE!"},"",null,{"$error":"#VALUE!"},"",null,{"$error":"#VALUE!"},"",null,{"$error":"#VALUE!"},""]
[null,{"$f":"B871+1","v":88},{"$f":"IF(Dados!C881=\"\",\"\",Dados!C881)","v":""},{"$f":"IF(Dados!D881=\"\",\"\",Dados!D881)","v":""},{"$f":"IF(Dados!E881=\"\",\"\",Dados!E881)","v":""},{"$f":"IF(Dados!F881=\"\",\"\",Dados!F881)","v":""},{"$f":"IF(Dados!G881=\"\",\"\",Dados!G881)","v":""},{"$error":"#VALUE!"},"",{"$f":"SUM(I881:I890)","v":0},{"$error":"#VALUE!"},"",{"$f":"SUM(L881:L890)","v":0},{"$error":"#VALUE!"},"",{"$f":"SUM(O881:O890)","v":0},{"$error":"#VALUE!"},"",{"$f":"SUM(R881:R890)","v":0}]
[null,null,{"$f":"IF(Dados!C882=\"\",\"\",Dados!C882)","v":""},{"$f":"IF(Dados!D882=\"\",\"\",Dados!D882)","v":""},{"$f":"IF(Dados!E882=\"\",\"\",Dados!E882)","v":""},{"$f":"IF(Dados!F882=\"\",\"\",Dados!F882)","v":""},{"$f":"IF(Dados!G882=\"\",\"\",Dados!G882)","v":""},{"$error":"#VALUE!"},"",null,{"$error":"#VALUE!"},"",null,{"$error":"#VALUE!"},"",null,{"$error":"#VALUE!"},""]
[null,null,{"$f":"IF(Dados!C883=\"\",\"\",Dados!C883)","v":""},{"$f":"IF(Dados!D883=\"\",\"\",Dados!D883)","v":""},{"$f":"IF(Dados!E883=\"\",\"\",Dados!E883)","v":""},{"$f":"IF(Dados!F883=\"\",\"\",Dados!F883)","v":""},{"$f":"IF(Dados!G883=\"\",\"\",Dados!G883)","v":""},{"$error":"#VALUE!"},"",null,{"$error":"#VALUE!"},"",null,{"$error":"#VALUE!"},"",null,{"$error":"#VALUE!"},""]
[null,null,{"$f":"IF(Dados!C884=\"\",\"\",Dados!C884)","v":""},{"$f":"IF(Dados!D884=\"\",\"\",Dados!D884)","v":""},{"$f":"IF(Dados!E884=\"\",\"\",Dados!E884)","v":""},{"$f":"IF(Dados!F884=\"\",\"\",Dados!F884)","v":""},{"$f":"IF(Dados!G884=\"\",\"\",Dados!G884)","v":""},{"$error":"#VALUE!"},"",null,{"$error":"#VALUE!"},"",null,{"$error":"#VALUE!"},"",null,{"$error":"#VALUE!"},""]
[null,null,{"$f":"IF(Dados!C885=\"\",\"\",Dados!C885)","v":""},{"$f":"IF(Dados!D885=\"\",\"\",Dados!D885)","v":""},{"$f":"IF(Dados!E885=\"\",\"\",Dados!E885)","v":""},{"$f":"IF(Dados!F885=\"\",\"\",Dados!F885)","v":""},{"$f":"IF(Dados!G885=\"\",\"\",Dados!G885)","v":""},{"$error":"#VALUE!"},"",null,{"$error":"#VALUE!"},"",null,{"$error":"#VALUE!"},"",null,{"$error":"#VALUE!"},""]
[null,null,{"$f":"IF(Dados!C886=\"\",\"\",Dados!C886)","v":""},{"$f":"IF(Dados!D886=\"\",\"\",Dados!D886)","v":""},{"$f":"IF(Dados!E886=\"\",\"\",Dados!E886)","v":""},{"$f":"IF(Dados!F886=\"\",\"\",Dados!F886)","v":""},{"$f":"IF(Dados!G886=\"\",\"\",Dados!G886)","v":""},{"$error":"#VALUE!"},"",null,{"$error":"#VALUE!"},"",null,{"$error":"#VALUE!"},"",null,{"$error":"#VALUE!"},""]
[null,null,{"$f":"IF(Dados!C887=\"\",\"\",Dados!C887)","v":""},{"$f":"IF(Dados!D887=\"\",\"\",Dados!D887)","v":""},{"$f":"IF(Dados!E887=\"\",\"\",Dados!E887)","v":""},{"$f":"IF(Dados!F887=\"\",\"\",Dados!F887)","v":""},{"$f":"IF(Dados!G887=\"\",\"\",Dados!G887)","v":""},{"$error":"#VALUE!"},"",null,{"$error":"#VALUE!"},"",null,{"$error":"#VALUE!"},"",null,{"$error":"#VALUE!"},""]
[null,null,{"$f":"IF(Dados!C888=\"\",\"\",Dados!C888)","v":""},{"$f":"IF(Dados!D888=\"\",\"\",Dados!D888)","v":""},{"$f":"IF(Dados!E888=\"\",\"\",Dados!E888)","v":""},{"$f":"IF(Dados!F888=\"\",\"\",Dados!F888)","v":""},{"$f":"IF(Dados!G888=\"\",\"\",Dados!G888)","v":""},{"$error":"#VALUE!"},"",null,{"$error":"#VALUE!"},"",null,{"$error":"#VALUE!"},"",null,{"$error":"#VALUE!"},""]
[null,null,{"$f":"IF(Dados!C889=\"\",\"\",Dados!C889)","v":""},{"$f":"IF(Dados!D889=\"\",\"\",Dados!D889)","v":""},{"$f":"IF(Dados!E889=\"\",\"\",Dados!E889)","v":""},{"$f":"IF(Dados!F889=\"\",\"\",Dados!F889)","v":""},{"$f":"IF(Dados!G889=\"\",\"\",Dados!G889)","v":""},{"$error":"#VALUE!"},"",null,{"$error":"#VALUE!"},"",null,{"$error":"#VALUE!"},"",null,{"$error":"#VALUE!"},""]
[null,null,{"$f":"IF(Dados!C890=\"\",\"\",Dados!C890)","v":""},{"$f":"IF(Dados!D890=\"\",\"\",Dados!D890)","v":""},{"$f":"IF(Dados!E890=\"\",\"\",Dados!E890)","v":""},{"$f":"IF(Dados!F890=\"\",\"\",Dados!F890)","v":""},{"$f":"IF(Dados!G890=\"\",\"\",Dados!G890)","v":""},{"$error":"#VALUE!"},"",null,{"$error":"#VALUE!"},"",null,{"$error":"#VALUE!"},"",null,{"$error":"#VALUE!"},""]
[null,{"$f":"B881+1","v":89},{"$f":"IF(Dados!C891=\"\",\"\",Dados!C891)","v":""},{"$f":"IF(Dados!D891=\"\",\"\",Dados!D891)","v":""},{"$f":"IF(Dados!E891=\"\",\"\",Dados!E891)","v":""},{"$f":"IF(Dados!F891=\"\",\"\",Dados!F891)","v":""},{"$f":"IF(Dados!G891=\"\",\"\",Dados!G891)","v":""},{"$error":"#VALUE!"},"",{"$f":"SUM(I891:I900)","v":0},{"$error":"#VALUE!"},"",{"$f":"SUM(L891:L900)","v":0},{"$error":"#VALUE!"},"",{"$f":"SUM(O891:O900)","v":0},{"$error":"#VALUE!"},"",{"$f":"SUM(R891:R900)","v":0}]
[null,null,{"$f":"IF(Dados!C892=\"\",\"\",Dados!C892)","v":""},{"$f":"IF(Dados!D892=\"\",\"\",Dados!D892)","v":""},{"$f":"IF(Dados!E892=\"\",\"\",Dados!E892)","v":""},{"$f":"IF(Dados!F892=\"\",\"\",Dados!F892)","v":""},{"$f":"IF(Dados!G892=\"\",\"\",Dados!G892)","v":""},{"$error":"#VALUE!"},"",null,{"$error":"#VALUE!"},"",null,{"$error":"#VALUE!"},"",null,{"$error":"#VALUE!"},""]
[null,null,{"$f":"IF(Dados!C893=\"\",\"\",Dados!C893)","v":""},{"$f":"IF(Dados!D893=\"\",\"\",Dados!D893)","v":""},{"$f":"IF(Dados!E893=\"\",\"\",Dados!E893)","v":""},{"$f":"IF(Dados!F893=\"\",\"\",Dados!F893)","v":""},{"$f":"IF(Dados!G893=\"\",\"\",Dados!G893)","v":""},{"$error":"#VALUE!"},"",null,{"$error":"#VALUE!"},"",null,{"$error":"#VALUE!"},"",null,{"$error":"#VALUE!"},""]
[null,null,{"$f":"IF(Dados!C894=\"\",\"\",Dados!C894)","v":""},{"$f":"IF(Dados!D894=\"\",\"\",Dados!D894)","v":""},{"$f":"IF(Dados!E894=\"\",\"\",Dados!E894)","v":""},{"$f":"IF(Dados!F894=\"\",\"\",Dados!F894)","v":""},{"$f":"IF(Dados!G894=\"\",\"\",Dados!G894)","v":""},{"$error":"#VALUE!"},"",null,{"$error":"#VALUE!"},"",null,{"$error":"#VALUE!"},"",null,{"$error":"#VALUE!"},""]
[null,null,{"$f":"IF(Dados!C895=\"\",\"\",Dados!C895)","v":""},{"$f":"IF(Dados!D895=\"\",\"\",Dados!D895)","v":""},{"$f":"IF(Dados!E895=\"\",\"\",Dados!E895)","v":""},{"$f":"IF(Dados!F895=\"\",\"\",Dados!F895)","v":""},{"$f":"IF(Dados!G895=\"\",\"\",Dados!G895)","v":""},{"$error":"#VALUE!"},"",null,{"$error":"#VALUE!"},"",null,{"$error":"#VALUE!"},"",null,{"$error":"#VALUE!"},""]
[null,null,{"$f":"IF(Dados!C896=\"\",\"\",Dados!C896)","v":""},{"$f":"IF(Dados!D896=\"\",\"\",Dados!D896)","v":""},{"$f":"IF(Dados!E896=\"\",\"\",Dados!E896)","v":""},{"$f":"IF(Dados!F896=\"\",\"\",Dados!F896)","v":""},{"$f":"IF(Dados!G896=\"\",\"\",Dados!G896)","v":""},{"$error":"#VALUE!"},"",null,{"$error":"#VALUE!"},"",null,{"$error":"#VALUE!"},"",null,{"$error":"#VALUE!"},""]
[null,null,{"$f":"IF(Dados!C897=\"\",\"\",Dados!C897)","v":""},{"$f":"IF(Dados!D897=\"\",\"\",Dados!D897)","v":""},{"$f":"IF(Dados!E897=\"\",\"\",Dados!E897)","v":""},{"$f":"IF(Dados!F897=\"\",\"\",Dados!F897)","v":""},{"$f":"IF(Dados!G897=\"\",\"\",Dados!G897)","v":""},{"$error":"#VALUE!"},"",null,{"$error":"#VALUE!"},"",null,{"$error":"#VALUE!"},"",null,{"$error":"#VALUE!"},""]
[null,null,{"$f":"IF(Dados!C898=\"\",\"\",Dados!C898)","v":""},{"$f":"IF(Dados!D898=\"\",\"\",Dados!D898)","v":""},{"$f":"IF(Dados!E898=\"\",\"\",Dados!E898)","v":""},{"$f":"IF(Dados!F898=\"\",\"\",Dados!F898)","v":""},{"$f":"IF(Dados!G898=\"\",\"\",Dados!G898)","v":""},{"$error":"#VALUE!"},"",null,{"$error":"#VALUE!"},"",null,{"$error":"#VALUE!"},"",null,{"$error":"#VALUE!"},""]
[null,null,{"$f":"IF(Dados!C899=\"\",\"\",Dados!C899)","v":""},{"$f":"IF(Dados!D899=\"\",\"\",Dados!D899)","v":""},{"$f":"IF(Dados!E899=\"\",\"\",Dados!E899)","v":""},{"$f":"IF(Dados!F899=\"\",\"\",Dados!F899)","v":""},{"$f":"IF(Dados!G899=\"\",\"\",Dados!G899)","v":""},{"$error":"#VALUE!"},"",null,{"$error":"#VALUE!"},"",null,{"$error":"#VALUE!"},"",null,{"$error":"#VALUE!"},""]
[null,null,{"$f":"IF(Dados!C900=\"\",\"\",Dados!C900)","v":""},{"$f":"IF(Dados!D900=\"\",\"\",Dados!D900)","v":""},{"$f":"IF(Dados!E900=\"\",\"\",Dados!E900)","v":""},{"$f":"IF(Dados!F900=\"\",\"\",Dados!F900)","v":""},{"$f":"IF(Dados!G900=\"\",\"\",Dados!G900)","v":""},{"$error":"#VALUE!"},"",null,{"$error":"#VALUE!"},"",null,{"$error":"#VALUE!"},"",null,{"$error":"#VALUE!"},""]
[null,{"$f":"B891+1","v":90},{"$f":"IF(Dados!C901=\"\",\"\",Dados!C901)","v":""},{"$f":"IF(Dados!D901=\"\",\"\",Dados!D901)","v":""},{"$f":"IF(Dados!E901=\"\",\"\",Dados!E901)","v":""},{"$f":"IF(Dados!F901=\"\",\"\",Dados!F901)","v":""},{"$f":"IF(Dados!G901=\"\",\"\",Dados!G901)","v":""},{"$error":"#VALUE!"},"",{"$f":"SUM(I901:I910)","v":0},{"$error":"#VALUE!"},"",{"$f":"SUM(L901:L910)","v":0},{"$error":"#VALUE!"},"",{"$f":"SUM(O901:O910)","v":0},{"$error":"#VALUE!"},"",{"$f":"SUM(R901:R910)","v":0}]
[null,null,{"$f":"IF(Dados!C902=\"\",\"\",Dados!C902)","v":""},{"$f":"IF(Dados!D902=\"\",\"\",Dados!D902)","v":""},{"$f":"IF(Dados!E902=\"\",\"\",Dados!E902)","v":""},{"$f":"IF(Dados!F902=\"\",\"\",Dados!F902)","v":""},{"$f":"IF(Dados!G902=\"\",\"\",Dados!G902)","v":""},{"$error":"#VALUE!"},"",null,{"$error":"#VALUE!"},"",null,{"$error":"#VALUE!"},"",null,{"$error":"#VALUE!"},""]
[null,null,{"$f":"IF(Dados!C903=\"\",\"\",Dados!C903)","v":""},{"$f":"IF(Dados!D903=\"\",\"\",Dados!D903)","v":""},{"$f":"IF(Dados!E903=\"\",\"\",Dados!E903)","v":""},{"$f":"IF(Dados!F903=\"\",\"\",Dados!F903)","v":""},{"$f":"IF(Dados!G903=\"\",\"\",Dados!G903)","v":""},{"$error":"#VALUE!"},"",null,{"$error":"#VALUE!"},"",null,{"$error":"#VALUE!"},"",null,{"$error":"#VALUE!"},""]
[null,null,{"$f":"IF(Dados!C904=\"\",\"\",Dados!C904)","v":""},{"$f":"IF(Dados!D904=\"\",\"\",Dados!D904)","v":""},{"$f":"IF(Dados!E904=\"\",\"\",Dados!E904)","v":""},{"$f":"IF(Dados!F904=\"\",\"\",Dados!F904)","v":""},{"$f":"IF(Dados!G904=\"\",\"\",Dados!G904)","v":""},{"$error":"#VALUE!"},"",null,{"$error":"#VALUE!"},"",null,{"$error":"#VALUE!"},"",null,{"$error":"#VALUE!"},""]
[null,null,{"$f":"IF(Dados!C905=\"\",\"\",Dados!C905)","v":""},{"$f":"IF(Dados!D905=\"\",\"\",Dados!D905)","v":""},{"$f":"IF(Dados!E905=\"\",\"\",Dados!E905)","v":""},{"$f":"IF(Dados!F905=\"\",\"\",Dados!F905)","v":""},{"$f":"IF(Dados!G905=\"\",\"\",Dados!G905)","v":""},{"$error":"#VALUE!"},"",null,{"$error":"#VALUE!"},"",null,{"$error":"#VALUE!"},"",null,{"$error":"#VALUE!"},""]
[null,null,{"$f":"IF(Dados!C906=\"\",\"\",Dados!C906)","v":""},{"$f":"IF(Dados!D906=\"\",\"\",Dados!D906)","v":""},{"$f":"IF(Dados!E906=\"\",\"\",Dados!E906)","v":""},{"$f":"IF(Dados!F906=\"\",\"\",Dados!F906)","v":""},{"$f":"IF(Dados!G906=\"\",\"\",Dados!G906)","v":""},{"$error":"#VALUE!"},"",null,{"$error":"#VALUE!"},"",null,{"$error":"#VALUE!"},"",null,{"$error":"#VALUE!"},""]
[null,null,{"$f":"IF(Dados!C907=\"\",\"\",Dados!C907)","v":""},{"$f":"IF(Dados!D907=\"\",\"\",Dados!D907)","v":""},{"$f":"IF(Dados!E907=\"\",\"\",Dados!E907)","v":""},{"$f":"IF(Dados!F907=\"\",\"\",Dados!F907)","v":""},{"$f":"IF(Dados!G907=\"\",\"\",Dados!G907)","v":""},{"$f":"($G907*ChIR*ChEF*ChED)/(ChBW*ChATnc)","v":{"$error":"#VALUE!"}},{"$f":"IFERROR((H907)/(VLOOKUP($F907,intervaloHQ,2,0)),\"\")","v":""},null,{"$f":"($G907*AdIR*AdEF*AdED)/(AdBW*AdATnc)","v":{"$error":"#VALUE!"}},{"$f":"IFERROR((K907)/(VLOOKUP($F907,intervaloHQ,2,0)),\"\")","v":""},null,{"$f":"($G907*ChIR*ChEF*ChED)/(ChBW*ChATc)","v":{"$error":"#VALUE!"}},{"$f":"IFERROR((N907)*(VLOOKUP($F907,intervaloHQ,4,0)),\"\")","v":""},null,{"$f":"($G907*AdIR*AdEF*AdED)/(AdBW*AdATc)","v":{"$error":"#VALUE!"}},{"$f":"IFERROR((Q907)*(VLOOKUP($F907,intervaloHQ,4,0)),\"\")","v":""}]
[null,null,{"$f":"IF(Dados!C908=\"\",\"\",Dados!C908)","v":""},{"$f":"IF(Dados!D908=\"\",\"\",Dados!D908)","v":""},{"$f":"IF(Dados!E908=\"\",\"\",Dados!E908)","v":""},{"$f":"IF(Dados!F908=\"\",\"\",Dados!F908)","v":""},{"$f":"IF(Dados!G908=\"\",\"\",Dados!G908)","v":""},{"$error":"#VALUE!"},"",null,{"$error":"#VALUE!"},"",null,{"$error":"#VALUE!"},"",null,{"$error":"#VALUE!"},""]
[null,null,{"$f":"IF(Dados!C909=\"\",\"\",Dados!C909)","v":""},{"$f":"IF(Dados!D909=\"\",\"\",Dados!D909)","v":""},{"$f":"IF(Dados!E909=\"\",\"\",Dados!E909)","v":""},{"$f":"IF(Dados!F909=\"\",\"\",Dados!F909)","v":""},{"$f":"IF(Dados!G909=\"\",\"\",Dados!G909)","v":""},{"$error":"#VALUE!"},"",null,{"$error":"#VALUE!"},"",null,{"$error":"#VALUE!"},"",null,{"$error":"#VALUE!"},""]
[null,null,{"$f":"IF(Dados!C910=\"\",\"\",Dados!C910)","v":""},{"$f":"IF(Dados!D910=\"\",\"\",Dados!D910)","v":""},{"$f":"IF(Dados!E910=\"\",\"\",Dados!E910)","v":""},{"$f":"IF(Dados!F910=\"\",\"\",Dados!F910)","v":""},{"$f":"IF(Dados!G910=\"\",\"\",Dados!G910)","v":""},{"$error":"#VALUE!"},"",null,{"$error":"#VALUE!"},"",null,{"$error":"#VALUE!"},"",null,{"$error":"#VALUE!"},""]
[null,{"$f":"B901+1","v":91},{"$f":"IF(Dados!C911=\"\",\"\",Dados!C911)","v":""},{"$f":"IF(Dados!D911=\"\",\"\",Dados!D911)","v":""},{"$f":"IF(Dados!E911=\"\",\"\",Dados!E911)","v":""},{"$f":"IF(Dados!F911=\"\",\"\",Dados!F911)","v":""},{"$f":"IF(Dados!G911=\"\",\"\",Dados!G911)","v":""},{"$error":"#VALUE!"},"",{"$f":"SUM(I911:I920)","v":0},{"$error":"#VALUE!"},"",{"$f":"SUM(L911:L920)","v":0},{"$error":"#VALUE!"},"",{"$f":"SUM(O911:O920)","v":0},{"$error":"#VALUE!"},"",{"$f":"SUM(R911:R920)","v":0}]
[null,null,{"$f":"IF(Dados!C912=\"\",\"\",Dados!C912)","v":""},{"$f":"IF(Dados!D912=\"\",\"\",Dados!D912)","v":""},{"$f":"IF(Dados!E912=\"\",\"\",Dados!E912)","v":""},{"$f":"IF(Dados!F912=\"\",\"\",Dados!F912)","v":""},{"$f":"IF(Dados!G912=\"\",\"\",Dados!G912)","v":""},{"$error":"#VALUE!"},"",null,{"$error":"#VALUE!"},"",null,{"$error":"#VALUE!"},"",null,{"$error":"#VALUE!"},""]
[null,null,{"$f":"IF(Dados!C913=\"\",\"\",Dados!C913)","v":""},{"$f":"IF(Dados!D913=\"\",\"\",Dados!D913)","v":""},{"$f":"IF(Dados!E913=\"\",\"\",Dados!E913)","v":""},{"$f":"IF(Dados!F913=\"\",\"\",Dados!F913)","v":""},{"$f":"IF(Dados!G913=\"\",\"\",Dados!G913)","v":""},{"$error":"#VALUE!"},"",null,{"$error":"#VALUE!"},"",null,{"$error":"#VALUE!"},"",null,{"$error":"#VALUE!"},""]
[null,null,{"$f":"IF(Dados!C914=\"\",\"\",Dados!C914)","v":""},{"$f":"IF(Dados!D914=\"\",\"\",Dados!D914)","v":""},{"$f":"IF(Dados!E914=\"\",\"\",Dados!E914)","v":""},{"$f":"IF(Dados!F914=\"\",\"\",Dados!F914)","v":""},{"$f":"IF(Dados!G914=\"\",\"\",Dados!G914)","v":""},{"$error":"#VALUE!"},"",null,{"$error":"#VALUE!"},"",null,{"$error":"#VALUE!"},"",null,{"$error":"#VALUE!"},""]
[null,null,{"$f":"IF(Dados!C915=\"\",\"\",Dados!C915)","v":""},{"$f":"IF(Dados!D915=\"\",\"\",Dados!D915)","v":""},{"$f":"IF(Dados!E915=\"\",\"\",Dados!E915)","v":""},{"$f":"IF(Dados!F915=\"\",\"\",Dados!F915)","v":""},{"$f":"IF(Dados!G915=\"\",\"\",Dados!G915)","v":""},{"$error":"#VALUE!"},"",null,{"$error":"#VALUE!"},"",null,{"$error":"#VALUE!"},"",null,{"$error":"#VALUE!"},""]
[null,null,{"$f":"IF(Dados!C916=\"\",\"\",Dados!C916)","v":""},{"$f":"IF(Dados!D916=\"\",\"\",Dados!D916)","v":""},{"$f":"IF(Dados!E916=\"\",\"\",Dados!E916)","v":""},{"$f":"IF(Dados!F916=\"\",\"\",Dados!F916)","v":""},{"$f":"IF(Dados!G916=\"\",\"\",Dados!G916)","v":""},{"$error":"#VALUE!"},"",null,{"$error":"#VALUE!"},"",null,{"$error":"#VALUE!"},"",null,{"$error":"#VALUE!"},""]
[null,null,{"$f":"IF(Dados!C917=\"\",\"\",Dados!C917)","v":""},{"$f":"IF(Dados!D917=\"\",\"\",Dados!D917)","v":""},{"$f":"IF(Dados!E917=\"\",\"\",Dados!E917)","v":""},{"$f":"IF(Dados!F917=\"\",\"\",Dados!F917)","v":""},{"$f":"IF(Dados!G917=\"\",\"\",Dados!G917)","v":""},{"$error":"#VALUE!"},"",null,{"$error":"#VALUE!"},"",null,{"$error":"#VALUE!"},"",null,{"$error":"#VALUE!"},""]
[null,null,{"$f":"IF(Dados!C918=\"\",\"\",Dados!C918)","v":""},{"$f":"IF(Dados!D918=\"\",\"\",Dados!D918)","v":""},{"$f":"IF(Dados!E918=\"\",\"\",Dados!E918)","v":""},{"$f":"IF(Dados!F918=\"\",\"\",Dados!F918)","v":""},{"$f":"IF(Dados!G918=\"\",\"\",Dados!G918)","v":""},{"$error":"#VALUE!"},"",null,{"$error":"#VALUE!"},"",null,{"$error":"#VALUE!"},"",null,{"$error":"#VALUE!"},""]
[null,null,{"$f":"IF(Dados!C919=\"\",\"\",Dados!C919)","v":""},{"$f":"IF(Dados!D919=\"\",\"\",Dados!D919)","v":""},{"$f":"IF(Dados!E919=\"\",\"\",Dados!E919)","v":""},{"$f":"IF(Dados!F919=\"\",\"\",Dados!F919)","v":""},{"$f":"IF(Dados!G919=\"\",\"\",Dados!G919)","v":""},{"$error":"#VALUE!"},"",null,{"$error":"#VALUE!"},"",null,{"$error":"#VALUE!"},"",null,{"$error":"#VALUE!"},""]
[null,null,{"$f":"IF(Dados!C920=\"\",\"\",Dados!C920)","v":""},{"$f":"IF(Dados!D920=\"\",\"\",Dados!D920)","v":""},{"$f":"IF(Dados!E920=\"\",\"\",Dados!E920)","v":""},{"$f":"IF(Dados!F920=\"\",\"\",Dados!F920)","v":""},{"$f":"IF(Dados!G920=\"\",\"\",Dados!G920)","v":""},{"$error":"#VALUE!"},"",null,{"$error":"#VALUE!"},"",null,{"$error":"#VALUE!"},"",null,{"$error":"#VALUE!"},""]
[null,{"$f":"B911+1","v":92},{"$f":"IF(Dados!C921=\"\",\"\",Dados!C921)","v":""},{"$f":"IF(Dados!D921=\"\",\"\",Dados!D921)","v":""},{"$f":"IF(Dados!E921=\"\",\"\",Dados!E921)","v":""},{"$f":"IF(Dados!F921=\"\",\"\",Dados!F921)","v":""},{"$f":"IF(Dados!G921=\"\",\"\",Dados!G921)","v":""},{"$error":"#VALUE!"},"",{"$f":"SUM(I921:I930)","v":0},{"$error":"#VALUE!"},"",{"$f":"SUM(L921:L930)","v":0},{"$error":"#VALUE!"},"",{"$f":"SUM(O921:O930)","v":0},{"$error":"#VALUE!"},"",{"$f":"SUM(R921:R930)","v":0}]
[null,null,{"$f":"IF(Dados!C922=\"\",\"\",Dados!C922)","v":""},{"$f":"IF(Dados!D922=\"\",\"\",Dados!D922)","v":""},{"$f":"IF(Dados!E922=\"\",\"\",Dados!E922)","v":""},{"$f":"IF(Dados!F922=\"\",\"\",Dados!F922)","v":""},{"$f":"IF(Dados!G922=\"\",\"\",Dados!G922)","v":""},{"$error":"#VALUE!"},"",null,{"$error":"#VALUE!"},"",null,{"$error":"#VALUE!"},"",null,{"$error":"#VALUE!"},""]
[null,null,{"$f":"IF(Dados!C923=\"\",\"\",Dados!C923)","v":""},{"$f":"IF(Dados!D923=\"\",\"\",Dados!D923)","v":""},{"$f":"IF(Dados!E923=\"\",\"\",Dados!E923)","v":""},{"$f":"IF(Dados!F923=\"\",\"\",Dados!F923)","v":""},{"$f":"IF(Dados!G923=\"\",\"\",Dados!G923)","v":""},{"$error":"#VALUE!"},"",null,{"$error":"#VALUE!"},"",null,{"$error":"#VALUE!"},"",null,{"$error":"#VALUE!"},""]
[null,null,{"$f":"IF(Dados!C924=\"\",\"\",Dados!C924)","v":""},{"$f":"IF(Dados!D924=\"\",\"\",Dados!D924)","v":""},{"$f":"IF(Dados!E924=\"\",\"\",Dados!E924)","v":""},{"$f":"IF(Dados!F924=\"\",\"\",Dados!F924)","v":""},{"$f":"IF(Dados!G924=\"\",\"\",Dados!G924)","v":""},{"$error":"#VALUE!"},"",null,{"$error":"#VALUE!"},"",null,{"$error":"#VALUE!"},"",null,{"$error":"#VALUE!"},""]
[null,null,{"$f":"IF(Dados!C925=\"\",\"\",Dados!C925)","v":""},{"$f":"IF(Dados!D925=\"\",\"\",Dados!D925)","v":""},{"$f":"IF(Dados!E925=\"\",\"\",Dados!E925)","v":""},{"$f":"IF(Dados!F925=\"\",\"\",Dados!F925)","v":""},{"$f":"IF(Dados!G925=\"\",\"\",Dados!G925)","v":""},{"$error":"#VALUE!"},"",null,{"$error":"#VALUE!"},"",null,{"$error":"#VALUE!"},"",null,{"$error":"#VALUE!"},""]
[null,null,{"$f":"IF(Dados!C926=\"\",\"\",Dados!C926)","v":""},{"$f":"IF(Dados!D926=\"\",\"\",Dados!D926)","v":""},{"$f":"IF(Dados!E926=\"\",\"\",Dados!E926)","v":""},{"$f":"IF(Dados!F926=\"\",\"\",Dados!F926)","v":""},{"$f":"IF(Dados!G926=\"\",\"\",Dados!G926)","v":""},{"$error":"#VALUE!"},"",null,{"$error":"#VALUE!"},"",null,{"$error":"#VALUE!"},"",null,{"$error":"#VALUE!"},""]
[null,null,{"$f":"IF(Dados!C927=\"\",\"\",Dados!C927)","v":""},{"$f":"IF(Dados!D927=\"\",\"\",Dados!D927)","v":""},{"$f":"IF(Dados!E927=\"\",\"\",Dados!E927)","v":""},{"$f":"IF(Dados!F927=\"\",\"\",Dados!F927)","v":""},{"$f":"IF(Dados!G927=\"\",\"\",Dados!G927)","v":""},{"$error":"#VALUE!"},"",null,{"$error":"#VALUE!"},"",null,{"$error":"#VALUE!"},"",null,{"$error":"#VALUE!"},""]
[null,null,{"$f":"IF(Dados!C928=\"\",\"\",Dados!C928)","v":""},{"$f":"IF(Dados!D928=\"\",\"\",Dados!D928)","v":""},{"$f":"IF(Dados!E928=\"\",\"\",Dados!E928)","v":""},{"$f":"IF(Dados!F928=\"\",\"\",Dados!F928)","v":""},{"$f":"IF(Dados!G928=\"\",\"\",Dados!G928)","v":""},{"$error":"#VALUE!"},"",null,{"$error":"#VALUE!"},"",null,{"$error":"#VALUE!"},"",null,{"$error":"#VALUE!"},""]
[null,null,{"$f":"IF(Dados!C929=\"\",\"\",Dados!C929)","v":""},{"$f":"IF(Dados!D929=\"\",\"\",Dados!D929)","v":""},{"$f":"IF(Dados!E929=\"\",\"\",Dados!E929)","v":""},{"$f":"IF(Dados!F929=\"\",\"\",Dados!F929)","v":""},{"$f":"IF(Dados!G929=\"\",\"\",Dados!G929)","v":""},{"$error":"#VALUE!"},"",null,{"$error":"#VALUE!"},"",null,{"$error":"#VALUE!"},"",null,{"$error":"#VALUE!"},""]
[null,null,{"$f":"IF(Dados!C930=\"\",\"\",Dados!C930)","v":""},{"$f":"IF(Dados!D930=\"\",\"\",Dados!D930)","v":""},{"$f":"IF(Dados!E930=\"\",\"\",Dados!E930)","v":""},{"$f":"IF(Dados!F930=\"\",\"\",Dados!F930)","v":""},{"$f":"IF(Dados!G930=\"\",\"\",Dados!G930)","v":""},{"$error":"#VALUE!"},"",null,{"$error":"#VALUE!"},"",null,{"$error":"#VALUE!"},"",null,{"$error":"#VALUE!"},""]
[null,{"$f":"B921+1","v":93},{"$f":"IF(Dados!C931=\"\",\"\",Dados!C931)","v":""},{"$f":"IF(Dados!D931=\"\",\"\",Dados!D931)","v":""},{"$f":"IF(Dados!E931=\"\",\"\",Dados!E931)","v":""},{"$f":"IF(Dados!F931=\"\",\"\",Dados!F931)","v":""},{"$f":"IF(Dados!G931=\"\",\"\",Dados!G931)","v":""},{"$error":"#VALUE!"},"",{"$f":"SUM(I931:I940)","v":0},{"$error":"#VALUE!"},"",{"$f":"SUM(L931:L940)","v":0},{"$error":"#VALUE!"},"",{"$f":"SUM(O931:O940)","v":0},{"$error":"#VALUE!"},"",{"$f":"SUM(R931:R940)","v":0}]
[null,null,{"$f":"IF(Dados!C932=\"\",\"\",Dados!C932)","v":""},{"$f":"IF(Dados!D932=\"\",\"\",Dados!D932)","v":""},{"$f":"IF(Dados!E932=\"\",\"\",Dados!E932)","v":""},{"$f":"IF(Dados!F932=\"\",\"\",Dados!F932)","v":""},{"$f":"IF(Dados!G932=\"\",\"\",Dados!G932)","v":""},{"$error":"#VALUE!"},"",null,{"$error":"#VALUE!"},"",null,{"$error":"#VALUE!"},"",null,{"$error":"#VALUE!"},""]
[null,null,{"$f":"IF(Dados!C933=\"\",\"\",Dados!C933)","v":""},{"$f":"IF(Dados!D933=\"\",\"\",Dados!D933)","v":""},{"$f":"IF(Dados!E933=\"\",\"\",Dados!E933)","v":""},{"$f":"IF(Dados!F933=\"\",\"\",Dados!F933)","v":""},{"$f":"IF(Dados!G933=\"\",\"\",Dados!G933)","v":""},{"$error":"#VALUE!"},"",null,{"$error":"#VALUE!"},"",null,{"$error":"#VALUE!"},"",null,{"$error":"#VALUE!"},""]
[null,null,{"$f":"IF(Dados!C934=\"\",\"\",Dados!C934)","v":""},{"$f":"IF(Dados!D934=\"\",\"\",Dados!D934)","v":""},{"$f":"IF(Dados!E934=\"\",\"\",Dados!E934)","v":""},{"$f":"IF(Dados!F934=\"\",\"\",Dados!F934)","v":""},{"$f":"IF(Dados!G934=\"\",\"\",Dados!G934)","v":""},{"$error":"#VALUE!"},"",null,{"$error":"#VALUE!"},"",null,{"$error":"#VALUE!"},"",null,{"$error":"#VALUE!"},""]
[null,null,{"$f":"IF(Dados!C935=\"\",\"\",Dados!C935)","v":""},{"$f":"IF(Dados!D935=\"\",\"\",Dados!D935)","v":""},{"$f":"IF(Dados!E935=\"\",\"\",Dados!E935)","v":""},{"$f":"IF(Dados!F935=\"\",\"\",Dados!F935)","v":""},{"$f":"IF(Dados!G935=\"\",\"\",Dados!G935)","v":""},{"$error":"#VALUE!"},"",null,{"$error":"#VALUE!"},"",null,{"$error":"#VALUE!"},"",null,{"$error":"#VALUE!"},""]
[null,null,{"$f":"IF(Dados!C936=\"\",\"\",Dados!C936)","v":""},{"$f":"IF(Dados!D936=\"\",\"\",Dados!D936)","v":""},{"$f":"IF(Dados!E936=\"\",\"\",Dados!E936)","v":""},{"$f":"IF(Dados!F936=\"\",\"\",Dados!F936)","v":""},{"$f":"IF(Dados!G936=\"\",\"\",Dados!G936)","v":""},{"$error":"#VALUE!"},"",null,{"$error":"#VALUE!"},"",null,{"$error":"#VALUE!"},"",null,{"$error":"#VALUE!"},""]
[null,null,{"$f":"IF(Dados!C937=\"\",\"\",Dados!C937)","v":""},{"$f":"IF(Dados!D937=\"\",\"\",Dados!D937)","v":""},{"$f":"IF(Dados!E937=\"\",\"\",Dados!E937)","v":""},{"$f":"IF(Dados!F937=\"\",\"\",Dados!F937)","v":""},{"$f":"IF(Dados!G937=\"\",\"\",Dados!G937)","v":""},{"$error":"#VALUE!"},"",null,{"$error":"#VALUE!"},"",null,{"$error":"#VALUE!"},"",null,{"$error":"#VALUE!"},""]
[null,null,{"$f":"IF(Dados!C938=\"\",\"\",Dados!C938)","v":""},{"$f":"IF(Dados!D938=\"\",\"\",Dados!D938)","v":""},{"$f":"IF(Dados!E938=\"\",\"\",Dados!E938)","v":""},{"$f":"IF(Dados!F938=\"\",\"\",Dados!F938)","v":""},{"$f":"IF(Dados!G938=\"\",\"\",Dados!G938)","v":""},{"$error":"#VALUE!"},"",null,{"$error":"#VALUE!"},"",null,{"$error":"#VALUE!"},"",null,{"$error":"#VALUE!"},""]
[null,null,{"$f":"IF(Dados!C939=\"\",\"\",Dados!C939)","v":""},{"$f":"IF(Dados!D939=\"\",\"\",Dados!D939)","v":""},{"$f":"IF(Dados!E939=\"\",\"\",Dados!E939)","v":""},{"$f":"IF(Dados!F939=\"\",\"\",Dados!F939)","v":""},{"$f":"IF(Dados!G939=\"\",\"\",Dados!G939)","v":""},{"$error":"#VALUE!"},"",null,{"$error":"#VALUE!"},"",null,{"$error":"#VALUE!"},"",null,{"$error":"#VALUE!"},""]
[null,null,{"$f":"IF(Dados!C940=\"\",\"\",Dados!C940)","v":""},{"$f":"IF(Dados!D940=\"\",\"\",Dados!D940)","v":""},{"$f":"IF(Dados!E940=\"\",\"\",Dados!E940)","v":""},{"$f":"IF(Dados!F940=\"\",\"\",Dados!F940)","v":""},{"$f":"IF(Dados!G940=\"\",\"\",Dados!G940)","v":""},{"$error":"#VALUE!"},"",null,{"$error":"#VALUE!"},"",null,{"$error":"#VALUE!"},"",null,{"$error":"#VALUE!"},""]
[null,{"$f":"B931+1","v":94},{"$f":"IF(Dados!C941=\"\",\"\",Dados!C941)","v":""},{"$f":"IF(Dados!D941=\"\",\"\",Dados!D941)","v":""},{"$f":"IF(Dados!E941=\"\",\"\",Dados!E941)","v":""},{"$f":"IF(Dados!F941=\"\",\"\",Dados!F941)","v":""},{"$f":"IF(Dados!G941=\"\",\"\",Dados!G941)","v":""},{"$error":"#VALUE!"},"",{"$f":"SUM(I941:I950)","v":0},{"$error":"#VALUE!"},"",{"$f":"SUM(L941:L950)","v":0},{"$error":"#VALUE!"},"",{"$f":"SUM(O941:O950)","v":0},{"$error":"#VALUE!"},"",{"$f":"SUM(R941:R950)","v":0}]
[null,null,{"$f":"IF(Dados!C942=\"\",\"\",Dados!C942)","v":""},{"$f":"IF(Dados!D942=\"\",\"\",Dados!D942)","v":""},{"$f":"IF(Dados!E942=\"\",\"\",Dados!E942)","v":""},{"$f":"IF(Dados!F942=\"\",\"\",Dados!F942)","v":""},{"$f":"IF(Dados!G942=\"\",\"\",Dados!G942)","v":""},{"$error":"#VALUE!"},"",null,{"$error":"#VALUE!"},"",null,{"$error":"#VALUE!"},"",null,{"$error":"#VALUE!"},""]
[null,null,{"$f":"IF(Dados!C943=\"\",\"\",Dados!C943)","v":""},{"$f":"IF(Dados!D943=\"\",\"\",Dados!D943)","v":""},{"$f":"IF(Dados!E943=\"\",\"\",Dados!E943)","v":""},{"$f":"IF(Dados!F943=\"\",\"\",Dados!F943)","v":""},{"$f":"IF(Dados!G943=\"\",\"\",Dados!G943)","v":""},{"$error":"#VALUE!"},"",null,{"$error":"#VALUE!"},"",null,{"$error":"#VALUE!"},"",null,{"$error":"#VALUE!"},""]
[null,null,{"$f":"IF(Dados!C944=\"\",\"\",Dados!C944)","v":""},{"$f":"IF(Dados!D944=\"\",\"\",Dados!D944)","v":""},{"$f":"IF(Dados!E944=\"\",\"\",Dados!E944)","v":""},{"$f":"IF(Dados!F944=\"\",\"\",Dados!F944)","v":""},{"$f":"IF(Dados!G944=\"\",\"\",Dados!G944)","v":""},{"$error":"#VALUE!"},"",null,{"$error":"#VALUE!"},"",null,{"$error":"#VALUE!"},"",null,{"$error":"#VALUE!"},""]
[null,null,{"$f":"IF(Dados!C945=\"\",\"\",Dados!C945)","v":""},{"$f":"IF(Dados!D945=\"\",\"\",Dados!D945)","v":""},{"$f":"IF(Dados!E945=\"\",\"\",Dados!E945)","v":""},{"$f":"IF(Dados!F945=\"\",\"\",Dados!F945)","v":""},{"$f":"IF(Dados!G945=\"\",\"\",Dados!G945)","v":""},{"$error":"#VALUE!"},"",null,{"$error":"#VALUE!"},"",null,{"$error":"#VALUE!"},"",null,{"$error":"#VALUE!"},""]
[null,null,{"$f":"IF(Dados!C946=\"\",\"\",Dados!C946)","v":""},{"$f":"IF(Dados!D946=\"\",\"\",Dados!D946)","v":""},{"$f":"IF(Dados!E946=\"\",\"\",Dados!E946)","v":""},{"$f":"IF(Dados!F946=\"\",\"\",Dados!F946)","v":""},{"$f":"IF(Dados!G946=\"\",\"\",Dados!G946)","v":""},{"$error":"#VALUE!"},"",null,{"$error":"#VALUE!"},"",null,{"$error":"#VALUE!"},"",null,{"$error":"#VALUE!"},""]
[null,null,{"$f":"IF(Dados!C947=\"\",\"\",Dados!C947)","v":""},{"$f":"IF(Dados!D947=\"\",\"\",Dados!D947)","v":""},{"$f":"IF(Dados!E947=\"\",\"\",Dados!E947)","v":""},{"$f":"IF(Dados!F947=\"\",\"\",Dados!F947)","v":""},{"$f":"IF(Dados!G947=\"\",\"\",Dados!G947)","v":""},{"$error":"#VALUE!"},"",null,{"$error":"#VALUE!"},"",null,{"$error":"#VALUE!"},"",null,{"$error":"#VALUE!"},""]
[null,null,{"$f":"IF(Dados!C948=\"\",\"\",Dados!C948)","v":""},{"$f":"IF(Dados!D948=\"\",\"\",Dados!D948)","v":""},{"$f":"IF(Dados!E948=\"\",\"\",Dados!E948)","v":""},{"$f":"IF(Dados!F948=\"\",\"\",Dados!F948)","v":""},{"$f":"IF(Dados!G948=\"\",\"\",Dados!G948)","v":""},{"$error":"#VALUE!"},"",null,{"$error":"#VALUE!"},"",null,{"$error":"#VALUE!"},"",null,{"$error":"#VALUE!"},""]
[null,null,{"$f":"IF(Dados!C949=\"\",\"\",Dados!C949)","v":""},{"$f":"IF(Dados!D949=\"\",\"\",Dados!D949)","v":""},{"$f":"IF(Dados!E949=\"\",\"\",Dados!E949)","v":""},{"$f":"IF(Dados!F949=\"\",\"\",Dados!F949)","v":""},{"$f":"IF(Dados!G949=\"\",\"\",Dados!G949)","v":""},{"$error":"#VALUE!"},"",null,{"$error":"#VALUE!"},"",null,{"$error":"#VALUE!"},"",null,{"$error":"#VALUE!"},""]
[null,null,{"$f":"IF(Dados!C950=\"\",\"\",Dados!C950)","v":""},{"$f":"IF(Dados!D950=\"\",\"\",Dados!D950)","v":""},{"$f":"IF(Dados!E950=\"\",\"\",Dados!E950)","v":""},{"$f":"IF(Dados!F950=\"\",\"\",Dados!F950)","v":""},{"$f":"IF(Dados!G950=\"\",\"\",Dados!G950)","v":""},{"$error":"#VALUE!"},"",null,{"$error":"#VALUE!"},"",null,{"$error":"#VALUE!"},"",null,{"$error":"#VALUE!"},""]
[null,{"$f":"B941+1","v":95},{"$f":"IF(Dados!C951=\"\",\"\",Dados!C951)","v":""},{"$f":"IF(Dados!D951=\"\",\"\",Dados!D951)","v":""},{"$f":"IF(Dados!E951=\"\",\"\",Dados!E951)","v":""},{"$f":"IF(Dados!F951=\"\",\"\",Dados!F951)","v":""},{"$f":"IF(Dados!G951=\"\",\"\",Dados!G951)","v":""},{"$error":"#VALUE!"},"",{"$f":"SUM(I951:I960)","v":0},{"$error":"#VALUE!"},"",{"$f":"SUM(L951:L960)","v":0},{"$error":"#VALUE!"},"",{"$f":"SUM(O951:O960)","v":0},{"$error":"#VALUE!"},"",{"$f":"SUM(R951:R960)","v":0}]
[null,null,{"$f":"IF(Dados!C952=\"\",\"\",Dados!C952)","v":""},{"$f":"IF(Dados!D952=\"\",\"\",Dados!D952)","v":""},{"$f":"IF(Dados!E952=\"\",\"\",Dados!E952)","v":""},{"$f":"IF(Dados!F952=\"\",\"\",Dados!F952)","v":""},{"$f":"IF(Dados!G952=\"\",\"\",Dados!G952)","v":""},{"$error":"#VALUE!"},"",null,{"$error":"#VALUE!"},"",null,{"$error":"#VALUE!"},"",null,{"$error":"#VALUE!"},""]
[null,null,{"$f":"IF(Dados!C953=\"\",\"\",Dados!C953)","v":""},{"$f":"IF(Dados!D953=\"\",\"\",Dados!D953)","v":""},{"$f":"IF(Dados!E953=\"\",\"\",Dados!E953)","v":""},{"$f":"IF(Dados!F953=\"\",\"\",Dados!F953)","v":""},{"$f":"IF(Dados!G953=\"\",\"\",Dados!G953)","v":""},{"$error":"#VALUE!"},"",null,{"$error":"#VALUE!"},"",null,{"$error":"#VALUE!"},"",null,{"$error":"#VALUE!"},""]
[null,null,{"$f":"IF(Dados!C954=\"\",\"\",Dados!C954)","v":""},{"$f":"IF(Dados!D954=\"\",\"\",Dados!D954)","v":""},{"$f":"IF(Dados!E954=\"\",\"\",Dados!E954)","v":""},{"$f":"IF(Dados!F954=\"\",\"\",Dados!F954)","v":""},{"$f":"IF(Dados!G954=\"\",\"\",Dados!G954)","v":""},{"$error":"#VALUE!"},"",null,{"$error":"#VALUE!"},"",null,{"$error":"#VALUE!"},"",null,{"$error":"#VALUE!"},""]
[null,null,{"$f":"IF(Dados!C955=\"\",\"\",Dados!C955)","v":""},{"$f":"IF(Dados!D955=\"\",\"\",Dados!D955)","v":""},{"$f":"IF(Dados!E955=\"\",\"\",Dados!E955)","v":""},{"$f":"IF(Dados!F955=\"\",\"\",Dados!F955)","v":""},{"$f":"IF(Dados!G955=\"\",\"\",Dados!G955)","v":""},{"$error":"#VALUE!"},"",null,{"$error":"#VALUE!"},"",null,{"$error":"#VALUE!"},"",null,{"$error":"#VALUE!"},""]
[null,null,{"$f":"IF(Dados!C956=\"\",\"\",Dados!C956)","v":""},{"$f":"IF(Dados!D956=\"\",\"\",Dados!D956)","v":""},{"$f":"IF(Dados!E956=\"\",\"\",Dados!E956)","v":""},{"$f":"IF(Dados!F956=\"\",\"\",Dados!F956)","v":""},{"$f":"IF(Dados!G956=\"\",\"\",Dados!G956)","v":""},{"$error":"#VALUE!"},"",null,{"$error":"#VALUE!"},"",null,{"$error":"#VALUE!"},"",null,{"$error":"#VALUE!"},""]
[null,null,{"$f":"IF(Dados!C957=\"\",\"\",Dados!C957)","v":""},{"$f":"IF(Dados!D957=\"\",\"\",Dados!D957)","v":""},{"$f":"IF(Dados!E957=\"\",\"\",Dados!E957)","v":""},{"$f":"IF(Dados!F957=\"\",\"\",Dados!F957)","v":""},{"$f":"IF(Dados!G957=\"\",\"\",Dados!G957)","v":""},{"$error":"#VALUE!"},"",null,{"$error":"#VALUE!"},"",null,{"$error":"#VALUE!"},"",null,{"$error":"#VALUE!"},""]
[null,null,{"$f":"IF(Dados!C958=\"\",\"\",Dados!C958)","v":""},{"$f":"IF(Dados!D958=\"\",\"\",Dados!D958)","v":""},{"$f":"IF(Dados!E958=\"\",\"\",Dados!E958)","v":""},{"$f":"IF(Dados!F958=\"\",\"\",Dados!F958)","v":""},{"$f":"IF(Dados!G958=\"\",\"\",Dados!G958)","v":""},{"$error":"#VALUE!"},"",null,{"$error":"#VALUE!"},"",null,{"$error":"#VALUE!"},"",null,{"$error":"#VALUE!"},""]
[null,null,{"$f":"IF(Dados!C959=\"\",\"\",Dados!C959)","v":""},{"$f":"IF(Dados!D959=\"\",\"\",Dados!D959)","v":""},{"$f":"IF(Dados!E959=\"\",\"\",Dados!E959)","v":""},{"$f":"IF(Dados!F959=\"\",\"\",Dados!F959)","v":""},{"$f":"IF(Dados!G959=\"\",\"\",Dados!G959)","v":""},{"$error":"#VALUE!"},"",null,{"$error":"#VALUE!"},"",null,{"$error":"#VALUE!"},"",null,{"$error":"#VALUE!"},""]
[null,null,{"$f":"IF(Dados!C960=\"\",\"\",Dados!C960)","v":""},{"$f":"IF(Dados!D960=\"\",\"\",Dados!D960)","v":""},{"$f":"IF(Dados!E960=\"\",\"\",Dados!E960)","v":""},{"$f":"IF(Dados!F960=\"\",\"\",Dados!F960)","v":""},{"$f":"IF(Dados!G960=\"\",\"\",Dados!G960)","v":""},{"$error":"#VALUE!"},"",null,{"$error":"#VALUE!"},"",null,{"$error":"#VALUE!"},"",null,{"$error":"#VALUE!"},""]
[null,{"$f":"B951+1","v":96},{"$f":"IF(Dados!C961=\"\",\"\",Dados!C961)","v":""},{"$f":"IF(Dados!D961=\"\",\"\",Dados!D961)","v":""},{"$f":"IF(Dados!E961=\"\",\"\",Dados!E961)","v":""},{"$f":"IF(Dados!F961=\"\",\"\",Dados!F961)","v":""},{"$f":"IF(Dados!G961=\"\",\"\",Dados!G961)","v":""},{"$error":"#VALUE!"},"",{"$f":"SUM(I961:I970)","v":0},{"$error":"#VALUE!"},"",{"$f":"SUM(L961:L970)","v":0},{"$error":"#VALUE!"},"",{"$f":"SUM(O961:O970)","v":0},{"$error":"#VALUE!"},"",{"$f":"SUM(R961:R970)","v":0}]
[null,null,{"$f":"IF(Dados!C962=\"\",\"\",Dados!C962)","v":""},{"$f":"IF(Dados!D962=\"\",\"\",Dados!D962)","v":""},{"$f":"IF(Dados!E962=\"\",\"\",Dados!E962)","v":""},{"$f":"IF(Dados!F962=\"\",\"\",Dados!F962)","v":""},{"$f":"IF(Dados!G962=\"\",\"\",Dados!G962)","v":""},{"$error":"#VALUE!"},"",null,{"$error":"#VALUE!"},"",null,{"$error":"#VALUE!"},"",null,{"$error":"#VALUE!"},""]
[null,null,{"$f":"IF(Dados!C963=\"\",\"\",Dados!C963)","v":""},{"$f":"IF(Dados!D963=\"\",\"\",Dados!D963)","v":""},{"$f":"IF(Dados!E963=\"\",\"\",Dados!E963)","v":""},{"$f":"IF(Dados!F963=\"\",\"\",Dados!F963)","v":""},{"$f":"IF(Dados!G963=\"\",\"\",Dados!G963)","v":""},{"$error":"#VALUE!"},"",null,{"$error":"#VALUE!"},"",null,{"$error":"#VALUE!"},"",null,{"$error":"#VALUE!"},""]
[null,null,{"$f":"IF(Dados!C964=\"\",\"\",Dados!C964)","v":""},{"$f":"IF(Dados!D964=\"\",\"\",Dados!D964)","v":""},{"$f":"IF(Dados!E964=\"\",\"\",Dados!E964)","v":""},{"$f":"IF(Dados!F964=\"\",\"\",Dados!F964)","v":""},{"$f":"IF(Dados!G964=\"\",\"\",Dados!G964)","v":""},{"$error":"#VALUE!"},"",null,{"$error":"#VALUE!"},"",null,{"$error":"#VALUE!"},"",null,{"$error":"#VALUE!"},""]
[null,null,{"$f":"IF(Dados!C965=\"\",\"\",Dados!C965)","v":""},{"$f":"IF(Dados!D965=\"\",\"\",Dados!D965)","v":""},{"$f":"IF(Dados!E965=\"\",\"\",Dados!E965)","v":""},{"$f":"IF(Dados!F965=\"\",\"\",Dados!F965)","v":""},{"$f":"IF(Dados!G965=\"\",\"\",Dados!G965)","v":""},{"$error":"#VALUE!"},"",null,{"$error":"#VALUE!"},"",null,{"$error":"#VALUE!"},"",null,{"$error":"#VALUE!"},""]
[null,null,{"$f":"IF(Dados!C966=\"\",\"\",Dados!C966)","v":""},{"$f":"IF(Dados!D966=\"\",\"\",Dados!D966)","v":""},{"$f":"IF(Dados!E966=\"\",\"\",Dados!E966)","v":""},{"$f":"IF(Dados!F966=\"\",\"\",Dados!F966)","v":""},{"$f":"IF(Dados!G966=\"\",\"\",Dados!G966)","v":""},{"$error":"#VALUE!"},"",null,{"$error":"#VALUE!"},"",null,{"$error":"#VALUE!"},"",null,{"$error":"#VALUE!"},""]
[null,null,{"$f":"IF(Dados!C967=\"\",\"\",Dados!C967)","v":""},{"$f":"IF(Dados!D967=\"\",\"\",Dados!D967)","v":""},{"$f":"IF(Dados!E967=\"\",\"\",Dados!E967)","v":""},{"$f":"IF(Dados!F967=\"\",\"\",Dados!F967)","v":""},{"$f":"IF(Dados!G967=\"\",\"\",Dados!G967)","v":""},{"$error":"#VALUE!"},"",null,{"$error":"#VALUE!"},"",null,{"$error":"#VALUE!"},"",null,{"$error":"#VALUE!"},""]
[null,null,{"$f":"IF(Dados!C968=\"\",\"\",Dados!C968)","v":""},{"$f":"IF(Dados!D968=\"\",\"\",Dados!D968)","v":""},{"$f":"IF(Dados!E968=\"\",\"\",Dados!E968)","v":""},{"$f":"IF(Dados!F968=\"\",\"\",Dados!F968)","v":""},{"$f":"IF(Dados!G968=\"\",\"\",Dados!G968)","v":""},{"$error":"#VALUE!"},"",null,{"$error":"#VALUE!"},"",null,{"$error":"#VALUE!"},"",null,{"$error":"#VALUE!"},""]
[null,null,{"$f":"IF(Dados!C969=\"\",\"\",Dados!C969)","v":""},{"$f":"IF(Dados!D969=\"\",\"\",Dados!D969)","v":""},{"$f":"IF(Dados!E969=\"\",\"\",Dados!E969)","v":""},{"$f":"IF(Dados!F969=\"\",\"\",Dados!F969)","v":""},{"$f":"IF(Dados!G969=\"\",\"\",Dados!G969)","v":""},{"$error":"#VALUE!"},"",null,{"$error":"#VALUE!"},"",null,{"$error":"#VALUE!"},"",null,{"$error":"#VALUE!"},""]
[null,null,{"$f":"IF(Dados!C970=\"\",\"\",Dados!C970)","v":""},{"$f":"IF(Dados!D970=\"\",\"\",Dados!D970)","v":""},{"$f":"IF(Dados!E970=\"\",\"\",Dados!E970)","v":""},{"$f":"IF(Dados!F970=\"\",\"\",Dados!F970)","v":""},{"$f":"IF(Dados!G970=\"\",\"\",Dados!G970)","v":""},{"$error":"#VALUE!"},"",null,{"$error":"#VALUE!"},"",null,{"$error":"#VALUE!"},"",null,{"$error":"#VALUE!"},""]
[null,97,{"$f":"IF(Dados!C971=\"\",\"\",Dados!C971)","v":""},{"$f":"IF(Dados!D971=\"\",\"\",Dados!D971)","v":""},{"$f":"IF(Dados!E971=\"\",\"\",Dados!E971)","v":""},{"$f":"IF(Dados!F971=\"\",\"\",Dados!F971)","v":""},{"$f":"IF(Dados!G971=\"\",\"\",Dados!G971)","v":""},{"$f":"($G971*ChIR*ChEF*ChED)/(ChBW*ChATnc)","v":{"$error":"#VALUE!"}},{"$f":"IFERROR((H971)/(VLOOKUP($F971,intervaloHQ,2,0)),\"\")","v":""},{"$f":"SUM(I971:I980)","v":0},{"$f":"($G971*AdIR*AdEF*AdED)/(AdBW*AdATnc)","v":{"$error":"#VALUE!"}},{"$f":"IFERROR((K971)/(VLOOKUP($F971,intervaloHQ,2,0)),\"\")","v":""},{"$f":"SUM(L971:L980)","v":0},{"$f":"($G971*ChIR*ChEF*ChED)/(ChBW*ChATc)","v":{"$error":"#VALUE!"}},{"$f":"IFERROR((N971)*(VLOOKUP($F971,intervaloHQ,4,0)),\"\")","v":""},{"$f":"SUM(O971:O980)","v":0},{"$f":"($G971*AdIR*AdEF*AdED)/(AdBW*AdATc)","v":{"$error":"#VALUE!"}},{"$f":"IFERROR((Q971)*(VLOOKUP($F971,intervaloHQ,4,0)),\"\")","v":""},{"$f":"SUM(R971:R980)","v":0}]
[null,null,{"$f":"IF(Dados!C972=\"\",\"\",Dados!C972)","v":""},{"$f":"IF(Dados!D972=\"\",\"\",Dados!D972)","v":""},{"$f":"IF(Dados!E972=\"\",\"\",Dados!E972)","v":""},{"$f":"IF(Dados!F972=\"\",\"\",Dados!F972)","v":""},{"$f":"IF(Dados!G972=\"\",\"\",Dados!G972)","v":""},{"$error":"#VALUE!"},"",null,{"$error":"#VALUE!"},"",null,{"$error":"#VALUE!"},"",null,{"$error":"#VALUE!"},""]
[null,null,{"$f":"IF(Dados!C973=\"\",\"\",Dados!C973)","v":""},{"$f":"IF(Dados!D973=\"\",\"\",Dados!D973)","v":""},{"$f":"IF(Dados!E973=\"\",\"\",Dados!E973)","v":""},{"$f":"IF(Dados!F973=\"\",\"\",Dados!F973)","v":""},{"$f":"IF(Dados!G973=\"\",\"\",Dados!G973)","v":""},{"$error":"#VALUE!"},"",null,{"$error":"#VALUE!"},"",null,{"$error":"#VALUE!"},"",null,{"$error":"#VALUE!"},""]
[null,null,{"$f":"IF(Dados!C974=\"\",\"\",Dados!C974)","v":""},{"$f":"IF(Dados!D974=\"\",\"\",Dados!D974)","v":""},{"$f":"IF(Dados!E974=\"\",\"\",Dados!E974)","v":""},{"$f":"IF(Dados!F974=\"\",\"\",Dados!F974)","v":""},{"$f":"IF(Dados!G974=\"\",\"\",Dados!G974)","v":""},{"$error":"#VALUE!"},"",null,{"$error":"#VALUE!"},"",null,{"$error":"#VALUE!"},"",null,{"$error":"#VALUE!"},""]
[null,null,{"$f":"IF(Dados!C975=\"\",\"\",Dados!C975)","v":""},{"$f":"IF(Dados!D975=\"\",\"\",Dados!D975)","v":""},{"$f":"IF(Dados!E975=\"\",\"\",Dados!E975)","v":""},{"$f":"IF(Dados!F975=\"\",\"\",Dados!F975)","v":""},{"$f":"IF(Dados!G975=\"\",\"\",Dados!G975)","v":""},{"$error":"#VALUE!"},"",null,{"$error":"#VALUE!"},"",null,{"$error":"#VALUE!"},"",null,{"$error":"#VALUE!"},""]
[null,null,{"$f":"IF(Dados!C976=\"\",\"\",Dados!C976)","v":""},{"$f":"IF(Dados!D976=\"\",\"\",Dados!D976)","v":""},{"$f":"IF(Dados!E976=\"\",\"\",Dados!E976)","v":""},{"$f":"IF(Dados!F976=\"\",\"\",Dados!F976)","v":""},{"$f":"IF(Dados!G976=\"\",\"\",Dados!G976)","v":""},{"$error":"#VALUE!"},"",null,{"$error":"#VALUE!"},"",null,{"$error":"#VALUE!"},"",null,{"$error":"#VALUE!"},""]
[null,null,{"$f":"IF(Dados!C977=\"\",\"\",Dados!C977)","v":""},{"$f":"IF(Dados!D977=\"\",\"\",Dados!D977)","v":""},{"$f":"IF(Dados!E977=\"\",\"\",Dados!E977)","v":""},{"$f":"IF(Dados!F977=\"\",\"\",Dados!F977)","v":""},{"$f":"IF(Dados!G977=\"\",\"\",Dados!G977)","v":""},{"$error":"#VALUE!"},"",null,{"$error":"#VALUE!"},"",null,{"$error":"#VALUE!"},"",null,{"$error":"#VALUE!"},""]
[null,null,{"$f":"IF(Dados!C978=\"\",\"\",Dados!C978)","v":""},{"$f":"IF(Dados!D978=\"\",\"\",Dados!D978)","v":""},{"$f":"IF(Dados!E978=\"\",\"\",Dados!E978)","v":""},{"$f":"IF(Dados!F978=\"\",\"\",Dados!F978)","v":""},{"$f":"IF(Dados!G978=\"\",\"\",Dados!G978)","v":""},{"$error":"#VALUE!"},"",null,{"$error":"#VALUE!"},"",null,{"$error":"#VALUE!"},"",null,{"$error":"#VALUE!"},""]
[null,null,{"$f":"IF(Dados!C979=\"\",\"\",Dados!C979)","v":""},{"$f":"IF(Dados!D979=\"\",\"\",Dados!D979)","v":""},{"$f":"IF(Dados!E979=\"\",\"\",Dados!E979)","v":""},{"$f":"IF(Dados!F979=\"\",\"\",Dados!F979)","v":""},{"$f":"IF(Dados!G979=\"\",\"\",Dados!G979)","v":""},{"$error":"#VALUE!"},"",null,{"$error":"#VALUE!"},"",null,{"$error":"#VALUE!"},"",null,{"$error":"#VALUE!"},""]
[null,null,{"$f":"IF(Dados!C980=\"\",\"\",Dados!C980)","v":""},{"$f":"IF(Dados!D980=\"\",\"\",Dados!D980)","v":""},{"$f":"IF(Dados!E980=\"\",\"\",Dados!E980)","v":""},{"$f":"IF(Dados!F980=\"\",\"\",Dados!F980)","v":""},{"$f":"IF(Dados!G980=\"\",\"\",Dados!G980)","v":""},{"$error":"#VALUE!"},"",null,{"$error":"#VALUE!"},"",null,{"$error":"#VALUE!"},"",null,{"$error":"#VALUE!"},""]
[null,98,{"$f":"IF(Dados!C981=\"\",\"\",Dados!C981)","v":""},{"$f":"IF(Dados!D981=\"\",\"\",Dados!D981)","v":""},{"$f":"IF(Dados!E981=\"\",\"\",Dados!E981)","v":""},{"$f":"IF(Dados!F981=\"\",\"\",Dados!F981)","v":""},{"$f":"IF(Dados!G981=\"\",\"\",Dados!G981)","v":""},{"$error":"#VALUE!"},"",{"$f":"SUM(I981:I990)","v":0},{"$error":"#VALUE!"},"",{"$f":"SUM(L981:L990)","v":0},{"$error":"#VALUE!"},"",{"$f":"SUM(O981:O990)","v":0},{"$error":"#VALUE!"},"",{"$f":"SUM(R981:R990)","v":0}]
[null,null,{"$f":"IF(Dados!C982=\"\",\"\",Dados!C982)","v":""},{"$f":"IF(Dados!D982=\"\",\"\",Dados!D982)","v":""},{"$f":"IF(Dados!E982=\"\",\"\",Dados!E982)","v":""},{"$f":"IF(Dados!F982=\"\",\"\",Dados!F982)","v":""},{"$f":"IF(Dados!G982=\"\",\"\",Dados!G982)","v":""},{"$error":"#VALUE!"},"",null,{"$error":"#VALUE!"},"",null,{"$error":"#VALUE!"},"",null,{"$error":"#VALUE!"},""]
[null,null,{"$f":"IF(Dados!C983=\"\",\"\",Dados!C983)","v":""},{"$f":"IF(Dados!D983=\"\",\"\",Dados!D983)","v":""},{"$f":"IF(Dados!E983=\"\",\"\",Dados!E983)","v":""},{"$f":"IF(Dados!F983=\"\",\"\",Dados!F983)","v":""},{"$f":"IF(Dados!G983=\"\",\"\",Dados!G983)","v":""},{"$error":"#VALUE!"},"",null,{"$error":"#VALUE!"},"",null,{"$error":"#VALUE!"},"",null,{"$error":"#VALUE!"},""]
[null,null,{"$f":"IF(Dados!C984=\"\",\"\",Dados!C984)","v":""},{"$f":"IF(Dados!D984=\"\",\"\",Dados!D984)","v":""},{"$f":"IF(Dados!E984=\"\",\"\",Dados!E984)","v":""},{"$f":"IF(Dados!F984=\"\",\"\",Dados!F984)","v":""},{"$f":"IF(Dados!G984=\"\",\"\",Dados!G984)","v":""},{"$error":"#VALUE!"},"",null,{"$error":"#VALUE!"},"",null,{"$error":"#VALUE!"},"",null,{"$error":"#VALUE!"},""]
[null,null,{"$f":"IF(Dados!C985=\"\",\"\",Dados!C985)","v":""},{"$f":"IF(Dados!D985=\"\",\"\",Dados!D985)","v":""},{"$f":"IF(Dados!E985=\"\",\"\",Dados!E985)","v":""},{"$f":"IF(Dados!F985=\"\",\"\",Dados!F985)","v":""},{"$f":"IF(Dados!G985=\"\",\"\",Dados!G985)","v":""},{"$error":"#VALUE!"},"",null,{"$error":"#VALUE!"},"",null,{"$error":"#VALUE!"},"",null,{"$error":"#VALUE!"},""]
[null,null,{"$f":"IF(Dados!C986=\"\",\"\",Dados!C986)","v":""},{"$f":"IF(Dados!D986=\"\",\"\",Dados!D986)","v":""},{"$f":"IF(Dados!E986=\"\",\"\",Dados!E986)","v":""},{"$f":"IF(Dados!F986=\"\",\"\",Dados!F986)","v":""},{"$f":"IF(Dados!G986=\"\",\"\",Dados!G986)","v":""},{"$error":"#VALUE!"},"",null,{"$error":"#VALUE!"},"",null,{"$error":"#VALUE!"},"",null,{"$error":"#VALUE!"},""]
[null,null,{"$f":"IF(Dados!C987=\"\",\"\",Dados!C987)","v":""},{"$f":"IF(Dados!D987=\"\",\"\",Dados!D987)","v":""},{"$f":"IF(Dados!E987=\"\",\"\",Dados!E987)","v":""},{"$f":"IF(Dados!F987=\"\",\"\",Dados!F987)","v":""},{"$f":"IF(Dados!G987=\"\",\"\",Dados!G987)","v":""},{"$error":"#VALUE!"},"",null,{"$error":"#VALUE!"},"",null,{"$error":"#VALUE!"},"",null,{"$error":"#VALUE!"},""]
[null,null,{"$f":"IF(Dados!C988=\"\",\"\",Dados!C988)","v":""},{"$f":"IF(Dados!D988=\"\",\"\",Dados!D988)","v":""},{"$f":"IF(Dados!E988=\"\",\"\",Dados!E988)","v":""},{"$f":"IF(Dados!F988=\"\",\"\",Dados!F988)","v":""},{"$f":"IF(Dados!G988=\"\",\"\",Dados!G988)","v":""},{"$error":"#VALUE!"},"",null,{"$error":"#VALUE!"},"",null,{"$error":"#VALUE!"},"",null,{"$error":"#VALUE!"},""]
[null,null,{"$f":"IF(Dados!C989=\"\",\"\",Dados!C989)","v":""},{"$f":"IF(Dados!D989=\"\",\"\",Dados!D989)","v":""},{"$f":"IF(Dados!E989=\"\",\"\",Dados!E989)","v":""},{"$f":"IF(Dados!F989=\"\",\"\",Dados!F989)","v":""},{"$f":"IF(Dados!G989=\"\",\"\",Dados!G989)","v":""},{"$error":"#VALUE!"},"",null,{"$error":"#VALUE!"},"",null,{"$error":"#VALUE!"},"",null,{"$error":"#VALUE!"},""]
[null,null,{"$f":"IF(Dados!C990=\"\",\"\",Dados!C990)","v":""},{"$f":"IF(Dados!D990=\"\",\"\",Dados!D990)","v":""},{"$f":"IF(Dados!E990=\"\",\"\",Dados!E990)","v":""},{"$f":"IF(Dados!F990=\"\",\"\",Dados!F990)","v":""},{"$f":"IF(Dados!G990=\"\",\"\",Dados!G990)","v":""},{"$error":"#VALUE!"},"",null,{"$error":"#VALUE!"},"",null,{"$error":"#VALUE!"},"",null,{"$error":"#VALUE!"},""]
[null,99,{"$f":"IF(Dados!C991=\"\",\"\",Dados!C991)","v":""},{"$f":"IF(Dados!D991=\"\",\"\",Dados!D991)","v":""},{"$f":"IF(Dados!E991=\"\",\"\",Dados!E991)","v":""},{"$f":"IF(Dados!F991=\"\",\"\",Dados!F991)","v":""},{"$f":"IF(Dados!G991=\"\",\"\",Dados!G991)","v":""},{"$error":"#VALUE!"},"",{"$f":"SUM(I991:I1000)","v":0},{"$error":"#VALUE!"},"",{"$f":"SUM(L991:L1000)","v":0},{"$error":"#VALUE!"},"",{"$f":"SUM(O991:O1000)","v":0},{"$error":"#VALUE!"},"",{"$f":"SUM(R991:R1000)","v":0}]
[null,null,{"$f":"IF(Dados!C992=\"\",\"\",Dados!C992)","v":""},{"$f":"IF(Dados!D992=\"\",\"\",Dados!D992)","v":""},{"$f":"IF(Dados!E992=\"\",\"\",Dados!E992)","v":""},{"$f":"IF(Dados!F992=\"\",\"\",Dados!F992)","v":""},{"$f":"IF(Dados!G992=\"\",\"\",Dados!G992)","v":""},{"$error":"#VALUE!"},"",null,{"$error":"#VALUE!"},"",null,{"$error":"#VALUE!"},"",null,{"$error":"#VALUE!"},""]
[null,null,{"$f":"IF(Dados!C993=\"\",\"\",Dados!C993)","v":""},{"$f":"IF(Dados!D993=\"\",\"\",Dados!D993)","v":""},{"$f":"IF(Dados!E993=\"\",\"\",Dados!E993)","v":""},{"$f":"IF(Dados!F993=\"\",\"\",Dados!F993)","v":""},{"$f":"IF(Dados!G993=\"\",\"\",Dados!G993)","v":""},{"$error":"#VALUE!"},"",null,{"$error":"#VALUE!"},"",null,{"$error":"#VALUE!"},"",null,{"$error":"#VALUE!"},""]
[null,null,{"$f":"IF(Dados!C994=\"\",\"\",Dados!C994)","v":""},{"$f":"IF(Dados!D994=\"\",\"\",Dados!D994)","v":""},{"$f":"IF(Dados!E994=\"\",\"\",Dados!E994)","v":""},{"$f":"IF(Dados!F994=\"\",\"\",Dados!F994)","v":""},{"$f":"IF(Dados!G994=\"\",\"\",Dados!G994)","v":""},{"$error":"#VALUE!"},"",null,{"$error":"#VALUE!"},"",null,{"$error":"#VALUE!"},"",null,{"$error":"#VALUE!"},""]
[null,null,{"$f":"IF(Dados!C995=\"\",\"\",Dados!C995)","v":""},{"$f":"IF(Dados!D995=\"\",\"\",Dados!D995)","v":""},{"$f":"IF(Dados!E995=\"\",\"\",Dados!E995)","v":""},{"$f":"IF(Dados!F995=\"\",\"\",Dados!F995)","v":""},{"$f":"IF(Dados!G995=\"\",\"\",Dados!G995)","v":""},{"$error":"#VALUE!"},"",null,{"$error":"#VALUE!"},"",null,{"$error":"#VALUE!"},"",null,{"$error":"#VALUE!"},""]
[null,null,{"$f":"IF(Dados!C996=\"\",\"\",Dados!C996)","v":""},{"$f":"IF(Dados!D996=\"\",\"\",Dados!D996)","v":""},{"$f":"IF(Dados!E996=\"\",\"\",Dados!E996)","v":""},{"$f":"IF(Dados!F996=\"\",\"\",Dados!F996)","v":""},{"$f":"IF(Dados!G996=\"\",\"\",Dados!G996)","v":""},{"$error":"#VALUE!"},"",null,{"$error":"#VALUE!"},"",null,{"$error":"#VALUE!"},"",null,{"$error":"#VALUE!"},""]
[null,null,{"$f":"IF(Dados!C997=\"\",\"\",Dados!C997)","v":""},{"$f":"IF(Dados!D997=\"\",\"\",Dados!D997)","v":""},{"$f":"IF(Dados!E997=\"\",\"\",Dados!E997)","v":""},{"$f":"IF(Dados!F997=\"\",\"\",Dados!F997)","v":""},{"$f":"IF(Dados!G997=\"\",\"\",Dados!G997)","v":""},{"$error":"#VALUE!"},"",null,{"$error":"#VALUE!"},"",null,{"$error":"#VALUE!"},"",null,{"$error":"#VALUE!"},""]
[null,null,{"$f":"IF(Dados!C998=\"\",\"\",Dados!C998)","v":""},{"$f":"IF(Dados!D998=\"\",\"\",Dados!D998)","v":""},{"$f":"IF(Dados!E998=\"\",\"\",Dados!E998)","v":""},{"$f":"IF(Dados!F998=\"\",\"\",Dados!F998)","v":""},{"$f":"IF(Dados!G998=\"\",\"\",Dados!G998)","v":""},{"$error":"#VALUE!"},"",null,{"$error":"#VALUE!"},"",null,{"$error":"#VALUE!"},"",null,{"$error":"#VALUE!"},""]
[null,null,{"$f":"IF(Dados!C999=\"\",\"\",Dados!C999)","v":""},{"$f":"IF(Dados!D999=\"\",\"\",Dados!D999)","v":""},{"$f":"IF(Dados!E999=\"\",\"\",Dados!E999)","v":""},{"$f":"IF(Dados!F999=\"\",\"\",Dados!F999)","v":""},{"$f":"IF(Dados!G999=\"\",\"\",Dados!G999)","v":""},{"$error":"#VALUE!"},"",null,{"$error":"#VALUE!"},"",null,{"$error":"#VALUE!"},"",null,{"$error":"#VALUE!"},""]
[null,null,{"$f":"IF(Dados!C1000=\"\",\"\",Dados!C1000)","v":""},{"$f":"IF(Dados!D1000=\"\",\"\",Dados!D1000)","v":""},{"$f":"IF(Dados!E1000=\"\",\"\",Dados!E1000)","v":""},{"$f":"IF(Dados!F1000=\"\",\"\",Dados!F1000)","v":""},{"$f":"IF(Dados!G1000=\"\",\"\",Dados!G1000)","v":""},{"$error":"#VALUE!"},"",null,{"$error":"#VALUE!"},"",null,{"$error":"#VALUE!"},"",null,{"$error":"#VALUE!"},""]
[null,100,{"$f":"IF(Dados!C1001=\"\",\"\",Dados!C1001)","v":""},{"$f":"IF(Dados!D1001=\"\",\"\",Dados!D1001)","v":""},{"$f":"IF(Dados!E1001=\"\",\"\",Dados!E1001)","v":""},{"$f":"IF(Dados!F1001=\"\",\"\",Dados!F1001)","v":""},{"$f":"IF(Dados!G1001=\"\",\"\",Dados!G1001)","v":""},{"$error":"#VALUE!"},"",{"$f":"SUM(I1001:I1010)","v":0},{"$error":"#VALUE!"},"",{"$f":"SUM(L1001:L1010)","v":0},{"$error":"#VALUE!"},"",{"$f":"SUM(O1001:O1010)","v":0},{"$error":"#VALUE!"},"",{"$f":"SUM(R1001:R1010)","v":0}]
[null,null,{"$f":"IF(Dados!C1002=\"\",\"\",Dados!C1002)","v":""},{"$f":"IF(Dados!D1002=\"\",\"\",Dados!D1002)","v":""},{"$f":"IF(Dados!E1002=\"\",\"\",Dados!E1002)","v":""},{"$f":"IF(Dados!F1002=\"\",\"\",Dados!F1002)","v":""},{"$f":"IF(Dados!G1002=\"\",\"\",Dados!G1002)","v":""},{"$error":"#VALUE!"},"",null,{"$error":"#VALUE!"},"",null,{"$error":"#VALUE!"},"",null,{"$error":"#VALUE!"},""]
[null,null,{"$f":"IF(Dados!C1003=\"\",\"\",Dados!C1003)","v":""},{"$f":"IF(Dados!D1003=\"\",\"\",Dados!D1003)","v":""},{"$f":"IF(Dados!E1003=\"\",\"\",Dados!E1003)","v":""},{"$f":"IF(Dados!F1003=\"\",\"\",Dados!F1003)","v":""},{"$f":"IF(Dados!G1003=\"\",\"\",Dados!G1003)","v":""},{"$error":"#VALUE!"},"",null,{"$error":"#VALUE!"},"",null,{"$error":"#VALUE!"},"",null,{"$error":"#VALUE!"},""]
[null,null,{"$f":"IF(Dados!C1004=\"\",\"\",Dados!C1004)","v":""},{"$f":"IF(Dados!D1004=\"\",\"\",Dados!D1004)","v":""},{"$f":"IF(Dados!E1004=\"\",\"\",Dados!E1004)","v":""},{"$f":"IF(Dados!F1004=\"\",\"\",Dados!F1004)","v":""},{"$f":"IF(Dados!G1004=\"\",\"\",Dados!G1004)","v":""},{"$error":"#VALUE!"},"",null,{"$error":"#VALUE!"},"",null,{"$error":"#VALUE!"},"",null,{"$error":"#VALUE!"},""]
[null,null,{"$f":"IF(Dados!C1005=\"\",\"\",Dados!C1005)","v":""},{"$f":"IF(Dados!D1005=\"\",\"\",Dados!D1005)","v":""},{"$f":"IF(Dados!E1005=\"\",\"\",Dados!E1005)","v":""},{"$f":"IF(Dados!F1005=\"\",\"\",Dados!F1005)","v":""},{"$f":"IF(Dados!G1005=\"\",\"\",Dados!G1005)","v":""},{"$error":"#VALUE!"},"",null,{"$error":"#VALUE!"},"",null,{"$error":"#VALUE!"},"",null,{"$error":"#VALUE!"},""]
[null,null,{"$f":"IF(Dados!C1006=\"\",\"\",Dados!C1006)","v":""},{"$f":"IF(Dados!D1006=\"\",\"\",Dados!D1006)","v":""},{"$f":"IF(Dados!E1006=\"\",\"\",Dados!E1006)","v":""},{"$f":"IF(Dados!F1006=\"\",\"\",Dados!F1006)","v":""},{"$f":"IF(Dados!G1006=\"\",\"\",Dados!G1006)","v":""},{"$error":"#VALUE!"},"",null,{"$error":"#VALUE!"},"",null,{"$error":"#VALUE!"},"",null,{"$error":"#VALUE!"},""]
[null,null,{"$f":"IF(Dados!C1007=\"\",\"\",Dados!C1007)","v":""},{"$f":"IF(Dados!D1007=\"\",\"\",Dados!D1007)","v":""},{"$f":"IF(Dados!E1007=\"\",\"\",Dados!E1007)","v":""},{"$f":"IF(Dados!F1007=\"\",\"\",Dados!F1007)","v":""},{"$f":"IF(Dados!G1007=\"\",\"\",Dados!G1007)","v":""},{"$error":"#VALUE!"},"",null,{"$error":"#VALUE!"},"",null,{"$error":"#VALUE!"},"",null,{"$error":"#VALUE!"},""]
[null,null,{"$f":"IF(Dados!C1008=\"\",\"\",Dados!C1008)","v":""},{"$f":"IF(Dados!D1008=\"\",\"\",Dados!D1008)","v":""},{"$f":"IF(Dados!E1008=\"\",\"\",Dados!E1008)","v":""},{"$f":"IF(Dados!F1008=\"\",\"\",Dados!F1008)","v":""},{"$f":"IF(Dados!G1008=\"\",\"\",Dados!G1008)","v":""},{"$error":"#VALUE!"},"",null,{"$error":"#VALUE!"},"",null,{"$error":"#VALUE!"},"",null,{"$error":"#VALUE!"},""]
[null,null,{"$f":"IF(Dados!C1009=\"\",\"\",Dados!C1009)","v":""},{"$f":"IF(Dados!D1009=\"\",\"\",Dados!D1009)","v":""},{"$f":"IF(Dados!E1009=\"\",\"\",Dados!E1009)","v":""},{"$f":"IF(Dados!F1009=\"\",\"\",Dados!F1009)","v":""},{"$f":"IF(Dados!G1009=\"\",\"\",Dados!G1009)","v":""},{"$error":"#VALUE!"},"",null,{"$error":"#VALUE!"},"",null,{"$error":"#VALUE!"},"",null,{"$error":"#VALUE!"},""]
[null,null,{"$f":"IF(Dados!C1010=\"\",\"\",Dados!C1010)","v":""},{"$f":"IF(Dados!D1010=\"\",\"\",Dados!D1010)","v":""},{"$f":"IF(Dados!E1010=\"\",\"\",Dados!E1010)","v":""},{"$f":"IF(Dados!F1010=\"\",\"\",Dados!F1010)","v":""},{"$f":"IF(Dados!G1010=\"\",\"\",Dados!G1010)","v":""},{"$error":"#VALUE!"},"",null,{"$error":"#VALUE!"},"",null,{"$error":"#VALUE!"},"",null,{"$error":"#VALUE!"},""]